{"text_format":"1","workbook":"xlsx","n_sheets":3,"sheets":["Disclaimer","Approach Earthwork Summary","Approach Earthwork Calculations"],"not_rendered":{"charts":0,"images":1,"macros":1,"external_links":0,"defined_names":0,"comments":1,"pivot_tables":0},"unopened":[],"bounds":{"document_bytes":16777216,"sheet_cells":100000,"rows_first":2000,"rows_last":500,"rows_between":2000,"halvings":0,"cell_chars":16384,"cell_head_chars":4096},"cells_cut":0,"cells_raw":0,"read":"whole","date_system":"1900"}

{"sheet":"Disclaimer","index":0,"n_rows":22,"n_cols":11,"rows_kept":22,"cut":false,"hidden":false,"merged":[[9,3,10,8],[11,3,25,8],[21,10,25,14]]}
[]
[]
[]
[]
[]
[]
[]
[]
[]
[null,null,null,"Disclaimer"]
[]
[null,null,null,"This Design Calculation Spreadsheet is provided \"as-is\" without warranty of any kind. The Montana Department of Transportation makes no representations or warranties whatsoever with respect to the accuracy or completeness of this tool and assumes no responsibility for the suitability of this tool for a particular purpose; and MDT will not be liable for any damages incurred as a result of errors in this tool. \n\nBy selecting Accept, you are agreeing to these terms and conditions."]
[]
[]
[]
[]
[]
[]
[]
[]
[]
[null,null,null,null,null,null,null,null,null,null,"WARNING: \nFor the tool to work properly, please make sure you click on \"Enable Content/Macros\" if the security warning appears."]

{"sheet":"Approach Earthwork Summary","index":1,"n_rows":111,"n_cols":3,"rows_kept":111,"cut":false,"hidden":true,"merged":[[0,0,0,2],[3,0,3,2],[8,0,8,2],[13,0,13,2],[18,0,18,2],[23,0,23,2],[28,0,28,2],[33,0,33,2],[38,0,38,2],[43,0,43,2],[48,0,48,2],[53,0,53,2],[58,0,58,2],[63,0,63,2],[68,0,68,2],[98,0,98,2],[103,0,103,2],[108,0,108,2],[73,0,73,2],[78,0,78,2],[83,0,83,2],[88,0,88,2],[93,0,93,2]]}
["EARTHWORK SUMMARY"]
["Total Unadjusted Embankment Quantity =",{"$f":"SUM('Approach Earthwork Calculations'!K7:K22)","v":51},"cyd"]
["Total Adjusted Embankment Quantity =",{"$f":"SUM('Approach Earthwork Calculations'!M7:M22)","v":66},"cyd"]
[{"$f":"'Approach Earthwork Calculations'!A7","v":"Station 10+00 RT."}]
["Total Unadjusted Excavation Quantity =",{"$f":"SUM('Approach Earthwork Calculations'!H7:H22)","v":1},"cyd"]
["Total Adjusted Excavation Quantity =",{"$f":"SUM('Approach Earthwork Calculations'!J7:J22)","v":1},"cyd"]
["Total Unadjusted Embankment Quantity =",{"$f":"SUM('Approach Earthwork Calculations'!K23:K36)","v":1273},"cyd"]
["Total Adjusted Embankment Quantity =",{"$f":"SUM('Approach Earthwork Calculations'!M23:M36)","v":1655},"cyd"]
[{"$f":"'Approach Earthwork Calculations'!A23","v":"Station 20+00 RT."}]
["Total Unadjusted Excavation Quantity =",{"$f":"SUM('Approach Earthwork Calculations'!H23:H36)","v":295},"cyd"]
["Total Adjusted Excavation Quantity =",{"$f":"SUM('Approach Earthwork Calculations'!J23:J36)","v":295},"cyd"]
["Total Unadjusted Embankment Quantity =",{"$f":"SUM('Approach Earthwork Calculations'!K37:K58)","v":87},"cyd"]
["Total Adjusted Embankment Quantity =",{"$f":"SUM('Approach Earthwork Calculations'!M37:M58)","v":104},"cyd"]
[{"$f":"'Approach Earthwork Calculations'!A37","v":"Station 30+00 RT."}]
["Total Unadjusted Excavation Quantity =",{"$f":"SUM('Approach Earthwork Calculations'!H37:H58)","v":25},"cyd"]
["Total Adjusted Excavation Quantity =",{"$f":"SUM('Approach Earthwork Calculations'!J37:J58)","v":25},"cyd"]
["Total Unadjusted Embankment Quantity =",{"$f":"SUM('Approach Earthwork Calculations'!K59:K74)","v":49},"cyd"]
["Total Adjusted Embankment Quantity =",{"$f":"SUM('Approach Earthwork Calculations'!M59:M74)","v":59},"cyd"]
[{"$f":"'Approach Earthwork Calculations'!A59","v":"Station 40+00 RT."}]
["Total Unadjusted Excavation Quantity =",{"$f":"SUM('Approach Earthwork Calculations'!H59:H74)","v":22},"cyd"]
["Total Adjusted Excavation Quantity =",{"$f":"SUM('Approach Earthwork Calculations'!J59:J74)","v":22},"cyd"]
["Total Unadjusted Embankment Quantity =",{"$f":"SUM('Approach Earthwork Calculations'!K75:K90)","v":44},"cyd"]
["Total Adjusted Embankment Quantity =",{"$f":"SUM('Approach Earthwork Calculations'!M75:M90)","v":53},"cyd"]
[{"$f":"'Approach Earthwork Calculations'!A75","v":"Station 40+00 RT."}]
["Total Unadjusted Excavation Quantity =",{"$f":"SUM('Approach Earthwork Calculations'!H75:H90)","v":8},"cyd"]
["Total Adjusted Excavation Quantity =",{"$f":"SUM('Approach Earthwork Calculations'!J75:J90)","v":8},"cyd"]
["Total Unadjusted Embankment Quantity =",{"$f":"SUM('Approach Earthwork Calculations'!K91:K106)","v":33},"cyd"]
["Total Adjusted Embankment Quantity =",{"$f":"SUM('Approach Earthwork Calculations'!M91:M106)","v":39},"cyd"]
[{"$f":"'Approach Earthwork Calculations'!A91","v":"Station 40+00 RT."}]
["Total Unadjusted Excavation Quantity =",{"$f":"SUM('Approach Earthwork Calculations'!H91:H106)","v":9},"cyd"]
["Total Adjusted Excavation Quantity =",{"$f":"SUM('Approach Earthwork Calculations'!J91:J106)","v":9},"cyd"]
["Total Unadjusted Embankment Quantity =",{"$f":"SUM('Approach Earthwork Calculations'!K107:K122)","v":30},"cyd"]
["Total Adjusted Embankment Quantity =",{"$f":"SUM('Approach Earthwork Calculations'!M107:M122)","v":36},"cyd"]
[{"$f":"'Approach Earthwork Calculations'!A107","v":"Station 40+00 RT."}]
["Total Unadjusted Excavation Quantity =",{"$f":"SUM('Approach Earthwork Calculations'!H107:H122)","v":8},"cyd"]
["Total Adjusted Excavation Quantity =",{"$f":"SUM('Approach Earthwork Calculations'!J107:J122)","v":8},"cyd"]
["Total Unadjusted Embankment Quantity =",{"$f":"SUM('Approach Earthwork Calculations'!K123:K138)","v":207},"cyd"]
["Total Adjusted Embankment Quantity =",{"$f":"SUM('Approach Earthwork Calculations'!M123:M138)","v":249},"cyd"]
[{"$f":"'Approach Earthwork Calculations'!A123","v":"Station 40+00 RT."}]
["Total Unadjusted Excavation Quantity =",{"$f":"SUM('Approach Earthwork Calculations'!H123:H138)","v":20},"cyd"]
["Total Adjusted Excavation Quantity =",{"$f":"SUM('Approach Earthwork Calculations'!J123:J138)","v":20},"cyd"]
["Total Unadjusted Embankment Quantity =",{"$f":"SUM('Approach Earthwork Calculations'!K139:K154)","v":42},"cyd"]
["Total Adjusted Embankment Quantity =",{"$f":"SUM('Approach Earthwork Calculations'!M139:M154)","v":50},"cyd"]
[{"$f":"'Approach Earthwork Calculations'!A139","v":"Station 40+00 RT."}]
["Total Unadjusted Excavation Quantity =",{"$f":"SUM('Approach Earthwork Calculations'!H139:H154)","v":14},"cyd"]
["Total Adjusted Excavation Quantity =",{"$f":"SUM('Approach Earthwork Calculations'!J139:J154)","v":14},"cyd"]
["Total Unadjusted Embankment Quantity =",{"$f":"SUM('Approach Earthwork Calculations'!K155:K170)","v":39},"cyd"]
["Total Adjusted Embankment Quantity =",{"$f":"SUM('Approach Earthwork Calculations'!M155:M170)","v":47},"cyd"]
[{"$f":"'Approach Earthwork Calculations'!A155","v":"Station 40+00 RT."}]
["Total Unadjusted Excavation Quantity =",{"$f":"SUM('Approach Earthwork Calculations'!H155:H170)","v":9},"cyd"]
["Total Adjusted Excavation Quantity =",{"$f":"SUM('Approach Earthwork Calculations'!J155:J170)","v":9},"cyd"]
["Total Unadjusted Embankment Quantity =",{"$f":"SUM('Approach Earthwork Calculations'!K171:K180)","v":34},"cyd"]
["Total Adjusted Embankment Quantity =",{"$f":"SUM('Approach Earthwork Calculations'!M171:M180)","v":41},"cyd"]
[{"$f":"'Approach Earthwork Calculations'!A171","v":"Station 40+00 RT."}]
["Total Unadjusted Excavation Quantity =",{"$f":"SUM('Approach Earthwork Calculations'!H171:H180)","v":14},"cyd"]
["Total Adjusted Excavation Quantity =",{"$f":"SUM('Approach Earthwork Calculations'!J171:J180)","v":14},"cyd"]
["Total Unadjusted Embankment Quantity =",{"$f":"SUM('Approach Earthwork Calculations'!K181:K190)","v":42},"cyd"]
["Total Adjusted Embankment Quantity =",{"$f":"SUM('Approach Earthwork Calculations'!M181:M190)","v":51},"cyd"]
[{"$f":"'Approach Earthwork Calculations'!A181","v":"Station 40+00 RT."}]
["Total Unadjusted Excavation Quantity =",{"$f":"SUM('Approach Earthwork Calculations'!H181:H190)","v":0},"cyd"]
["Total Adjusted Excavation Quantity =",{"$f":"SUM('Approach Earthwork Calculations'!J181:J190)","v":0},"cyd"]
["Total Unadjusted Embankment Quantity =",{"$f":"SUM('Approach Earthwork Calculations'!K191:K202)","v":53},"cyd"]
["Total Adjusted Embankment Quantity =",{"$f":"SUM('Approach Earthwork Calculations'!M191:M202)","v":63},"cyd"]
[{"$f":"'Approach Earthwork Calculations'!A191","v":"Station 40+00 RT."}]
["Total Unadjusted Excavation Quantity =",{"$f":"SUM('Approach Earthwork Calculations'!H191:H202)","v":4},"cyd"]
["Total Adjusted Excavation Quantity =",{"$f":"SUM('Approach Earthwork Calculations'!J191:J202)","v":4},"cyd"]
["Total Unadjusted Embankment Quantity =",{"$f":"SUM('Approach Earthwork Calculations'!K203:K216)","v":38},"cyd"]
["Total Adjusted Embankment Quantity =",{"$f":"SUM('Approach Earthwork Calculations'!M203:M216)","v":45},"cyd"]
[{"$f":"'Approach Earthwork Calculations'!A203","v":"Station 40+00 RT."}]
["Total Unadjusted Excavation Quantity =",{"$f":"SUM('Approach Earthwork Calculations'!H203:H216)","v":14},"cyd"]
["Total Adjusted Excavation Quantity =",{"$f":"SUM('Approach Earthwork Calculations'!J203:J216)","v":14},"cyd"]
["Total Unadjusted Embankment Quantity =",{"$f":"SUM('Approach Earthwork Calculations'!K217:K226)","v":59},"cyd"]
["Total Adjusted Embankment Quantity =",{"$f":"SUM('Approach Earthwork Calculations'!M217:M226)","v":71},"cyd"]
[{"$f":"'Approach Earthwork Calculations'!A217","v":"Station 40+00 RT."}]
["Total Unadjusted Excavation Quantity =",{"$f":"SUM('Approach Earthwork Calculations'!H217:H226)","v":12},"cyd"]
["Total Adjusted Excavation Quantity =",{"$f":"SUM('Approach Earthwork Calculations'!J217:J226)","v":12},"cyd"]
["Total Unadjusted Embankment Quantity =",{"$f":"SUM('Approach Earthwork Calculations'!K227:K242)","v":61},"cyd"]
["Total Adjusted Embankment Quantity =",{"$f":"SUM('Approach Earthwork Calculations'!M227:M242)","v":73},"cyd"]
[{"$f":"'Approach Earthwork Calculations'!A227","v":"Station 40+00 RT."}]
["Total Unadjusted Excavation Quantity =",{"$f":"SUM('Approach Earthwork Calculations'!H227:H242)","v":30},"cyd"]
["Total Adjusted Excavation Quantity =",{"$f":"SUM('Approach Earthwork Calculations'!J227:J242)","v":30},"cyd"]
["Total Unadjusted Embankment Quantity =",{"$f":"SUM('Approach Earthwork Calculations'!K243:K258)","v":28},"cyd"]
["Total Adjusted Embankment Quantity =",{"$f":"SUM('Approach Earthwork Calculations'!M243:M258)","v":33},"cyd"]
[{"$f":"'Approach Earthwork Calculations'!A243","v":"Station 40+00 RT."}]
["Total Unadjusted Excavation Quantity =",{"$f":"SUM('Approach Earthwork Calculations'!H243:H258)","v":38},"cyd"]
["Total Adjusted Excavation Quantity =",{"$f":"SUM('Approach Earthwork Calculations'!J243:J258)","v":38},"cyd"]
["Total Unadjusted Embankment Quantity =",{"$f":"SUM('Approach Earthwork Calculations'!K259:K272)","v":30},"cyd"]
["Total Adjusted Embankment Quantity =",{"$f":"SUM('Approach Earthwork Calculations'!M259:M272)","v":37},"cyd"]
[{"$f":"'Approach Earthwork Calculations'!A259","v":"Station 40+00 RT."}]
["Total Unadjusted Excavation Quantity =",{"$f":"SUM('Approach Earthwork Calculations'!H259:H272)","v":3},"cyd"]
["Total Adjusted Excavation Quantity =",{"$f":"SUM('Approach Earthwork Calculations'!J259:J272)","v":3},"cyd"]
["Total Unadjusted Embankment Quantity =",{"$f":"SUM('Approach Earthwork Calculations'!K273:K288)","v":29},"cyd"]
["Total Adjusted Embankment Quantity =",{"$f":"SUM('Approach Earthwork Calculations'!M273:M288)","v":35},"cyd"]
[{"$f":"'Approach Earthwork Calculations'!A273","v":"Station 40+00 RT."}]
["Total Unadjusted Excavation Quantity =",{"$f":"SUM('Approach Earthwork Calculations'!H273:H288)","v":8},"cyd"]
["Total Adjusted Excavation Quantity =",{"$f":"SUM('Approach Earthwork Calculations'!J273:J288)","v":8},"cyd"]
["Total Unadjusted Embankment Quantity =",{"$f":"SUM('Approach Earthwork Calculations'!K289:K300)","v":21},"cyd"]
["Total Adjusted Embankment Quantity =",{"$f":"SUM('Approach Earthwork Calculations'!M289:M300)","v":25},"cyd"]
[{"$f":"'Approach Earthwork Calculations'!A289","v":"Station 40+00 RT."}]
["Total Unadjusted Excavation Quantity =",{"$f":"SUM('Approach Earthwork Calculations'!H289:H300)","v":48},"cyd"]
["Total Adjusted Excavation Quantity =",{"$f":"SUM('Approach Earthwork Calculations'!J289:J300)","v":48},"cyd"]
["Total Unadjusted Embankment Quantity =",{"$f":"SUM('Approach Earthwork Calculations'!K301:K312)","v":136},"cyd"]
["Total Adjusted Embankment Quantity =",{"$f":"SUM('Approach Earthwork Calculations'!M301:M312)","v":163},"cyd"]
[{"$f":"'Approach Earthwork Calculations'!A301","v":"Station 40+00 RT."}]
["Total Unadjusted Excavation Quantity =",{"$f":"SUM('Approach Earthwork Calculations'!H301:H312)","v":0},"cyd"]
["Total Adjusted Excavation Quantity =",{"$f":"SUM('Approach Earthwork Calculations'!J301:J312)","v":0},"cyd"]
["Total Unadjusted Embankment Quantity =",{"$f":"SUM('Approach Earthwork Calculations'!K313:K324)","v":56},"cyd"]
["Total Adjusted Embankment Quantity =",{"$f":"SUM('Approach Earthwork Calculations'!M313:M324)","v":67},"cyd"]
[{"$f":"'Approach Earthwork Calculations'!A313","v":"Station 40+00 RT."}]
["Total Unadjusted Excavation Quantity =",{"$f":"SUM('Approach Earthwork Calculations'!H313:H324)","v":0},"cyd"]
["Total Adjusted Excavation Quantity =",{"$f":"SUM('Approach Earthwork Calculations'!J313:J324)","v":0},"cyd"]

{"sheet":"Approach Earthwork Calculations","index":2,"n_rows":519,"n_cols":17,"rows_kept":519,"cut":false,"hidden":true,"merged":[[14,1,15,1],[14,3,15,3],[14,5,15,5],[12,1,13,1],[12,3,13,3],[2,1,2,15],[3,1,5,1],[3,2,5,2],[3,3,3,6],[3,7,3,15],[4,3,4,4],[4,5,4,6],[7,13,8,13],[7,14,8,14],[8,1,9,1],[8,3,9,3],[8,5,9,5],[9,13,10,13],[7,4,8,4],[7,6,8,6],[7,7,8,7],[7,8,8,8],[7,9,8,9],[7,10,8,10],[4,7,4,9],[4,10,4,12],[4,13,4,15],[6,1,7,1],[6,3,7,3],[6,5,7,5],[6,15,7,15],[7,2,8,2],[10,15,11,15],[11,2,12,2],[11,4,12,4],[11,6,12,6],[11,7,12,7],[11,8,12,8],[11,9,12,9],[11,10,12,10],[11,11,12,11],[11,12,12,12],[9,14,10,14],[10,1,11,1],[10,3,11,3],[10,5,11,5],[11,13,12,13],[11,14,12,14],[8,15,9,15],[9,2,10,2],[9,4,10,4],[9,6,10,6],[9,7,10,7],[9,8,10,8],[9,9,10,9],[9,10,10,10],[9,11,10,11],[9,12,10,12],[7,11,8,11],[7,12,8,12],[14,15,15,15],[15,2,16,2],[15,4,16,4],[15,6,16,6],[15,7,16,7],[15,8,16,8],[15,9,16,9],[15,10,16,10],[15,11,16,11],[15,12,16,12],[13,10,14,10],[13,11,14,11],[12,5,13,5],[12,15,13,15],[13,2,14,2],[13,4,14,4],[13,6,14,6],[13,7,14,7],[13,8,14,8],[13,9,14,9],[13,12,14,12],[13,13,14,13],[13,14,14,14],[6,0,21,0],[18,15,19,15],[19,4,20,4],[19,6,20,6],[19,7,20,7],[19,8,20,8],[22,15,23,15],[23,4,24,4],[23,6,24,6],[23,7,24,7],[23,8,24,8],[23,9,24,9],[23,10,24,10],[23,11,24,11],[23,12,24,12],[20,15,21,15],[16,15,17,15],[17,2,18,2],[17,4,18,4],[17,6,18,6],[17,7,18,7],[17,8,18,8],[17,9,18,9],[17,10,18,10],[17,11,18,11],[17,12,18,12],[15,13,16,13],[15,14,16,14],[16,1,17,1],[16,3,17,3],[16,5,17,5],[17,13,18,13],[23,2,24,2],[22,1,23,1],[22,3,23,3],[22,5,23,5],[23,13,24,13],[23,14,24,14],[20,1,21,1],[20,3,21,3],[20,5,21,5],[25,12,26,12],[25,13,26,13],[25,14,26,14],[26,1,27,1],[26,3,27,3],[26,5,27,5],[24,1,25,1],[24,3,25,3],[24,5,25,5],[19,9,20,9],[19,10,20,10],[19,11,20,11],[19,12,20,12],[19,13,20,13],[19,14,20,14],[19,2,20,2],[18,1,19,1],[18,3,19,3],[18,5,19,5],[17,14,18,14],[29,13,30,13],[29,14,30,14],[26,15,27,15],[27,2,28,2],[27,4,28,4],[27,6,28,6],[27,7,28,7],[27,8,28,8],[27,9,28,9],[27,10,28,10],[27,11,28,11],[27,12,28,12],[25,10,26,10],[25,11,26,11],[24,15,25,15],[25,2,26,2],[25,4,26,4],[25,6,26,6],[25,7,26,7],[25,8,26,8],[25,9,26,9],[28,15,29,15],[29,4,30,4],[29,6,30,6],[29,7,30,7],[29,8,30,8],[29,9,30,9],[29,10,30,10],[29,11,30,11],[29,12,30,12],[27,13,28,13],[27,14,28,14],[33,6,34,6],[33,7,34,7],[31,9,32,9],[31,10,32,10],[31,11,32,11],[31,12,32,12],[31,13,32,13],[31,14,32,14],[31,2,32,2],[30,1,31,1],[30,3,31,3],[30,5,31,5],[30,15,31,15],[31,4,32,4],[31,6,32,6],[31,7,32,7],[31,8,32,8],[34,15,35,15],[35,4,36,4],[35,6,36,6],[35,7,36,7],[35,8,36,8],[35,9,36,9],[35,10,36,10],[35,11,36,11],[35,12,36,12],[33,14,34,14],[32,15,33,15],[29,2,30,2],[28,1,29,1],[28,3,29,3],[28,5,29,5],[40,15,41,15],[41,4,42,4],[41,6,42,6],[41,7,42,7],[39,13,40,13],[39,14,40,14],[35,2,36,2],[34,1,35,1],[34,3,35,3],[34,5,35,5],[35,13,36,13],[35,14,36,14],[33,8,34,8],[33,9,34,9],[33,10,34,10],[33,11,34,11],[33,12,34,12],[33,13,34,13],[33,2,34,2],[32,1,33,1],[32,3,33,3],[32,5,33,5],[37,12,38,12],[37,13,38,13],[37,14,38,14],[38,1,39,1],[38,3,39,3],[38,5,39,5],[36,1,37,1],[36,3,37,3],[36,5,37,5],[33,4,34,4],[47,7,48,7],[47,8,48,8],[47,9,48,9],[47,10,48,10],[47,11,48,11],[47,12,48,12],[47,13,48,13],[41,2,42,2],[40,1,41,1],[40,3,41,3],[40,5,41,5],[41,13,42,13],[41,14,42,14],[38,15,39,15],[39,2,40,2],[39,4,40,4],[39,6,40,6],[39,7,40,7],[39,8,40,8],[39,9,40,9],[39,10,40,10],[39,11,40,11],[39,12,40,12],[37,10,38,10],[37,11,38,11],[36,15,37,15],[37,2,38,2],[37,4,38,4],[37,6,38,6],[37,7,38,7],[37,8,38,8],[37,9,38,9],[50,5,51,5],[52,5,53,5],[45,6,46,6],[45,7,46,7],[45,8,46,8],[45,9,46,9],[45,10,46,10],[45,11,46,11],[45,12,46,12],[45,13,46,13],[42,15,43,15],[43,4,44,4],[43,6,44,6],[43,7,44,7],[43,8,44,8],[54,15,55,15],[55,4,56,4],[55,6,56,6],[55,7,56,7],[55,8,56,8],[55,9,56,9],[55,10,56,10],[55,11,56,11],[55,12,56,12],[44,15,45,15],[41,8,42,8],[41,9,42,9],[41,10,42,10],[41,11,42,11],[41,12,42,12],[45,14,46,14],[47,6,48,6],[59,13,60,13],[59,14,60,14],[55,2,56,2],[54,1,55,1],[54,3,55,3],[54,5,55,5],[55,13,56,13],[55,14,56,14],[49,2,50,2],[44,1,45,1],[44,3,45,3],[44,5,45,5],[57,12,58,12],[57,13,58,13],[57,14,58,14],[51,2,52,2],[58,1,59,1],[58,3,59,3],[58,5,59,5],[56,1,57,1],[56,3,57,3],[56,5,57,5],[45,2,46,2],[43,9,44,9],[43,10,44,10],[43,11,44,11],[43,12,44,12],[43,13,44,13],[43,14,44,14],[43,2,44,2],[42,1,43,1],[42,3,43,3],[60,1,61,1],[60,3,61,3],[60,5,61,5],[61,13,62,13],[61,14,62,14],[66,1,67,1],[66,3,67,3],[66,5,67,5],[67,13,68,13],[67,14,68,14],[58,15,59,15],[59,2,60,2],[59,4,60,4],[59,6,60,6],[59,7,60,7],[59,8,60,8],[59,9,60,9],[59,10,60,10],[59,11,60,11],[59,12,60,12],[57,10,58,10],[57,11,58,11],[56,15,57,15],[57,2,58,2],[57,4,58,4],[57,6,58,6],[57,7,58,7],[57,8,58,8],[57,9,58,9],[60,15,61,15],[61,4,62,4],[61,6,62,6],[62,15,63,15],[63,4,64,4],[63,6,64,6],[63,7,64,7],[63,8,64,8],[66,15,67,15],[67,4,68,4],[67,6,68,6],[67,7,68,7],[67,8,68,8],[67,9,68,9],[67,10,68,10],[67,11,68,11],[67,12,68,12],[65,14,66,14],[64,15,65,15],[61,2,62,2],[61,7,62,7],[61,8,62,8],[61,9,62,9],[61,10,62,10],[61,11,62,11],[61,12,62,12],[65,11,66,11],[65,12,66,12],[65,13,66,13],[65,2,66,2],[64,1,65,1],[64,3,65,3],[64,5,65,5],[69,12,70,12],[69,13,70,13],[69,14,70,14],[70,1,71,1],[70,3,71,3],[70,5,71,5],[68,1,69,1],[68,3,69,3],[68,5,69,5],[65,4,66,4],[65,6,66,6],[65,7,66,7],[63,9,64,9],[63,10,64,10],[63,11,64,11],[63,12,64,12],[63,13,64,13],[63,14,64,14],[63,2,64,2],[62,1,63,1],[62,3,63,3],[62,5,63,5],[73,13,74,13],[73,14,74,14],[70,15,71,15],[71,2,72,2],[71,4,72,4],[71,6,72,6],[71,7,72,7],[71,8,72,8],[71,9,72,9],[71,10,72,10],[71,11,72,11],[71,12,72,12],[69,10,70,10],[69,11,70,11],[68,15,69,15],[69,2,70,2],[69,4,70,4],[69,6,70,6],[69,7,70,7],[69,8,70,8],[69,9,70,9],[72,15,73,15],[73,4,74,4],[73,6,74,6],[73,7,74,7],[71,13,72,13],[71,14,72,14],[67,2,68,2],[75,11,76,11],[75,12,76,12],[75,13,76,13],[75,14,76,14],[75,2,76,2],[74,1,75,1],[74,3,75,3],[74,5,75,5],[74,15,75,15],[75,4,76,4],[75,6,76,6],[75,7,76,7],[75,8,76,8],[78,15,79,15],[79,4,80,4],[79,6,80,6],[79,7,80,7],[79,8,80,8],[79,9,80,9],[79,10,80,10],[79,11,80,11],[79,12,80,12],[77,14,78,14],[76,15,77,15],[73,8,74,8],[73,9,74,9],[73,10,74,10],[73,11,74,11],[73,12,74,12],[73,2,74,2],[72,1,73,1],[72,3,73,3],[83,13,84,13],[83,14,84,14],[79,2,80,2],[78,1,79,1],[78,3,79,3],[78,5,79,5],[79,13,80,13],[79,14,80,14],[77,8,78,8],[77,9,78,9],[77,10,78,10],[77,11,78,11],[77,12,78,12],[77,13,78,13],[77,2,78,2],[76,1,77,1],[76,3,77,3],[76,5,77,5],[81,12,82,12],[81,13,82,13],[81,14,82,14],[82,1,83,1],[82,3,83,3],[82,5,83,5],[80,1,81,1],[80,3,81,3],[80,5,81,5],[77,4,78,4],[77,6,78,6],[77,7,78,7],[75,9,76,9],[75,10,76,10],[84,1,85,1],[84,3,85,3],[84,5,85,5],[85,13,86,13],[85,14,86,14],[90,1,91,1],[90,3,91,3],[90,5,91,5],[91,13,92,13],[91,14,92,14],[82,15,83,15],[83,2,84,2],[83,4,84,4],[83,6,84,6],[83,7,84,7],[83,8,84,8],[83,9,84,9],[83,10,84,10],[83,11,84,11],[83,12,84,12],[81,10,82,10],[81,11,82,11],[80,15,81,15],[81,2,82,2],[81,4,82,4],[81,6,82,6],[81,7,82,7],[81,8,82,8],[81,9,82,9],[84,15,85,15],[85,4,86,4],[85,6,86,6],[86,15,87,15],[87,4,88,4],[87,6,88,6],[87,7,88,7],[87,8,88,8],[90,15,91,15],[91,4,92,4],[91,6,92,6],[91,7,92,7],[91,8,92,8],[91,9,92,9],[91,10,92,10],[91,11,92,11],[91,12,92,12],[89,14,90,14],[88,15,89,15],[85,2,86,2],[85,7,86,7],[85,8,86,8],[85,9,86,9],[85,10,86,10],[85,11,86,11],[85,12,86,12],[89,11,90,11],[89,12,90,12],[89,13,90,13],[89,2,90,2],[88,1,89,1],[88,3,89,3],[88,5,89,5],[93,12,94,12],[93,13,94,13],[93,14,94,14],[94,1,95,1],[94,3,95,3],[94,5,95,5],[92,1,93,1],[92,3,93,3],[92,5,93,5],[89,4,90,4],[89,6,90,6],[89,7,90,7],[87,9,88,9],[87,10,88,10],[87,11,88,11],[87,12,88,12],[87,13,88,13],[87,14,88,14],[87,2,88,2],[86,1,87,1],[86,3,87,3],[86,5,87,5],[94,15,95,15],[95,2,96,2],[95,4,96,4],[95,6,96,6],[95,7,96,7],[95,8,96,8],[95,9,96,9],[95,10,96,10],[95,11,96,11],[95,12,96,12],[93,10,94,10],[93,11,94,11],[92,15,93,15],[93,2,94,2],[93,4,94,4],[93,6,94,6],[93,7,94,7],[93,8,94,8],[93,9,94,9],[96,15,97,15],[97,4,98,4],[97,6,98,6],[97,7,98,7],[95,13,96,13],[95,14,96,14],[91,2,92,2],[99,14,100,14],[99,2,100,2],[98,1,99,1],[98,3,99,3],[98,5,99,5],[98,15,99,15],[99,4,100,4],[99,6,100,6],[99,7,100,7],[99,8,100,8],[102,15,103,15],[103,4,104,4],[103,6,104,6],[103,7,104,7],[103,8,104,8],[103,9,104,9],[103,10,104,10],[103,11,104,11],[103,12,104,12],[101,14,102,14],[100,15,101,15],[97,8,98,8],[97,9,98,9],[97,10,98,10],[97,11,98,11],[97,12,98,12],[97,2,98,2],[96,1,97,1],[96,3,97,3],[96,5,97,5],[97,13,98,13],[97,14,98,14],[102,1,103,1],[102,3,103,3],[102,5,103,5],[103,13,104,13],[103,14,104,14],[101,8,102,8],[101,9,102,9],[101,10,102,10],[101,11,102,11],[101,12,102,12],[101,13,102,13],[101,2,102,2],[100,1,101,1],[100,3,101,3],[100,5,101,5],[105,12,106,12],[105,13,106,13],[105,14,106,14],[106,1,107,1],[106,3,107,3],[106,5,107,5],[104,1,105,1],[104,3,105,3],[104,5,105,5],[101,4,102,4],[101,6,102,6],[101,7,102,7],[99,9,100,9],[99,10,100,10],[99,11,100,11],[99,12,100,12],[99,13,100,13],[106,15,107,15],[107,2,108,2],[107,4,108,4],[107,6,108,6],[107,7,108,7],[107,8,108,8],[107,9,108,9],[107,10,108,10],[107,11,108,11],[107,12,108,12],[105,10,106,10],[105,11,106,11],[104,15,105,15],[105,2,106,2],[105,4,106,4],[105,6,106,6],[105,7,106,7],[105,8,106,8],[105,9,106,9],[108,15,109,15],[109,4,110,4],[109,6,110,6],[109,7,110,7],[109,8,110,8],[109,9,110,9],[109,10,110,10],[109,11,110,11],[109,12,110,12],[107,13,108,13],[107,14,108,14],[103,2,104,2],[110,1,111,1],[110,3,111,3],[110,5,111,5],[110,15,111,15],[111,4,112,4],[111,6,112,6],[111,7,112,7],[111,8,112,8],[114,15,115,15],[115,4,116,4],[115,6,116,6],[115,7,116,7],[115,8,116,8],[115,9,116,9],[115,10,116,10],[115,11,116,11],[115,12,116,12],[113,14,114,14],[112,15,113,15],[109,2,110,2],[108,1,109,1],[108,3,109,3],[108,5,109,5],[109,13,110,13],[109,14,110,14],[114,1,115,1],[114,3,115,3],[114,5,115,5],[115,13,116,13],[115,14,116,14],[119,13,120,13],[119,14,120,14],[115,2,116,2],[113,8,114,8],[113,9,114,9],[113,10,114,10],[113,11,114,11],[113,12,114,12],[113,13,114,13],[113,2,114,2],[112,1,113,1],[112,3,113,3],[112,5,113,5],[117,12,118,12],[117,13,118,13],[117,14,118,14],[118,1,119,1],[118,3,119,3],[118,5,119,5],[116,1,117,1],[116,3,117,3],[116,5,117,5],[113,4,114,4],[113,6,114,6],[113,7,114,7],[111,9,112,9],[111,10,112,10],[111,11,112,11],[111,12,112,12],[111,13,112,13],[111,14,112,14],[111,2,112,2],[125,13,126,13],[127,4,128,4],[129,4,130,4],[127,6,128,6],[121,2,122,2],[120,1,121,1],[120,3,121,3],[120,5,121,5],[121,13,122,13],[121,14,122,14],[118,15,119,15],[119,2,120,2],[119,4,120,4],[119,6,120,6],[119,7,120,7],[119,8,120,8],[119,9,120,9],[119,10,120,10],[119,11,120,11],[119,12,120,12],[117,10,118,10],[117,11,118,11],[116,15,117,15],[117,2,118,2],[117,4,118,4],[117,6,118,6],[117,7,118,7],[117,8,118,8],[117,9,118,9],[120,15,121,15],[121,4,122,4],[121,6,122,6],[128,1,129,1],[130,1,131,1],[127,2,128,2],[129,2,130,2],[127,13,128,13],[127,14,128,14],[129,11,130,11],[129,12,130,12],[129,13,130,13],[129,14,130,14],[131,11,132,11],[131,12,132,12],[131,13,132,13],[122,15,123,15],[123,4,124,4],[123,6,124,6],[123,7,124,7],[123,8,124,8],[126,15,127,15],[125,14,126,14],[124,15,125,15],[121,8,122,8],[121,9,122,9],[121,10,122,10],[121,11,122,11],[121,12,122,12],[131,14,132,14],[128,15,129,15],[130,15,131,15],[125,10,126,10],[125,11,126,11],[125,12,126,12],[135,13,136,13],[135,14,136,14],[131,2,132,2],[131,4,132,4],[125,2,126,2],[124,1,125,1],[124,3,125,3],[124,5,125,5],[133,12,134,12],[133,13,134,13],[133,14,134,14],[134,1,135,1],[134,3,135,3],[134,5,135,5],[132,1,133,1],[132,3,133,3],[132,5,133,5],[125,4,126,4],[125,6,126,6],[125,7,126,7],[123,9,124,9],[123,10,124,10],[123,11,124,11],[123,12,124,12],[123,13,124,13],[123,14,124,14],[123,2,124,2],[122,1,123,1],[122,3,123,3],[122,5,123,5],[127,11,128,11],[127,12,128,12],[136,1,137,1],[136,3,137,3],[136,5,137,5],[137,13,138,13],[137,14,138,14],[142,1,143,1],[142,3,143,3],[142,5,143,5],[143,13,144,13],[143,14,144,14],[134,15,135,15],[135,2,136,2],[135,4,136,4],[135,6,136,6],[135,7,136,7],[135,8,136,8],[135,9,136,9],[135,10,136,10],[135,11,136,11],[135,12,136,12],[133,10,134,10],[133,11,134,11],[132,15,133,15],[133,2,134,2],[133,4,134,4],[133,6,134,6],[133,7,134,7],[133,8,134,8],[133,9,134,9],[136,15,137,15],[137,4,138,4],[137,6,138,6],[138,15,139,15],[139,4,140,4],[139,6,140,6],[139,7,140,7],[139,8,140,8],[142,15,143,15],[143,4,144,4],[143,6,144,6],[143,7,144,7],[143,8,144,8],[143,9,144,9],[143,10,144,10],[143,11,144,11],[143,12,144,12],[141,14,142,14],[140,15,141,15],[137,2,138,2],[137,7,138,7],[137,8,138,8],[137,9,138,9],[137,10,138,10],[137,11,138,11],[137,12,138,12],[141,8,142,8],[141,9,142,9],[141,10,142,10],[141,11,142,11],[141,12,142,12],[141,13,142,13],[141,2,142,2],[140,1,141,1],[140,3,141,3],[140,5,141,5],[145,12,146,12],[145,13,146,13],[145,14,146,14],[146,1,147,1],[146,3,147,3],[146,5,147,5],[144,1,145,1],[144,3,145,3],[144,5,145,5],[141,4,142,4],[141,6,142,6],[141,7,142,7],[139,9,140,9],[139,10,140,10],[139,11,140,11],[139,12,140,12],[139,13,140,13],[139,14,140,14],[139,2,140,2],[138,1,139,1],[138,3,139,3],[138,5,139,5],[148,5,149,5],[149,13,150,13],[149,14,150,14],[146,15,147,15],[147,2,148,2],[147,4,148,4],[147,6,148,6],[147,7,148,7],[147,8,148,8],[147,9,148,9],[147,10,148,10],[147,11,148,11],[147,12,148,12],[145,10,146,10],[145,11,146,11],[144,15,145,15],[145,2,146,2],[145,4,146,4],[145,6,146,6],[145,7,146,7],[145,8,146,8],[145,9,146,9],[148,15,149,15],[149,4,150,4],[149,6,150,6],[149,7,150,7],[147,13,148,13],[147,14,148,14],[143,2,144,2],[151,11,152,11],[151,12,152,12],[151,13,152,13],[151,14,152,14],[151,2,152,2],[150,1,151,1],[150,3,151,3],[150,5,151,5],[150,15,151,15]],"merged_total":3862,"flags":["merged_cut"]}
["Shrink Factor1",0.3]
["Shrink Factor2",0.2]
[null,"EARTHWORK COMPUTATIONS"]
["MAINLINE APPROACH","STATION","DIST. (ft)","AREAS IN SQUARE FEET",null,null,null,"VOLUMES IN CUBIC YARDS"]
[null,null,null,"CUT",null,"FILL",null,"EXCAVATION",null,null,"EMBANKMENT",null,null,"MASS CURVE DATA"]
[null,null,null,"AREA","DOUBLE AREA","AREA","DOUBLE AREA","ACTUAL","SWELL FACTOR","ADJ. EXC.","ACTUAL","SHRINK FACTOR","EMB. +","CUT +","FILL -","M"]
["Station 10+00 RT.",0,null,0,null,0,null,null,null,null,null,null,null,null,null,0]
[null,null,{"$f":"IF(B9>0,B9-B7,0)","v":7.8},null,{"$f":"SUM(D7:D10)","v":0},null,{"$f":"SUM(F7:F10)","v":27},{"$f":"ROUND(((E8*C8)/2/27),0)","v":0},null,{"$f":"ROUND(H8*(1+I8),0)","v":0},{"$f":"ROUND(((C8*G8)/2/27),0)","v":4},{"$f":"$B$1","v":0.3},{"$f":"ROUND(K8*(1+L8),0)","v":5},{"$f":"IF((J8-M8)>0,J8-M8,0)","v":0},{"$f":"IF((M8-J8)>0,M8-J8,0)","v":5}]
[null,7.8,null,0,null,27,null,null,null,null,null,null,null,null,null,{"$f":"P7+N8-O8","v":-5}]
[null,null,{"$f":"IF(B11>0,B11-B9,0)","v":6.5000000000000009},null,{"$f":"SUM(D9:D12)","v":0},null,{"$f":"SUM(F9:F12)","v":62},{"$f":"ROUND(((E10*C10)/2/27),0)","v":0},null,{"$f":"ROUND(H10*(1+I10),0)","v":0},{"$f":"ROUND(((C10*G10)/2/27),0)","v":7},{"$f":"$B$1","v":0.3},{"$f":"ROUND(K10*(1+L10),0)","v":9},{"$f":"IF((J10-M10)>0,J10-M10,0)","v":0},{"$f":"IF((M10-J10)>0,M10-J10,0)","v":9}]
[null,14.3,null,0,null,35,null,null,null,null,null,null,null,null,null,{"$f":"P9+N10-O10","v":-14}]
[null,null,{"$f":"IF(B13>0,B13-B11,0)","v":0.5},null,{"$f":"SUM(D11:D14)","v":0},null,{"$f":"SUM(F11:F14)","v":73},{"$f":"ROUND(((E12*C12)/2/27),0)","v":0},null,{"$f":"ROUND(H12*(1+I12),0)","v":0},{"$f":"ROUND(((C12*G12)/2/27),0)","v":1},{"$f":"$B$1","v":0.3},{"$f":"ROUND(K12*(1+L12),0)","v":1},{"$f":"IF((J12-M12)>0,J12-M12,0)","v":0},{"$f":"IF((M12-J12)>0,M12-J12,0)","v":1}]
[null,14.8,null,0,null,38,null,null,null,null,null,null,null,null,null,{"$f":"P11+N12-O12","v":-15}]
[null,null,{"$f":"IF(B15>0,B15-B13,0)","v":17.999999999999996},null,{"$f":"SUM(D13:D16)","v":0},null,{"$f":"SUM(F13:F16)","v":106},{"$f":"ROUND(((E14*C14)/2/27),0)","v":0},null,{"$f":"ROUND(H14*(1+I14),0)","v":0},{"$f":"ROUND(((C14*G14)/2/27),0)","v":35},{"$f":"$B$1","v":0.3},{"$f":"ROUND(K14*(1+L14),0)","v":46},{"$f":"IF((J14-M14)>0,J14-M14,0)","v":0},{"$f":"IF((M14-J14)>0,M14-J14,0)","v":46}]
[null,32.799999999999997,null,0,null,68,null,null,null,null,null,null,null,null,null,{"$f":"P13+N14-O14","v":-61}]
[null,null,{"$f":"IF(B17>0,B17-B15,0)","v":3.1000000000000014},null,{"$f":"SUM(D15:D18)","v":0},null,{"$f":"SUM(F15:F18)","v":68},{"$f":"ROUND(((E16*C16)/2/27),0)","v":0},null,{"$f":"ROUND(H16*(1+I16),0)","v":0},{"$f":"ROUND(((C16*G16)/2/27),0)","v":4},{"$f":"$B$1","v":0.3},{"$f":"ROUND(K16*(1+L16),0)","v":5},{"$f":"IF((J16-M16)>0,J16-M16,0)","v":0},{"$f":"IF((M16-J16)>0,M16-J16,0)","v":5}]
[null,35.9,null,0,null,0,null,null,null,null,null,null,null,null,null,{"$f":"P15+N16-O16","v":-66}]
[null,null,{"$f":"IF(B19>0,B19-B17,0)","v":0.89999999999999858},null,{"$f":"SUM(D17:D20)","v":50},null,{"$f":"SUM(F17:F20)","v":0},{"$f":"ROUND(((E18*C18)/2/27),0)","v":1},null,{"$f":"ROUND(H18*(1+I18),0)","v":1},{"$f":"ROUND(((C18*G18)/2/27),0)","v":0},{"$f":"$B$1","v":0.3},{"$f":"ROUND(K18*(1+L18),0)","v":0},{"$f":"IF((J18-M18)>0,J18-M18,0)","v":1},{"$f":"IF((M18-J18)>0,M18-J18,0)","v":0}]
[null,36.799999999999997,null,50,null,0,null,null,null,null,null,null,null,null,null,{"$f":"P17+N18-O18","v":-65}]
[null,null,{"$f":"IF(B21>0,B21-B19,0)","v":0},null,{"$f":"SUM(D19:D22)","v":50},null,{"$f":"SUM(F19:F22)","v":0},{"$f":"ROUND(((E20*C20)/2/27),0)","v":0},null,{"$f":"ROUND(H20*(1+I20),0)","v":0},{"$f":"ROUND(((C20*G20)/2/27),0)","v":0},{"$f":"$B$1","v":0.3},{"$f":"ROUND(K20*(1+L20),0)","v":0},{"$f":"IF((J20-M20)>0,J20-M20,0)","v":0},{"$f":"IF((M20-J20)>0,M20-J20,0)","v":0}]
[null,36.799999999999997,null,0,null,0,null,null,null,null,null,null,null,null,null,{"$f":"P19+N20-O20","v":-65}]
[null,null,{"$f":"IF(B23>0,B23-B21,0)","v":0},null,{"$f":"SUM(D21:D24)","v":0},null,{"$f":"SUM(F21:F24)","v":0},{"$f":"ROUND(((E22*C22)/2/27),0)","v":0},null,{"$f":"ROUND(H22*(1+I22),0)","v":0},{"$f":"ROUND(((C22*G22)/2/27),0)","v":0},{"$f":"$B$1","v":0.3},{"$f":"ROUND(K22*(1+L22),0)","v":0},{"$f":"IF((J22-M22)>0,J22-M22,0)","v":0},{"$f":"IF((M22-J22)>0,M22-J22,0)","v":0}]
["Station 20+00 RT.",0,null,0,null,0,null,null,null,null,null,null,null,null,null,{"$f":"P21+N22-O22","v":-65}]
[null,null,{"$f":"IF(B25>0,B25-B23,0)","v":15.6},null,{"$f":"SUM(D23:D26)","v":0},null,{"$f":"SUM(F23:F26)","v":84},{"$f":"ROUND(((E24*C24)/2),0)","v":0},null,{"$f":"ROUND(H24*(1+I24),0)","v":0},{"$f":"ROUND(((C24*G24)/2),0)","v":655},{"$f":"$B$1","v":0.3},{"$f":"ROUND(K24*(1+L24),0)","v":852},{"$f":"IF((J24-M24)>0,J24-M24,0)","v":0},{"$f":"IF((M24-J24)>0,M24-J24,0)","v":852}]
[null,15.6,null,0,null,84,null,null,null,null,null,null,null,null,null,{"$f":"P23+N24-O24","v":-917}]
[null,null,{"$f":"IF(B27>0,B27-B25,0)","v":0.50000000000000178},null,{"$f":"SUM(D25:D28)","v":0},null,{"$f":"SUM(F25:F28)","v":163},{"$f":"ROUND(((E26*C26)/2),0)","v":0},null,{"$f":"ROUND(H26*(1+I26),0)","v":0},{"$f":"ROUND(((C26*G26)/2),0)","v":41},{"$f":"$B$1","v":0.3},{"$f":"ROUND(K26*(1+L26),0)","v":53},{"$f":"IF((J26-M26)>0,J26-M26,0)","v":0},{"$f":"IF((M26-J26)>0,M26-J26,0)","v":53}]
[null,16.100000000000001,null,0,null,79,null,null,null,null,null,null,null,null,null,{"$f":"P25+N26-O26","v":-970}]
[null,null,{"$f":"IF(B29>0,B29-B27,0)","v":5.0999999999999979},null,{"$f":"SUM(D27:D30)","v":0},null,{"$f":"SUM(F27:F30)","v":101},{"$f":"ROUND(((E28*C28)/2),0)","v":0},null,{"$f":"ROUND(H28*(1+I28),0)","v":0},{"$f":"ROUND(((C28*G28)/2),0)","v":258},{"$f":"$B$1","v":0.3},{"$f":"ROUND(K28*(1+L28),0)","v":335},{"$f":"IF((J28-M28)>0,J28-M28,0)","v":0},{"$f":"IF((M28-J28)>0,M28-J28,0)","v":335}]
[null,21.2,null,0,null,22,null,null,null,null,null,null,null,null,null,{"$f":"P27+N28-O28","v":-1305}]
[null,null,{"$f":"IF(B31>0,B31-B29,0)","v":29.000000000000004},null,{"$f":"SUM(D29:D32)","v":0},null,{"$f":"SUM(F29:F32)","v":22},{"$f":"ROUND(((E30*C30)/2),0)","v":0},null,{"$f":"ROUND(H30*(1+I30),0)","v":0},{"$f":"ROUND(((C30*G30)/2),0)","v":319},{"$f":"$B$1","v":0.3},{"$f":"ROUND(K30*(1+L30),0)","v":415},{"$f":"IF((J30-M30)>0,J30-M30,0)","v":0},{"$f":"IF((M30-J30)>0,M30-J30,0)","v":415}]
[null,50.2,null,0,null,0,null,null,null,null,null,null,null,null,null,{"$f":"P29+N30-O30","v":-1720}]
[null,null,{"$f":"IF(B33>0,B33-B31,0)","v":11.799999999999997},null,{"$f":"SUM(D31:D34)","v":50},null,{"$f":"SUM(F31:F34)","v":0},{"$f":"ROUND(((E32*C32)/2),0)","v":295},null,{"$f":"ROUND(H32*(1+I32),0)","v":295},{"$f":"ROUND(((C32*G32)/2),0)","v":0},{"$f":"$B$1","v":0.3},{"$f":"ROUND(K32*(1+L32),0)","v":0},{"$f":"IF((J32-M32)>0,J32-M32,0)","v":295},{"$f":"IF((M32-J32)>0,M32-J32,0)","v":0}]
[null,62,null,50,null,0,null,null,null,null,null,null,null,null,null,{"$f":"P31+N32-O32","v":-1425}]
[null,null,{"$f":"IF(B35>0,B35-B33,0)","v":0},null,{"$f":"SUM(D33:D36)","v":50},null,{"$f":"SUM(F33:F36)","v":0},{"$f":"ROUND(((E34*C34)/2),0)","v":0},null,{"$f":"ROUND(H34*(1+I34),0)","v":0},{"$f":"ROUND(((C34*G34)/2),0)","v":0},{"$f":"$B$1","v":0.3},{"$f":"ROUND(K34*(1+L34),0)","v":0},{"$f":"IF((J34-M34)>0,J34-M34,0)","v":0},{"$f":"IF((M34-J34)>0,M34-J34,0)","v":0}]
[null,62,null,0,null,0,null,null,null,null,null,null,null,null,null,{"$f":"P33+N34-O34","v":-1425}]
[null,null,{"$f":"IF(B37>0,B37-B35,0)","v":0},null,{"$f":"SUM(D35:D38)","v":0},null,{"$f":"SUM(F35:F38)","v":0},{"$f":"ROUND(((E36*C36)/2),0)","v":0},null,{"$f":"ROUND(H36*(1+I36),0)","v":0},{"$f":"ROUND(((C36*G36)/2),0)","v":0},{"$f":"$B$1","v":0.3},{"$f":"ROUND(K36*(1+L36),0)","v":0},{"$f":"IF((J36-M36)>0,J36-M36,0)","v":0},{"$f":"IF((M36-J36)>0,M36-J36,0)","v":0}]
["Station 30+00 RT.",0,null,0,null,0,null,null,null,null,null,null,null,null,null,{"$f":"P35+N36-O36","v":-1425}]
[null,null,{"$f":"IF(B39>0,B39-B37,0)","v":8.1},null,{"$f":"SUM(D37:D40)","v":0},null,{"$f":"SUM(F37:F40)","v":4},{"$f":"ROUND(((E38*C38)/2),0)","v":0},null,{"$f":"ROUND(H38*(1+I38),0)","v":0},{"$f":"ROUND(((C38*G38)/2),0)","v":16},{"$f":"$B$2","v":0.2},{"$f":"ROUND(K38*(1+L38),0)","v":19},{"$f":"IF((J38-M38)>0,J38-M38,0)","v":0},{"$f":"IF((M38-J38)>0,M38-J38,0)","v":19}]
[null,8.1,null,0,null,4,null,null,null,null,null,null,null,null,null,{"$f":"P37+N38-O38","v":-1444}]
[null,null,{"$f":"IF(B41>0,B41-B39,0)","v":6.5},null,{"$f":"SUM(D39:D42)","v":0},null,{"$f":"SUM(F39:F42)","v":11},{"$f":"ROUND(((E40*C40)/2),0)","v":0},null,{"$f":"ROUND(H40*(1+I40),0)","v":0},{"$f":"ROUND(((C40*G40)/2),0)","v":36},{"$f":"$B$2","v":0.2},{"$f":"ROUND(K40*(1+L40),0)","v":43},{"$f":"IF((J40-M40)>0,J40-M40,0)","v":0},{"$f":"IF((M40-J40)>0,M40-J40,0)","v":43}]
[null,14.6,null,0,null,7,null,null,null,null,null,null,null,null,null,{"$f":"P39+N40-O40","v":-1487}]
[null,null,{"$f":"IF(B43>0,B43-B41,0)","v":0.5},null,{"$f":"SUM(D41:D44)","v":0},null,{"$f":"SUM(F41:F44)","v":14},{"$f":"ROUND(((E42*C42)/2),0)","v":0},null,{"$f":"ROUND(H42*(1+I42),0)","v":0},{"$f":"ROUND(((C42*G42)/2),0)","v":4},{"$f":"$B$2","v":0.2},{"$f":"ROUND(K42*(1+L42),0)","v":5},{"$f":"IF((J42-M42)>0,J42-M42,0)","v":0},{"$f":"IF((M42-J42)>0,M42-J42,0)","v":5}]
[null,15.1,null,0,null,7,null,null,null,null,null,null,null,null,null,{"$f":"P41+N42-O42","v":-1492}]
[null,null,{"$f":"IF(B45>0,B45-B43,0)","v":3.0999999999999996},null,{"$f":"SUM(D43:D46)","v":0},null,{"$f":"SUM(F43:F46)","v":7},{"$f":"ROUND(((E44*C44)/2),0)","v":0},null,{"$f":"ROUND(H44*(1+I44),0)","v":0},{"$f":"ROUND(((C44*G44)/2),0)","v":11},{"$f":"$B$2","v":0.2},{"$f":"ROUND(K44*(1+L44),0)","v":13},{"$f":"IF((J44-M44)>0,J44-M44,0)","v":0},{"$f":"IF((M44-J44)>0,M44-J44,0)","v":13}]
[null,18.2,null,0,null,0,null,null,null,null,null,null,null,null,null,{"$f":"P43+N44-O44","v":-1505}]
[null,null,5.6000000000000014,null,1,null,{"$f":"SUM(F45:F48)","v":1},{"$f":"ROUND(((E46*C46)/2),0)","v":3},null,{"$f":"ROUND(H46*(1+I46),0)","v":3},{"$f":"ROUND(((C46*G46)/2),0)","v":3},0.2,{"$f":"ROUND(K46*(1+L46),0)","v":4},{"$f":"IF((J46-M46)>0,J46-M46,0)","v":0},{"$f":"IF((M46-J46)>0,M46-J46,0)","v":1}]
[null,23.8,null,1,null,1,null,null,null,null,null,null,null,null,null,{"$f":"P45+N46-O46","v":-1506}]
[null,null,3.0999999999999979,null,3,null,{"$f":"SUM(F47:F50)","v":3},{"$f":"ROUND(((E48*C48)/2),0)","v":5},null,{"$f":"ROUND(H48*(1+I48),0)","v":5},{"$f":"ROUND(((C48*G48)/2),0)","v":5},0.2,{"$f":"ROUND(K48*(1+L48),0)","v":6},{"$f":"IF((J48-M48)>0,J48-M48,0)","v":0},{"$f":"IF((M48-J48)>0,M48-J48,0)","v":1}]
[null,26.9,null,2,null,2,null,null,null,null,null,null,null,null,null,{"$f":"P47+N48-O48","v":-1507}]
[null,null,2.5,null,5,null,{"$f":"SUM(F49:F52)","v":5},{"$f":"ROUND(((E50*C50)/2),0)","v":6},null,{"$f":"ROUND(H50*(1+I50),0)","v":6},{"$f":"ROUND(((C50*G50)/2),0)","v":6},0.2,{"$f":"ROUND(K50*(1+L50),0)","v":7},{"$f":"IF((J50-M50)>0,J50-M50,0)","v":0},{"$f":"IF((M50-J50)>0,M50-J50,0)","v":1}]
[null,29.4,null,3,null,3,null,null,null,null,null,null,null,null,null,{"$f":"P49+N50-O50","v":-1508}]
[null,null,0.70000000000000284,null,7,null,{"$f":"SUM(F51:F54)","v":7},{"$f":"ROUND(((E52*C52)/2),0)","v":2},null,{"$f":"ROUND(H52*(1+I52),0)","v":2},{"$f":"ROUND(((C52*G52)/2),0)","v":2},0.2,{"$f":"ROUND(K52*(1+L52),0)","v":2},{"$f":"IF((J52-M52)>0,J52-M52,0)","v":0},{"$f":"IF((M52-J52)>0,M52-J52,0)","v":0}]
[null,30.1,null,4,null,4,null,null,null,null,null,null,null,null,null,{"$f":"P51+N52-O52","v":-1508}]
[null,null,2,null,9,null,{"$f":"SUM(F53:F56)","v":4},{"$f":"ROUND(((E54*C54)/2),0)","v":9},null,{"$f":"ROUND(H54*(1+I54),0)","v":9},{"$f":"ROUND(((C54*G54)/2),0)","v":4},0.2,{"$f":"ROUND(K54*(1+L54),0)","v":5},{"$f":"IF((J54-M54)>0,J54-M54,0)","v":4},{"$f":"IF((M54-J54)>0,M54-J54,0)","v":0}]
[null,32.1,null,5,null,0,null,null,null,null,null,null,null,null,null,{"$f":"P53+N54-O54","v":-1504}]
[null,null,{"$f":"IF(B57>0,B57-B55,0)","v":0},null,{"$f":"SUM(D55:D58)","v":5},null,{"$f":"SUM(F55:F58)","v":0},{"$f":"ROUND(((E56*C56)/2),0)","v":0},null,{"$f":"ROUND(H56*(1+I56),0)","v":0},{"$f":"ROUND(((C56*G56)/2),0)","v":0},{"$f":"$B$2","v":0.2},{"$f":"ROUND(K56*(1+L56),0)","v":0},{"$f":"IF((J56-M56)>0,J56-M56,0)","v":0},{"$f":"IF((M56-J56)>0,M56-J56,0)","v":0}]
[null,32.1,null,0,null,0,null,null,null,null,null,null,null,null,null,{"$f":"P55+N56-O56","v":-1504}]
[null,null,{"$f":"IF(B59>0,B59-B57,0)","v":0},null,{"$f":"SUM(D57:D60)","v":0},null,{"$f":"SUM(F57:F60)","v":0},{"$f":"ROUND(((E58*C58)/2),0)","v":0},null,{"$f":"ROUND(H58*(1+I58),0)","v":0},{"$f":"ROUND(((C58*G58)/2),0)","v":0},{"$f":"$B$2","v":0.2},{"$f":"ROUND(K58*(1+L58),0)","v":0},{"$f":"IF((J58-M58)>0,J58-M58,0)","v":0},{"$f":"IF((M58-J58)>0,M58-J58,0)","v":0}]
["Station 40+00 RT.",0,null,0,null,0,null,null,null,null,null,null,null,null,null,{"$f":"P57+N58-O58","v":-1504}]
[null,null,{"$f":"IF(B61>0,B61-B59,0)","v":2.84},null,{"$f":"SUM(D59:D62)","v":0},null,{"$f":"SUM(F59:F62)","v":3},{"$f":"ROUND(((E60*C60)/2),0)","v":0},null,{"$f":"ROUND(H60*(1+I60),0)","v":0},{"$f":"ROUND(((C60*G60)/2),0)","v":4},{"$f":"$B$2","v":0.2},{"$f":"ROUND(K60*(1+L60),0)","v":5},{"$f":"IF((J60-M60)>0,J60-M60,0)","v":0},{"$f":"IF((M60-J60)>0,M60-J60,0)","v":5}]
[null,2.84,null,0,null,3,null,null,null,null,null,null,null,null,null,{"$f":"P59+N60-O60","v":-1509}]
[null,null,{"$f":"IF(B63>0,B63-B61,0)","v":2.08},null,{"$f":"SUM(D61:D64)","v":0},null,{"$f":"SUM(F61:F64)","v":10},{"$f":"ROUND(((E62*C62)/2),0)","v":0},null,{"$f":"ROUND(H62*(1+I62),0)","v":0},{"$f":"ROUND(((C62*G62)/2),0)","v":10},{"$f":"$B$2","v":0.2},{"$f":"ROUND(K62*(1+L62),0)","v":12},{"$f":"IF((J62-M62)>0,J62-M62,0)","v":0},{"$f":"IF((M62-J62)>0,M62-J62,0)","v":12}]
[null,4.92,null,0,null,7,null,null,null,null,null,null,null,null,null,{"$f":"P61+N62-O62","v":-1521}]
[null,null,{"$f":"IF(B65>0,B65-B63,0)","v":3},null,{"$f":"SUM(D63:D66)","v":0},null,{"$f":"SUM(F63:F66)","v":14},{"$f":"ROUND(((E64*C64)/2),0)","v":0},null,{"$f":"ROUND(H64*(1+I64),0)","v":0},{"$f":"ROUND(((C64*G64)/2),0)","v":21},{"$f":"$B$2","v":0.2},{"$f":"ROUND(K64*(1+L64),0)","v":25},{"$f":"IF((J64-M64)>0,J64-M64,0)","v":0},{"$f":"IF((M64-J64)>0,M64-J64,0)","v":25}]
[null,7.92,null,0,null,7,null,null,null,null,null,null,null,null,null,{"$f":"P63+N64-O64","v":-1546}]
[null,null,{"$f":"IF(B67>0,B67-B65,0)","v":1.9499999999999993},null,{"$f":"SUM(D65:D68)","v":0},null,{"$f":"SUM(F65:F68)","v":9},{"$f":"ROUND(((E66*C66)/2),0)","v":0},null,{"$f":"ROUND(H66*(1+I66),0)","v":0},{"$f":"ROUND(((C66*G66)/2),0)","v":9},{"$f":"$B$2","v":0.2},{"$f":"ROUND(K66*(1+L66),0)","v":11},{"$f":"IF((J66-M66)>0,J66-M66,0)","v":0},{"$f":"IF((M66-J66)>0,M66-J66,0)","v":11}]
[null,9.8699999999999992,null,0,null,2,null,null,null,null,null,null,null,null,null,{"$f":"P65+N66-O66","v":-1557}]
[null,null,{"$f":"IF(B69>0,B69-B67,0)","v":4.5900000000000016},null,{"$f":"SUM(D67:D70)","v":0},null,{"$f":"SUM(F67:F70)","v":2},{"$f":"ROUND(((E68*C68)/2),0)","v":0},null,{"$f":"ROUND(H68*(1+I68),0)","v":0},{"$f":"ROUND(((C68*G68)/2),0)","v":5},{"$f":"$B$2","v":0.2},{"$f":"ROUND(K68*(1+L68),0)","v":6},{"$f":"IF((J68-M68)>0,J68-M68,0)","v":0},{"$f":"IF((M68-J68)>0,M68-J68,0)","v":6}]
[null,14.46,null,0,null,0,null,null,null,null,null,null,null,null,null,{"$f":"P67+N68-O68","v":-1563}]
[null,null,{"$f":"IF(B71>0,B71-B69,0)","v":6.32},null,{"$f":"SUM(D69:D72)","v":7},null,{"$f":"SUM(F69:F72)","v":0},{"$f":"ROUND(((E70*C70)/2),0)","v":22},null,{"$f":"ROUND(H70*(1+I70),0)","v":22},{"$f":"ROUND(((C70*G70)/2),0)","v":0},{"$f":"$B$2","v":0.2},{"$f":"ROUND(K70*(1+L70),0)","v":0},{"$f":"IF((J70-M70)>0,J70-M70,0)","v":22},{"$f":"IF((M70-J70)>0,M70-J70,0)","v":0}]
[null,20.78,null,7,null,0,null,null,null,null,null,null,null,null,null,{"$f":"P69+N70-O70","v":-1541}]
[null,null,{"$f":"IF(B73>0,B73-B71,0)","v":0},null,{"$f":"SUM(D71:D74)","v":7},null,{"$f":"SUM(F71:F74)","v":0},{"$f":"ROUND(((E72*C72)/2),0)","v":0},null,{"$f":"ROUND(H72*(1+I72),0)","v":0},{"$f":"ROUND(((C72*G72)/2),0)","v":0},{"$f":"$B$2","v":0.2},{"$f":"ROUND(K72*(1+L72),0)","v":0},{"$f":"IF((J72-M72)>0,J72-M72,0)","v":0},{"$f":"IF((M72-J72)>0,M72-J72,0)","v":0}]
[null,20.78,null,0,null,0,null,null,null,null,null,null,null,null,null,{"$f":"P71+N72-O72","v":-1541}]
[null,null,{"$f":"IF(B75>0,B75-B73,0)","v":0},null,{"$f":"SUM(D73:D76)","v":0},null,{"$f":"SUM(F73:F76)","v":0},{"$f":"ROUND(((E74*C74)/2),0)","v":0},null,{"$f":"ROUND(H74*(1+I74),0)","v":0},{"$f":"ROUND(((C74*G74)/2),0)","v":0},{"$f":"$B$2","v":0.2},{"$f":"ROUND(K74*(1+L74),0)","v":0},{"$f":"IF((J74-M74)>0,J74-M74,0)","v":0},{"$f":"IF((M74-J74)>0,M74-J74,0)","v":0}]
["Station 40+00 RT.",0,null,0,null,0,null,null,null,null,null,null,null,null,null,{"$f":"P73+N74-O74","v":-1541}]
[null,null,{"$f":"IF(B77>0,B77-B75,0)","v":2.84},null,{"$f":"SUM(D75:D78)","v":0},null,{"$f":"SUM(F75:F78)","v":4},{"$f":"ROUND(((E76*C76)/2),0)","v":0},null,{"$f":"ROUND(H76*(1+I76),0)","v":0},{"$f":"ROUND(((C76*G76)/2),0)","v":6},{"$f":"$B$2","v":0.2},{"$f":"ROUND(K76*(1+L76),0)","v":7},{"$f":"IF((J76-M76)>0,J76-M76,0)","v":0},{"$f":"IF((M76-J76)>0,M76-J76,0)","v":7}]
[null,2.84,null,0,null,4,null,null,null,null,null,null,null,null,null,{"$f":"P75+N76-O76","v":-1548}]
[null,null,{"$f":"IF(B79>0,B79-B77,0)","v":1.5600000000000005},null,{"$f":"SUM(D77:D80)","v":0},null,{"$f":"SUM(F77:F80)","v":11},{"$f":"ROUND(((E78*C78)/2),0)","v":0},null,{"$f":"ROUND(H78*(1+I78),0)","v":0},{"$f":"ROUND(((C78*G78)/2),0)","v":9},{"$f":"$B$2","v":0.2},{"$f":"ROUND(K78*(1+L78),0)","v":11},{"$f":"IF((J78-M78)>0,J78-M78,0)","v":0},{"$f":"IF((M78-J78)>0,M78-J78,0)","v":11}]
[null,4.4000000000000004,null,0,null,7,null,null,null,null,null,null,null,null,null,{"$f":"P77+N78-O78","v":-1559}]
[null,null,{"$f":"IF(B81>0,B81-B79,0)","v":3},null,{"$f":"SUM(D79:D82)","v":0},null,{"$f":"SUM(F79:F82)","v":14},{"$f":"ROUND(((E80*C80)/2),0)","v":0},null,{"$f":"ROUND(H80*(1+I80),0)","v":0},{"$f":"ROUND(((C80*G80)/2),0)","v":21},{"$f":"$B$2","v":0.2},{"$f":"ROUND(K80*(1+L80),0)","v":25},{"$f":"IF((J80-M80)>0,J80-M80,0)","v":0},{"$f":"IF((M80-J80)>0,M80-J80,0)","v":25}]
[null,7.4,null,0,null,7,null,null,null,null,null,null,null,null,null,{"$f":"P79+N80-O80","v":-1584}]
[null,null,{"$f":"IF(B83>0,B83-B81,0)","v":2.1899999999999995},null,{"$f":"SUM(D81:D84)","v":0},null,{"$f":"SUM(F81:F84)","v":7},{"$f":"ROUND(((E82*C82)/2),0)","v":0},null,{"$f":"ROUND(H82*(1+I82),0)","v":0},{"$f":"ROUND(((C82*G82)/2),0)","v":8},{"$f":"$B$2","v":0.2},{"$f":"ROUND(K82*(1+L82),0)","v":10},{"$f":"IF((J82-M82)>0,J82-M82,0)","v":0},{"$f":"IF((M82-J82)>0,M82-J82,0)","v":10}]
[null,9.59,null,0,null,0,null,null,null,null,null,null,null,null,null,{"$f":"P81+N82-O82","v":-1594}]
[null,null,{"$f":"IF(B85>0,B85-B83,0)","v":0.88000000000000078},null,{"$f":"SUM(D83:D86)","v":5},null,{"$f":"SUM(F83:F86)","v":0},{"$f":"ROUND(((E84*C84)/2),0)","v":2},null,{"$f":"ROUND(H84*(1+I84),0)","v":2},{"$f":"ROUND(((C84*G84)/2),0)","v":0},{"$f":"$B$2","v":0.2},{"$f":"ROUND(K84*(1+L84),0)","v":0},{"$f":"IF((J84-M84)>0,J84-M84,0)","v":2},{"$f":"IF((M84-J84)>0,M84-J84,0)","v":0}]
[null,10.47,null,5,null,0,null,null,null,null,null,null,null,null,null,{"$f":"P83+N84-O84","v":-1592}]
[null,null,{"$f":"IF(B87>0,B87-B85,0)","v":1.0999999999999996},null,{"$f":"SUM(D85:D88)","v":10},null,{"$f":"SUM(F85:F88)","v":0},{"$f":"ROUND(((E86*C86)/2),0)","v":6},null,{"$f":"ROUND(H86*(1+I86),0)","v":6},{"$f":"ROUND(((C86*G86)/2),0)","v":0},{"$f":"$B$2","v":0.2},{"$f":"ROUND(K86*(1+L86),0)","v":0},{"$f":"IF((J86-M86)>0,J86-M86,0)","v":6},{"$f":"IF((M86-J86)>0,M86-J86,0)","v":0}]
[null,11.57,null,5,null,0,null,null,null,null,null,null,null,null,null,{"$f":"P85+N86-O86","v":-1586}]
[null,null,{"$f":"IF(B89>0,B89-B87,0)","v":0},null,{"$f":"SUM(D87:D90)","v":5},null,{"$f":"SUM(F87:F90)","v":0},{"$f":"ROUND(((E88*C88)/2),0)","v":0},null,{"$f":"ROUND(H88*(1+I88),0)","v":0},{"$f":"ROUND(((C88*G88)/2),0)","v":0},{"$f":"$B$2","v":0.2},{"$f":"ROUND(K88*(1+L88),0)","v":0},{"$f":"IF((J88-M88)>0,J88-M88,0)","v":0},{"$f":"IF((M88-J88)>0,M88-J88,0)","v":0}]
[null,11.57,null,0,null,0,null,null,null,null,null,null,null,null,null,{"$f":"P87+N88-O88","v":-1586}]
[null,null,{"$f":"IF(B91>0,B91-B89,0)","v":0},null,{"$f":"SUM(D89:D92)","v":0},null,{"$f":"SUM(F89:F92)","v":0},{"$f":"ROUND(((E90*C90)/2),0)","v":0},null,{"$f":"ROUND(H90*(1+I90),0)","v":0},{"$f":"ROUND(((C90*G90)/2),0)","v":0},{"$f":"$B$2","v":0.2},{"$f":"ROUND(K90*(1+L90),0)","v":0},{"$f":"IF((J90-M90)>0,J90-M90,0)","v":0},{"$f":"IF((M90-J90)>0,M90-J90,0)","v":0}]
["Station 40+00 RT.",0,null,0,null,0,null,null,null,null,null,null,null,null,null,{"$f":"P89+N90-O90","v":-1586}]
[null,null,{"$f":"IF(B93>0,B93-B91,0)","v":2.84},null,{"$f":"SUM(D91:D94)","v":0},null,{"$f":"SUM(F91:F94)","v":4},{"$f":"ROUND(((E92*C92)/2),0)","v":0},null,{"$f":"ROUND(H92*(1+I92),0)","v":0},{"$f":"ROUND(((C92*G92)/2),0)","v":6},{"$f":"$B$2","v":0.2},{"$f":"ROUND(K92*(1+L92),0)","v":7},{"$f":"IF((J92-M92)>0,J92-M92,0)","v":0},{"$f":"IF((M92-J92)>0,M92-J92,0)","v":7}]
[null,2.84,null,0,null,4,null,null,null,null,null,null,null,null,null,{"$f":"P91+N92-O92","v":-1593}]
[null,null,{"$f":"IF(B95>0,B95-B93,0)","v":0.81},null,{"$f":"SUM(D93:D96)","v":0},null,{"$f":"SUM(F93:F96)","v":9},{"$f":"ROUND(((E94*C94)/2),0)","v":0},null,{"$f":"ROUND(H94*(1+I94),0)","v":0},{"$f":"ROUND(((C94*G94)/2),0)","v":4},{"$f":"$B$2","v":0.2},{"$f":"ROUND(K94*(1+L94),0)","v":5},{"$f":"IF((J94-M94)>0,J94-M94,0)","v":0},{"$f":"IF((M94-J94)>0,M94-J94,0)","v":5}]
[null,3.65,null,0,null,5,null,null,null,null,null,null,null,null,null,{"$f":"P93+N94-O94","v":-1598}]
[null,null,{"$f":"IF(B97>0,B97-B95,0)","v":3.0000000000000004},null,{"$f":"SUM(D95:D98)","v":0},null,{"$f":"SUM(F95:F98)","v":11},{"$f":"ROUND(((E96*C96)/2),0)","v":0},null,{"$f":"ROUND(H96*(1+I96),0)","v":0},{"$f":"ROUND(((C96*G96)/2),0)","v":17},{"$f":"$B$2","v":0.2},{"$f":"ROUND(K96*(1+L96),0)","v":20},{"$f":"IF((J96-M96)>0,J96-M96,0)","v":0},{"$f":"IF((M96-J96)>0,M96-J96,0)","v":20}]
[null,6.65,null,0,null,6,null,null,null,null,null,null,null,null,null,{"$f":"P95+N96-O96","v":-1618}]
[null,null,{"$f":"IF(B99>0,B99-B97,0)","v":1.9399999999999995},null,{"$f":"SUM(D97:D100)","v":0},null,{"$f":"SUM(F97:F100)","v":6},{"$f":"ROUND(((E98*C98)/2),0)","v":0},null,{"$f":"ROUND(H98*(1+I98),0)","v":0},{"$f":"ROUND(((C98*G98)/2),0)","v":6},{"$f":"$B$2","v":0.2},{"$f":"ROUND(K98*(1+L98),0)","v":7},{"$f":"IF((J98-M98)>0,J98-M98,0)","v":0},{"$f":"IF((M98-J98)>0,M98-J98,0)","v":7}]
[null,8.59,null,0,null,0,null,null,null,null,null,null,null,null,null,{"$f":"P97+N98-O98","v":-1625}]
[null,null,{"$f":"IF(B101>0,B101-B99,0)","v":0.75999999999999979},null,{"$f":"SUM(D99:D102)","v":5},null,{"$f":"SUM(F99:F102)","v":0},{"$f":"ROUND(((E100*C100)/2),0)","v":2},null,{"$f":"ROUND(H100*(1+I100),0)","v":2},{"$f":"ROUND(((C100*G100)/2),0)","v":0},{"$f":"$B$2","v":0.2},{"$f":"ROUND(K100*(1+L100),0)","v":0},{"$f":"IF((J100-M100)>0,J100-M100,0)","v":2},{"$f":"IF((M100-J100)>0,M100-J100,0)","v":0}]
[null,9.35,null,5,null,0,null,null,null,null,null,null,null,null,null,{"$f":"P99+N100-O100","v":-1623}]
[null,null,{"$f":"IF(B103>0,B103-B101,0)","v":1.4600000000000009},null,{"$f":"SUM(D101:D104)","v":10},null,{"$f":"SUM(F101:F104)","v":0},{"$f":"ROUND(((E102*C102)/2),0)","v":7},null,{"$f":"ROUND(H102*(1+I102),0)","v":7},{"$f":"ROUND(((C102*G102)/2),0)","v":0},{"$f":"$B$2","v":0.2},{"$f":"ROUND(K102*(1+L102),0)","v":0},{"$f":"IF((J102-M102)>0,J102-M102,0)","v":7},{"$f":"IF((M102-J102)>0,M102-J102,0)","v":0}]
[null,10.81,null,5,null,0,null,null,null,null,null,null,null,null,null,{"$f":"P101+N102-O102","v":-1616}]
[null,null,{"$f":"IF(B105>0,B105-B103,0)","v":0},null,{"$f":"SUM(D103:D106)","v":5},null,{"$f":"SUM(F103:F106)","v":0},{"$f":"ROUND(((E104*C104)/2),0)","v":0},null,{"$f":"ROUND(H104*(1+I104),0)","v":0},{"$f":"ROUND(((C104*G104)/2),0)","v":0},{"$f":"$B$2","v":0.2},{"$f":"ROUND(K104*(1+L104),0)","v":0},{"$f":"IF((J104-M104)>0,J104-M104,0)","v":0},{"$f":"IF((M104-J104)>0,M104-J104,0)","v":0}]
[null,10.81,null,0,null,0,null,null,null,null,null,null,null,null,null,{"$f":"P103+N104-O104","v":-1616}]
[null,null,{"$f":"IF(B107>0,B107-B105,0)","v":0},null,{"$f":"SUM(D105:D108)","v":0},null,{"$f":"SUM(F105:F108)","v":0},{"$f":"ROUND(((E106*C106)/2),0)","v":0},null,{"$f":"ROUND(H106*(1+I106),0)","v":0},{"$f":"ROUND(((C106*G106)/2),0)","v":0},{"$f":"$B$2","v":0.2},{"$f":"ROUND(K106*(1+L106),0)","v":0},{"$f":"IF((J106-M106)>0,J106-M106,0)","v":0},{"$f":"IF((M106-J106)>0,M106-J106,0)","v":0}]
["Station 40+00 RT.",0,null,0,null,0,null,null,null,null,null,null,null,null,null,{"$f":"P105+N106-O106","v":-1616}]
[null,null,{"$f":"IF(B109>0,B109-B107,0)","v":2.84},null,{"$f":"SUM(D107:D110)","v":0},null,{"$f":"SUM(F107:F110)","v":4},{"$f":"ROUND(((E108*C108)/2),0)","v":0},null,{"$f":"ROUND(H108*(1+I108),0)","v":0},{"$f":"ROUND(((C108*G108)/2),0)","v":6},{"$f":"$B$2","v":0.2},{"$f":"ROUND(K108*(1+L108),0)","v":7},{"$f":"IF((J108-M108)>0,J108-M108,0)","v":0},{"$f":"IF((M108-J108)>0,M108-J108,0)","v":7}]
[null,2.84,null,0,null,4,null,null,null,null,null,null,null,null,null,{"$f":"P107+N108-O108","v":-1623}]
[null,null,{"$f":"IF(B111>0,B111-B109,0)","v":0.96},null,{"$f":"SUM(D109:D112)","v":0},null,{"$f":"SUM(F109:F112)","v":9},{"$f":"ROUND(((E110*C110)/2),0)","v":0},null,{"$f":"ROUND(H110*(1+I110),0)","v":0},{"$f":"ROUND(((C110*G110)/2),0)","v":4},{"$f":"$B$2","v":0.2},{"$f":"ROUND(K110*(1+L110),0)","v":5},{"$f":"IF((J110-M110)>0,J110-M110,0)","v":0},{"$f":"IF((M110-J110)>0,M110-J110,0)","v":5}]
[null,3.8,null,0,null,5,null,null,null,null,null,null,null,null,null,{"$f":"P109+N110-O110","v":-1628}]
[null,null,{"$f":"IF(B113>0,B113-B111,0)","v":3},null,{"$f":"SUM(D111:D114)","v":0},null,{"$f":"SUM(F111:F114)","v":10},{"$f":"ROUND(((E112*C112)/2),0)","v":0},null,{"$f":"ROUND(H112*(1+I112),0)","v":0},{"$f":"ROUND(((C112*G112)/2),0)","v":15},{"$f":"$B$2","v":0.2},{"$f":"ROUND(K112*(1+L112),0)","v":18},{"$f":"IF((J112-M112)>0,J112-M112,0)","v":0},{"$f":"IF((M112-J112)>0,M112-J112,0)","v":18}]
[null,6.8,null,0,null,5,null,null,null,null,null,null,null,null,null,{"$f":"P111+N112-O112","v":-1646}]
[null,null,{"$f":"IF(B115>0,B115-B113,0)","v":2.0000000000000009},null,{"$f":"SUM(D113:D116)","v":0},null,{"$f":"SUM(F113:F116)","v":5},{"$f":"ROUND(((E114*C114)/2),0)","v":0},null,{"$f":"ROUND(H114*(1+I114),0)","v":0},{"$f":"ROUND(((C114*G114)/2),0)","v":5},{"$f":"$B$2","v":0.2},{"$f":"ROUND(K114*(1+L114),0)","v":6},{"$f":"IF((J114-M114)>0,J114-M114,0)","v":0},{"$f":"IF((M114-J114)>0,M114-J114,0)","v":6}]
[null,8.8000000000000007,null,0,null,0,null,null,null,null,null,null,null,null,null,{"$f":"P113+N114-O114","v":-1652}]
[null,null,{"$f":"IF(B117>0,B117-B115,0)","v":0.27999999999999936},null,{"$f":"SUM(D115:D118)","v":1},null,{"$f":"SUM(F115:F118)","v":0},{"$f":"ROUND(((E116*C116)/2),0)","v":0},null,{"$f":"ROUND(H116*(1+I116),0)","v":0},{"$f":"ROUND(((C116*G116)/2),0)","v":0},{"$f":"$B$2","v":0.2},{"$f":"ROUND(K116*(1+L116),0)","v":0},{"$f":"IF((J116-M116)>0,J116-M116,0)","v":0},{"$f":"IF((M116-J116)>0,M116-J116,0)","v":0}]
[null,9.08,null,1,null,0,null,null,null,null,null,null,null,null,null,{"$f":"P115+N116-O116","v":-1652}]
[null,null,{"$f":"IF(B119>0,B119-B117,0)","v":2.6099999999999994},null,{"$f":"SUM(D117:D120)","v":6},null,{"$f":"SUM(F117:F120)","v":0},{"$f":"ROUND(((E118*C118)/2),0)","v":8},null,{"$f":"ROUND(H118*(1+I118),0)","v":8},{"$f":"ROUND(((C118*G118)/2),0)","v":0},{"$f":"$B$2","v":0.2},{"$f":"ROUND(K118*(1+L118),0)","v":0},{"$f":"IF((J118-M118)>0,J118-M118,0)","v":8},{"$f":"IF((M118-J118)>0,M118-J118,0)","v":0}]
[null,11.69,null,5,null,0,null,null,null,null,null,null,null,null,null,{"$f":"P117+N118-O118","v":-1644}]
[null,null,{"$f":"IF(B121>0,B121-B119,0)","v":0},null,{"$f":"SUM(D119:D122)","v":5},null,{"$f":"SUM(F119:F122)","v":0},{"$f":"ROUND(((E120*C120)/2),0)","v":0},null,{"$f":"ROUND(H120*(1+I120),0)","v":0},{"$f":"ROUND(((C120*G120)/2),0)","v":0},{"$f":"$B$2","v":0.2},{"$f":"ROUND(K120*(1+L120),0)","v":0},{"$f":"IF((J120-M120)>0,J120-M120,0)","v":0},{"$f":"IF((M120-J120)>0,M120-J120,0)","v":0}]
[null,11.69,null,0,null,0,null,null,null,null,null,null,null,null,null,{"$f":"P119+N120-O120","v":-1644}]
[null,null,{"$f":"IF(B123>0,B123-B121,0)","v":0},null,{"$f":"SUM(D121:D124)","v":0},null,{"$f":"SUM(F121:F124)","v":0},{"$f":"ROUND(((E122*C122)/2),0)","v":0},null,{"$f":"ROUND(H122*(1+I122),0)","v":0},{"$f":"ROUND(((C122*G122)/2),0)","v":0},{"$f":"$B$2","v":0.2},{"$f":"ROUND(K122*(1+L122),0)","v":0},{"$f":"IF((J122-M122)>0,J122-M122,0)","v":0},{"$f":"IF((M122-J122)>0,M122-J122,0)","v":0}]
["Station 40+00 RT.",0,null,0,null,0,null,null,null,null,null,null,null,null,null,{"$f":"P121+N122-O122","v":-1644}]
[null,null,{"$f":"IF(B125>0,B125-B123,0)","v":2.84},null,{"$f":"SUM(D123:D126)","v":0},null,{"$f":"SUM(F123:F126)","v":3},{"$f":"ROUND(((E124*C124)/2),0)","v":0},null,{"$f":"ROUND(H124*(1+I124),0)","v":0},{"$f":"ROUND(((C124*G124)/2),0)","v":4},{"$f":"$B$2","v":0.2},{"$f":"ROUND(K124*(1+L124),0)","v":5},{"$f":"IF((J124-M124)>0,J124-M124,0)","v":0},{"$f":"IF((M124-J124)>0,M124-J124,0)","v":5}]
[null,2.84,null,0,null,3,null,null,null,null,null,null,null,null,null,{"$f":"P123+N124-O124","v":-1649}]
[null,null,{"$f":"IF(B127>0,B127-B125,0)","v":6.3900000000000006},null,{"$f":"SUM(D125:D128)","v":0},null,{"$f":"SUM(F125:F128)","v":16},{"$f":"ROUND(((E126*C126)/2),0)","v":0},null,{"$f":"ROUND(H126*(1+I126),0)","v":0},{"$f":"ROUND(((C126*G126)/2),0)","v":51},{"$f":"$B$2","v":0.2},{"$f":"ROUND(K126*(1+L126),0)","v":61},{"$f":"IF((J126-M126)>0,J126-M126,0)","v":0},{"$f":"IF((M126-J126)>0,M126-J126,0)","v":61}]
[null,9.23,null,0,null,13,null,null,null,null,null,null,null,null,null,{"$f":"P125+N126-O126","v":-1710}]
[null,null,1,null,1,null,{"$f":"SUM(F127:F130)","v":26},{"$f":"ROUND(((E128*C128)/2),0)","v":1},null,{"$f":"ROUND(H128*(1+I128),0)","v":1},{"$f":"ROUND(((C128*G128)/2),0)","v":13},0.2,{"$f":"ROUND(K128*(1+L128),0)","v":16},{"$f":"IF((J128-M128)>0,J128-M128,0)","v":0},{"$f":"IF((M128-J128)>0,M128-J128,0)","v":15}]
[null,10.23,null,1,null,13,null,null,null,null,null,null,null,null,null,{"$f":"P127+N128-O128","v":-1725}]
[null,null,1,null,2,null,{"$f":"SUM(F129:F132)","v":27},{"$f":"ROUND(((E130*C130)/2),0)","v":1},null,{"$f":"ROUND(H130*(1+I130),0)","v":1},{"$f":"ROUND(((C130*G130)/2),0)","v":14},0.2,{"$f":"ROUND(K130*(1+L130),0)","v":17},{"$f":"IF((J130-M130)>0,J130-M130,0)","v":0},{"$f":"IF((M130-J130)>0,M130-J130,0)","v":16}]
[null,11.23,null,1,null,14,null,null,null,null,null,null,null,null,null,{"$f":"P129+N130-O130","v":-1741}]
[null,null,17.8,null,1,null,{"$f":"SUM(F131:F134)","v":14},{"$f":"ROUND(((E132*C132)/2),0)","v":9},null,{"$f":"ROUND(H132*(1+I132),0)","v":9},{"$f":"ROUND(((C132*G132)/2),0)","v":125},0.2,{"$f":"ROUND(K132*(1+L132),0)","v":150},{"$f":"IF((J132-M132)>0,J132-M132,0)","v":0},{"$f":"IF((M132-J132)>0,M132-J132,0)","v":141}]
[null,29.03,null,0,null,0,null,null,null,null,null,null,null,null,null,{"$f":"P131+N132-O132","v":-1882}]
[null,null,{"$f":"IF(B135>0,B135-B133,0)","v":3.509999999999998},null,{"$f":"SUM(D133:D136)","v":5},null,{"$f":"SUM(F133:F136)","v":0},{"$f":"ROUND(((E134*C134)/2),0)","v":9},null,{"$f":"ROUND(H134*(1+I134),0)","v":9},{"$f":"ROUND(((C134*G134)/2),0)","v":0},{"$f":"$B$2","v":0.2},{"$f":"ROUND(K134*(1+L134),0)","v":0},{"$f":"IF((J134-M134)>0,J134-M134,0)","v":9},{"$f":"IF((M134-J134)>0,M134-J134,0)","v":0}]
[null,32.54,null,5,null,0,null,null,null,null,null,null,null,null,null,{"$f":"P133+N134-O134","v":-1873}]
[null,null,{"$f":"IF(B137>0,B137-B135,0)","v":0},null,{"$f":"SUM(D135:D138)","v":5},null,{"$f":"SUM(F135:F138)","v":0},{"$f":"ROUND(((E136*C136)/2),0)","v":0},null,{"$f":"ROUND(H136*(1+I136),0)","v":0},{"$f":"ROUND(((C136*G136)/2),0)","v":0},{"$f":"$B$2","v":0.2},{"$f":"ROUND(K136*(1+L136),0)","v":0},{"$f":"IF((J136-M136)>0,J136-M136,0)","v":0},{"$f":"IF((M136-J136)>0,M136-J136,0)","v":0}]
[null,32.54,null,0,null,0,null,null,null,null,null,null,null,null,null,{"$f":"P135+N136-O136","v":-1873}]
[null,null,{"$f":"IF(B139>0,B139-B137,0)","v":0},null,{"$f":"SUM(D137:D140)","v":0},null,{"$f":"SUM(F137:F140)","v":0},{"$f":"ROUND(((E138*C138)/2),0)","v":0},null,{"$f":"ROUND(H138*(1+I138),0)","v":0},{"$f":"ROUND(((C138*G138)/2),0)","v":0},{"$f":"$B$2","v":0.2},{"$f":"ROUND(K138*(1+L138),0)","v":0},{"$f":"IF((J138-M138)>0,J138-M138,0)","v":0},{"$f":"IF((M138-J138)>0,M138-J138,0)","v":0}]
["Station 40+00 RT.",0,null,0,null,0,null,null,null,null,null,null,null,null,null,{"$f":"P137+N138-O138","v":-1873}]
[null,null,{"$f":"IF(B141>0,B141-B139,0)","v":2.84},null,{"$f":"SUM(D139:D142)","v":0},null,{"$f":"SUM(F139:F142)","v":3},{"$f":"ROUND(((E140*C140)/2),0)","v":0},null,{"$f":"ROUND(H140*(1+I140),0)","v":0},{"$f":"ROUND(((C140*G140)/2),0)","v":4},{"$f":"$B$2","v":0.2},{"$f":"ROUND(K140*(1+L140),0)","v":5},{"$f":"IF((J140-M140)>0,J140-M140,0)","v":0},{"$f":"IF((M140-J140)>0,M140-J140,0)","v":5}]
[null,2.84,null,0,null,3,null,null,null,null,null,null,null,null,null,{"$f":"P139+N140-O140","v":-1878}]
[null,null,{"$f":"IF(B143>0,B143-B141,0)","v":1.4000000000000004},null,{"$f":"SUM(D141:D144)","v":0},null,{"$f":"SUM(F141:F144)","v":10},{"$f":"ROUND(((E142*C142)/2),0)","v":0},null,{"$f":"ROUND(H142*(1+I142),0)","v":0},{"$f":"ROUND(((C142*G142)/2),0)","v":7},{"$f":"$B$2","v":0.2},{"$f":"ROUND(K142*(1+L142),0)","v":8},{"$f":"IF((J142-M142)>0,J142-M142,0)","v":0},{"$f":"IF((M142-J142)>0,M142-J142,0)","v":8}]
[null,4.24,null,0,null,7,null,null,null,null,null,null,null,null,null,{"$f":"P141+N142-O142","v":-1886}]
[null,null,{"$f":"IF(B145>0,B145-B143,0)","v":3},null,{"$f":"SUM(D143:D146)","v":0},null,{"$f":"SUM(F143:F146)","v":14},{"$f":"ROUND(((E144*C144)/2),0)","v":0},null,{"$f":"ROUND(H144*(1+I144),0)","v":0},{"$f":"ROUND(((C144*G144)/2),0)","v":21},{"$f":"$B$2","v":0.2},{"$f":"ROUND(K144*(1+L144),0)","v":25},{"$f":"IF((J144-M144)>0,J144-M144,0)","v":0},{"$f":"IF((M144-J144)>0,M144-J144,0)","v":25}]
[null,7.24,null,0,null,7,null,null,null,null,null,null,null,null,null,{"$f":"P143+N144-O144","v":-1911}]
[null,null,{"$f":"IF(B147>0,B147-B145,0)","v":1.5600000000000005},null,{"$f":"SUM(D145:D148)","v":0},null,{"$f":"SUM(F145:F148)","v":9},{"$f":"ROUND(((E146*C146)/2),0)","v":0},null,{"$f":"ROUND(H146*(1+I146),0)","v":0},{"$f":"ROUND(((C146*G146)/2),0)","v":7},{"$f":"$B$2","v":0.2},{"$f":"ROUND(K146*(1+L146),0)","v":8},{"$f":"IF((J146-M146)>0,J146-M146,0)","v":0},{"$f":"IF((M146-J146)>0,M146-J146,0)","v":8}]
[null,8.8000000000000007,null,0,null,2,null,null,null,null,null,null,null,null,null,{"$f":"P145+N146-O146","v":-1919}]
[null,null,{"$f":"IF(B149>0,B149-B147,0)","v":3.129999999999999},null,{"$f":"SUM(D147:D150)","v":0},null,{"$f":"SUM(F147:F150)","v":2},{"$f":"ROUND(((E148*C148)/2),0)","v":0},null,{"$f":"ROUND(H148*(1+I148),0)","v":0},{"$f":"ROUND(((C148*G148)/2),0)","v":3},{"$f":"$B$2","v":0.2},{"$f":"ROUND(K148*(1+L148),0)","v":4},{"$f":"IF((J148-M148)>0,J148-M148,0)","v":0},{"$f":"IF((M148-J148)>0,M148-J148,0)","v":4}]
[null,11.93,null,0,null,0,null,null,null,null,null,null,null,null,null,{"$f":"P147+N148-O148","v":-1923}]
[null,null,{"$f":"IF(B151>0,B151-B149,0)","v":5.52},null,{"$f":"SUM(D149:D152)","v":5},null,{"$f":"SUM(F149:F152)","v":0},{"$f":"ROUND(((E150*C150)/2),0)","v":14},null,{"$f":"ROUND(H150*(1+I150),0)","v":14},{"$f":"ROUND(((C150*G150)/2),0)","v":0},{"$f":"$B$2","v":0.2},{"$f":"ROUND(K150*(1+L150),0)","v":0},{"$f":"IF((J150-M150)>0,J150-M150,0)","v":14},{"$f":"IF((M150-J150)>0,M150-J150,0)","v":0}]
[null,17.45,null,5,null,0,null,null,null,null,null,null,null,null,null,{"$f":"P149+N150-O150","v":-1909}]
[null,null,{"$f":"IF(B153>0,B153-B151,0)","v":0},null,{"$f":"SUM(D151:D154)","v":5},null,{"$f":"SUM(F151:F154)","v":0},{"$f":"ROUND(((E152*C152)/2),0)","v":0},null,{"$f":"ROUND(H152*(1+I152),0)","v":0},{"$f":"ROUND(((C152*G152)/2),0)","v":0},{"$f":"$B$2","v":0.2},{"$f":"ROUND(K152*(1+L152),0)","v":0},{"$f":"IF((J152-M152)>0,J152-M152,0)","v":0},{"$f":"IF((M152-J152)>0,M152-J152,0)","v":0}]
[null,17.45,null,0,null,0,null,null,null,null,null,null,null,null,null,{"$f":"P151+N152-O152","v":-1909}]
[null,null,{"$f":"IF(B155>0,B155-B153,0)","v":0},null,{"$f":"SUM(D153:D156)","v":0},null,{"$f":"SUM(F153:F156)","v":0},{"$f":"ROUND(((E154*C154)/2),0)","v":0},null,{"$f":"ROUND(H154*(1+I154),0)","v":0},{"$f":"ROUND(((C154*G154)/2),0)","v":0},{"$f":"$B$2","v":0.2},{"$f":"ROUND(K154*(1+L154),0)","v":0},{"$f":"IF((J154-M154)>0,J154-M154,0)","v":0},{"$f":"IF((M154-J154)>0,M154-J154,0)","v":0}]
["Station 40+00 RT.",0,null,0,null,0,null,null,null,null,null,null,null,null,null,{"$f":"P153+N154-O154","v":-1909}]
[null,null,{"$f":"IF(B157>0,B157-B155,0)","v":2.84},null,{"$f":"SUM(D155:D158)","v":0},null,{"$f":"SUM(F155:F158)","v":4},{"$f":"ROUND(((E156*C156)/2),0)","v":0},null,{"$f":"ROUND(H156*(1+I156),0)","v":0},{"$f":"ROUND(((C156*G156)/2),0)","v":6},{"$f":"$B$2","v":0.2},{"$f":"ROUND(K156*(1+L156),0)","v":7},{"$f":"IF((J156-M156)>0,J156-M156,0)","v":0},{"$f":"IF((M156-J156)>0,M156-J156,0)","v":7}]
[null,2.84,null,0,null,4,null,null,null,null,null,null,null,null,null,{"$f":"P155+N156-O156","v":-1916}]
[null,null,{"$f":"IF(B159>0,B159-B157,0)","v":1.3100000000000005},null,{"$f":"SUM(D157:D160)","v":0},null,{"$f":"SUM(F157:F160)","v":9},{"$f":"ROUND(((E158*C158)/2),0)","v":0},null,{"$f":"ROUND(H158*(1+I158),0)","v":0},{"$f":"ROUND(((C158*G158)/2),0)","v":6},{"$f":"$B$2","v":0.2},{"$f":"ROUND(K158*(1+L158),0)","v":7},{"$f":"IF((J158-M158)>0,J158-M158,0)","v":0},{"$f":"IF((M158-J158)>0,M158-J158,0)","v":7}]
[null,4.1500000000000004,null,0,null,5,null,null,null,null,null,null,null,null,null,{"$f":"P157+N158-O158","v":-1923}]
[null,null,{"$f":"IF(B161>0,B161-B159,0)","v":3},null,{"$f":"SUM(D159:D162)","v":0},null,{"$f":"SUM(F159:F162)","v":10},{"$f":"ROUND(((E160*C160)/2),0)","v":0},null,{"$f":"ROUND(H160*(1+I160),0)","v":0},{"$f":"ROUND(((C160*G160)/2),0)","v":15},{"$f":"$B$2","v":0.2},{"$f":"ROUND(K160*(1+L160),0)","v":18},{"$f":"IF((J160-M160)>0,J160-M160,0)","v":0},{"$f":"IF((M160-J160)>0,M160-J160,0)","v":18}]
[null,7.15,null,0,null,5,null,null,null,null,null,null,null,null,null,{"$f":"P159+N160-O160","v":-1941}]
[null,null,{"$f":"IF(B163>0,B163-B161,0)","v":1.1799999999999997},null,{"$f":"SUM(D161:D164)","v":0},null,{"$f":"SUM(F161:F164)","v":7},{"$f":"ROUND(((E162*C162)/2),0)","v":0},null,{"$f":"ROUND(H162*(1+I162),0)","v":0},{"$f":"ROUND(((C162*G162)/2),0)","v":4},{"$f":"$B$2","v":0.2},{"$f":"ROUND(K162*(1+L162),0)","v":5},{"$f":"IF((J162-M162)>0,J162-M162,0)","v":0},{"$f":"IF((M162-J162)>0,M162-J162,0)","v":5}]
[null,8.33,null,0,null,2,null,null,null,null,null,null,null,null,null,{"$f":"P161+N162-O162","v":-1946}]
[null,null,{"$f":"IF(B165>0,B165-B163,0)","v":8.3600000000000012},null,{"$f":"SUM(D163:D166)","v":0},null,{"$f":"SUM(F163:F166)","v":2},{"$f":"ROUND(((E164*C164)/2),0)","v":0},null,{"$f":"ROUND(H164*(1+I164),0)","v":0},{"$f":"ROUND(((C164*G164)/2),0)","v":8},{"$f":"$B$2","v":0.2},{"$f":"ROUND(K164*(1+L164),0)","v":10},{"$f":"IF((J164-M164)>0,J164-M164,0)","v":0},{"$f":"IF((M164-J164)>0,M164-J164,0)","v":10}]
[null,16.690000000000001,null,0,null,0,null,null,null,null,null,null,null,null,null,{"$f":"P163+N164-O164","v":-1956}]
[null,null,{"$f":"IF(B167>0,B167-B165,0)","v":3.4499999999999993},null,{"$f":"SUM(D165:D168)","v":5},null,{"$f":"SUM(F165:F168)","v":0},{"$f":"ROUND(((E166*C166)/2),0)","v":9},null,{"$f":"ROUND(H166*(1+I166),0)","v":9},{"$f":"ROUND(((C166*G166)/2),0)","v":0},{"$f":"$B$2","v":0.2},{"$f":"ROUND(K166*(1+L166),0)","v":0},{"$f":"IF((J166-M166)>0,J166-M166,0)","v":9},{"$f":"IF((M166-J166)>0,M166-J166,0)","v":0}]
[null,20.14,null,5,null,0,null,null,null,null,null,null,null,null,null,{"$f":"P165+N166-O166","v":-1947}]
[null,null,{"$f":"IF(B169>0,B169-B167,0)","v":0},null,{"$f":"SUM(D167:D170)","v":5},null,{"$f":"SUM(F167:F170)","v":0},{"$f":"ROUND(((E168*C168)/2),0)","v":0},null,{"$f":"ROUND(H168*(1+I168),0)","v":0},{"$f":"ROUND(((C168*G168)/2),0)","v":0},{"$f":"$B$2","v":0.2},{"$f":"ROUND(K168*(1+L168),0)","v":0},{"$f":"IF((J168-M168)>0,J168-M168,0)","v":0},{"$f":"IF((M168-J168)>0,M168-J168,0)","v":0}]
[null,20.14,null,0,null,0,null,null,null,null,null,null,null,null,null,{"$f":"P167+N168-O168","v":-1947}]
[null,null,{"$f":"IF(B171>0,B171-B169,0)","v":0},null,{"$f":"SUM(D169:D172)","v":0},null,{"$f":"SUM(F169:F172)","v":0},{"$f":"ROUND(((E170*C170)/2),0)","v":0},null,{"$f":"ROUND(H170*(1+I170),0)","v":0},{"$f":"ROUND(((C170*G170)/2),0)","v":0},{"$f":"$B$2","v":0.2},{"$f":"ROUND(K170*(1+L170),0)","v":0},{"$f":"IF((J170-M170)>0,J170-M170,0)","v":0},{"$f":"IF((M170-J170)>0,M170-J170,0)","v":0}]
["Station 40+00 RT.",0,null,0,null,0,null,null,null,null,null,null,null,null,null,{"$f":"P169+N170-O170","v":-1947}]
[null,null,{"$f":"IF(B173>0,B173-B171,0)","v":3.23},null,{"$f":"SUM(D171:D174)","v":0},null,{"$f":"SUM(F171:F174)","v":4},{"$f":"ROUND(((E172*C172)/2),0)","v":0},null,{"$f":"ROUND(H172*(1+I172),0)","v":0},{"$f":"ROUND(((C172*G172)/2),0)","v":6},{"$f":"$B$2","v":0.2},{"$f":"ROUND(K172*(1+L172),0)","v":7},{"$f":"IF((J172-M172)>0,J172-M172,0)","v":0},{"$f":"IF((M172-J172)>0,M172-J172,0)","v":7}]
[null,3.23,null,0,null,4,null,null,null,null,null,null,null,null,null,{"$f":"P171+N172-O172","v":-1954}]
[null,null,{"$f":"IF(B175>0,B175-B173,0)","v":14.099999999999998},null,{"$f":"SUM(D173:D176)","v":0},null,{"$f":"SUM(F173:F176)","v":4},{"$f":"ROUND(((E174*C174)/2),0)","v":0},null,{"$f":"ROUND(H174*(1+I174),0)","v":0},{"$f":"ROUND(((C174*G174)/2),0)","v":28},{"$f":"$B$2","v":0.2},{"$f":"ROUND(K174*(1+L174),0)","v":34},{"$f":"IF((J174-M174)>0,J174-M174,0)","v":0},{"$f":"IF((M174-J174)>0,M174-J174,0)","v":34}]
[null,17.329999999999998,null,0,null,0,null,null,null,null,null,null,null,null,null,{"$f":"P173+N174-O174","v":-1988}]
[null,null,{"$f":"IF(B177>0,B177-B175,0)","v":5.490000000000002},null,{"$f":"SUM(D175:D178)","v":5},null,{"$f":"SUM(F175:F178)","v":0},{"$f":"ROUND(((E176*C176)/2),0)","v":14},null,{"$f":"ROUND(H176*(1+I176),0)","v":14},{"$f":"ROUND(((C176*G176)/2),0)","v":0},{"$f":"$B$2","v":0.2},{"$f":"ROUND(K176*(1+L176),0)","v":0},{"$f":"IF((J176-M176)>0,J176-M176,0)","v":14},{"$f":"IF((M176-J176)>0,M176-J176,0)","v":0}]
[null,22.82,null,5,null,0,null,null,null,null,null,null,null,null,null,{"$f":"P175+N176-O176","v":-1974}]
[null,null,{"$f":"IF(B179>0,B179-B177,0)","v":0},null,{"$f":"SUM(D177:D180)","v":5},null,{"$f":"SUM(F177:F180)","v":0},{"$f":"ROUND(((E178*C178)/2),0)","v":0},null,{"$f":"ROUND(H178*(1+I178),0)","v":0},{"$f":"ROUND(((C178*G178)/2),0)","v":0},{"$f":"$B$2","v":0.2},{"$f":"ROUND(K178*(1+L178),0)","v":0},{"$f":"IF((J178-M178)>0,J178-M178,0)","v":0},{"$f":"IF((M178-J178)>0,M178-J178,0)","v":0}]
[null,22.82,null,0,null,0,null,null,null,null,null,null,null,null,null,{"$f":"P177+N178-O178","v":-1974}]
[null,null,{"$f":"IF(B181>0,B181-B179,0)","v":0},null,{"$f":"SUM(D179:D182)","v":0},null,{"$f":"SUM(F179:F182)","v":0},{"$f":"ROUND(((E180*C180)/2),0)","v":0},null,{"$f":"ROUND(H180*(1+I180),0)","v":0},{"$f":"ROUND(((C180*G180)/2),0)","v":0},{"$f":"$B$2","v":0.2},{"$f":"ROUND(K180*(1+L180),0)","v":0},{"$f":"IF((J180-M180)>0,J180-M180,0)","v":0},{"$f":"IF((M180-J180)>0,M180-J180,0)","v":0}]
["Station 40+00 RT.",0,null,0,null,0,null,null,null,null,null,null,null,null,null,{"$f":"P179+N180-O180","v":-1974}]
[null,null,{"$f":"IF(B183>0,B183-B181,0)","v":2.84},null,{"$f":"SUM(D181:D184)","v":0},null,{"$f":"SUM(F181:F184)","v":4},{"$f":"ROUND(((E182*C182)/2),0)","v":0},null,{"$f":"ROUND(H182*(1+I182),0)","v":0},{"$f":"ROUND(((C182*G182)/2),0)","v":6},{"$f":"$B$2","v":0.2},{"$f":"ROUND(K182*(1+L182),0)","v":7},{"$f":"IF((J182-M182)>0,J182-M182,0)","v":0},{"$f":"IF((M182-J182)>0,M182-J182,0)","v":7}]
[null,2.84,null,0,null,4,null,null,null,null,null,null,null,null,null,{"$f":"P181+N182-O182","v":-1981}]
[null,null,{"$f":"IF(B185>0,B185-B183,0)","v":2.1799999999999997},null,{"$f":"SUM(D183:D186)","v":0},null,{"$f":"SUM(F183:F186)","v":12},{"$f":"ROUND(((E184*C184)/2),0)","v":0},null,{"$f":"ROUND(H184*(1+I184),0)","v":0},{"$f":"ROUND(((C184*G184)/2),0)","v":13},{"$f":"$B$2","v":0.2},{"$f":"ROUND(K184*(1+L184),0)","v":16},{"$f":"IF((J184-M184)>0,J184-M184,0)","v":0},{"$f":"IF((M184-J184)>0,M184-J184,0)","v":16}]
[null,5.0199999999999996,null,0,null,8,null,null,null,null,null,null,null,null,null,{"$f":"P183+N184-O184","v":-1997}]
[null,null,{"$f":"IF(B187>0,B187-B185,0)","v":5.75},null,{"$f":"SUM(D185:D188)","v":0},null,{"$f":"SUM(F185:F188)","v":8},{"$f":"ROUND(((E186*C186)/2),0)","v":0},null,{"$f":"ROUND(H186*(1+I186),0)","v":0},{"$f":"ROUND(((C186*G186)/2),0)","v":23},{"$f":"$B$2","v":0.2},{"$f":"ROUND(K186*(1+L186),0)","v":28},{"$f":"IF((J186-M186)>0,J186-M186,0)","v":0},{"$f":"IF((M186-J186)>0,M186-J186,0)","v":28}]
[null,10.77,null,0,null,0,null,null,null,null,null,null,null,null,null,{"$f":"P185+N186-O186","v":-2025}]
[null,null,{"$f":"IF(B189>0,B189-B187,0)","v":0},null,{"$f":"SUM(D187:D190)","v":0},null,{"$f":"SUM(F187:F190)","v":0},{"$f":"ROUND(((E188*C188)/2),0)","v":0},null,{"$f":"ROUND(H188*(1+I188),0)","v":0},{"$f":"ROUND(((C188*G188)/2),0)","v":0},{"$f":"$B$2","v":0.2},{"$f":"ROUND(K188*(1+L188),0)","v":0},{"$f":"IF((J188-M188)>0,J188-M188,0)","v":0},{"$f":"IF((M188-J188)>0,M188-J188,0)","v":0}]
[null,10.77,null,0,null,0,null,null,null,null,null,null,null,null,null,{"$f":"P187+N188-O188","v":-2025}]
[null,null,{"$f":"IF(B191>0,B191-B189,0)","v":0},null,{"$f":"SUM(D189:D192)","v":0},null,{"$f":"SUM(F189:F192)","v":0},{"$f":"ROUND(((E190*C190)/2),0)","v":0},null,{"$f":"ROUND(H190*(1+I190),0)","v":0},{"$f":"ROUND(((C190*G190)/2),0)","v":0},{"$f":"$B$2","v":0.2},{"$f":"ROUND(K190*(1+L190),0)","v":0},{"$f":"IF((J190-M190)>0,J190-M190,0)","v":0},{"$f":"IF((M190-J190)>0,M190-J190,0)","v":0}]
["Station 40+00 RT.",0,null,0,null,0,null,null,null,null,null,null,null,null,null,{"$f":"P189+N190-O190","v":-2025}]
[null,null,{"$f":"IF(B193>0,B193-B191,0)","v":3.01},null,{"$f":"SUM(D191:D194)","v":0},null,{"$f":"SUM(F191:F194)","v":4},{"$f":"ROUND(((E192*C192)/2),0)","v":0},null,{"$f":"ROUND(H192*(1+I192),0)","v":0},{"$f":"ROUND(((C192*G192)/2),0)","v":6},{"$f":"$B$2","v":0.2},{"$f":"ROUND(K192*(1+L192),0)","v":7},{"$f":"IF((J192-M192)>0,J192-M192,0)","v":0},{"$f":"IF((M192-J192)>0,M192-J192,0)","v":7}]
[null,3.01,null,0,null,4,null,null,null,null,null,null,null,null,null,{"$f":"P191+N192-O192","v":-2032}]
[null,null,{"$f":"IF(B195>0,B195-B193,0)","v":4.21},null,{"$f":"SUM(D193:D196)","v":0},null,{"$f":"SUM(F193:F196)","v":17},{"$f":"ROUND(((E194*C194)/2),0)","v":0},null,{"$f":"ROUND(H194*(1+I194),0)","v":0},{"$f":"ROUND(((C194*G194)/2),0)","v":36},{"$f":"$B$2","v":0.2},{"$f":"ROUND(K194*(1+L194),0)","v":43},{"$f":"IF((J194-M194)>0,J194-M194,0)","v":0},{"$f":"IF((M194-J194)>0,M194-J194,0)","v":43}]
[null,7.22,null,0,null,13,null,null,null,null,null,null,null,null,null,{"$f":"P193+N194-O194","v":-2075}]
[null,null,{"$f":"IF(B197>0,B197-B195,0)","v":1.6900000000000004},null,{"$f":"SUM(D195:D198)","v":0},null,{"$f":"SUM(F195:F198)","v":13},{"$f":"ROUND(((E196*C196)/2),0)","v":0},null,{"$f":"ROUND(H196*(1+I196),0)","v":0},{"$f":"ROUND(((C196*G196)/2),0)","v":11},{"$f":"$B$2","v":0.2},{"$f":"ROUND(K196*(1+L196),0)","v":13},{"$f":"IF((J196-M196)>0,J196-M196,0)","v":0},{"$f":"IF((M196-J196)>0,M196-J196,0)","v":13}]
[null,8.91,null,0,null,0,null,null,null,null,null,null,null,null,null,{"$f":"P195+N196-O196","v":-2088}]
[null,null,{"$f":"IF(B199>0,B199-B197,0)","v":1.7799999999999994},null,{"$f":"SUM(D197:D200)","v":5},null,{"$f":"SUM(F197:F200)","v":0},{"$f":"ROUND(((E198*C198)/2),0)","v":4},null,{"$f":"ROUND(H198*(1+I198),0)","v":4},{"$f":"ROUND(((C198*G198)/2),0)","v":0},{"$f":"$B$2","v":0.2},{"$f":"ROUND(K198*(1+L198),0)","v":0},{"$f":"IF((J198-M198)>0,J198-M198,0)","v":4},{"$f":"IF((M198-J198)>0,M198-J198,0)","v":0}]
[null,10.69,null,5,null,0,null,null,null,null,null,null,null,null,null,{"$f":"P197+N198-O198","v":-2084}]
[null,null,{"$f":"IF(B201>0,B201-B199,0)","v":0},null,{"$f":"SUM(D199:D202)","v":5},null,{"$f":"SUM(F199:F202)","v":0},{"$f":"ROUND(((E200*C200)/2),0)","v":0},null,{"$f":"ROUND(H200*(1+I200),0)","v":0},{"$f":"ROUND(((C200*G200)/2),0)","v":0},{"$f":"$B$2","v":0.2},{"$f":"ROUND(K200*(1+L200),0)","v":0},{"$f":"IF((J200-M200)>0,J200-M200,0)","v":0},{"$f":"IF((M200-J200)>0,M200-J200,0)","v":0}]
[null,10.69,null,0,null,0,null,null,null,null,null,null,null,null,null,{"$f":"P199+N200-O200","v":-2084}]
[null,null,{"$f":"IF(B203>0,B203-B201,0)","v":0},null,{"$f":"SUM(D201:D204)","v":0},null,{"$f":"SUM(F201:F204)","v":0},{"$f":"ROUND(((E202*C202)/2),0)","v":0},null,{"$f":"ROUND(H202*(1+I202),0)","v":0},{"$f":"ROUND(((C202*G202)/2),0)","v":0},{"$f":"$B$2","v":0.2},{"$f":"ROUND(K202*(1+L202),0)","v":0},{"$f":"IF((J202-M202)>0,J202-M202,0)","v":0},{"$f":"IF((M202-J202)>0,M202-J202,0)","v":0}]
["Station 40+00 RT.",0,null,0,null,0,null,null,null,null,null,null,null,null,null,{"$f":"P201+N202-O202","v":-2084}]
[null,null,{"$f":"IF(B205>0,B205-B203,0)","v":2.84},null,{"$f":"SUM(D203:D206)","v":0},null,{"$f":"SUM(F203:F206)","v":3},{"$f":"ROUND(((E204*C204)/2),0)","v":0},null,{"$f":"ROUND(H204*(1+I204),0)","v":0},{"$f":"ROUND(((C204*G204)/2),0)","v":4},{"$f":"$B$2","v":0.2},{"$f":"ROUND(K204*(1+L204),0)","v":5},{"$f":"IF((J204-M204)>0,J204-M204,0)","v":0},{"$f":"IF((M204-J204)>0,M204-J204,0)","v":5}]
[null,2.84,null,0,null,3,null,null,null,null,null,null,null,null,null,{"$f":"P203+N204-O204","v":-2089}]
[null,null,{"$f":"IF(B207>0,B207-B205,0)","v":2.1100000000000003},null,{"$f":"SUM(D205:D208)","v":0},null,{"$f":"SUM(F205:F208)","v":10},{"$f":"ROUND(((E206*C206)/2),0)","v":0},null,{"$f":"ROUND(H206*(1+I206),0)","v":0},{"$f":"ROUND(((C206*G206)/2),0)","v":11},{"$f":"$B$2","v":0.2},{"$f":"ROUND(K206*(1+L206),0)","v":13},{"$f":"IF((J206-M206)>0,J206-M206,0)","v":0},{"$f":"IF((M206-J206)>0,M206-J206,0)","v":13}]
[null,4.95,null,0,null,7,null,null,null,null,null,null,null,null,null,{"$f":"P205+N206-O206","v":-2102}]
[null,null,{"$f":"IF(B209>0,B209-B207,0)","v":3.0199999999999996},null,{"$f":"SUM(D207:D210)","v":0},null,{"$f":"SUM(F207:F210)","v":11},{"$f":"ROUND(((E208*C208)/2),0)","v":0},null,{"$f":"ROUND(H208*(1+I208),0)","v":0},{"$f":"ROUND(((C208*G208)/2),0)","v":17},{"$f":"$B$2","v":0.2},{"$f":"ROUND(K208*(1+L208),0)","v":20},{"$f":"IF((J208-M208)>0,J208-M208,0)","v":0},{"$f":"IF((M208-J208)>0,M208-J208,0)","v":20}]
[null,7.97,null,0,null,4,null,null,null,null,null,null,null,null,null,{"$f":"P207+N208-O208","v":-2122}]
[null,null,{"$f":"IF(B211>0,B211-B209,0)","v":3.0900000000000007},null,{"$f":"SUM(D209:D212)","v":0},null,{"$f":"SUM(F209:F212)","v":4},{"$f":"ROUND(((E210*C210)/2),0)","v":0},null,{"$f":"ROUND(H210*(1+I210),0)","v":0},{"$f":"ROUND(((C210*G210)/2),0)","v":6},{"$f":"$B$2","v":0.2},{"$f":"ROUND(K210*(1+L210),0)","v":7},{"$f":"IF((J210-M210)>0,J210-M210,0)","v":0},{"$f":"IF((M210-J210)>0,M210-J210,0)","v":7}]
[null,11.06,null,0,null,0,null,null,null,null,null,null,null,null,null,{"$f":"P209+N210-O210","v":-2129}]
[null,null,{"$f":"IF(B213>0,B213-B211,0)","v":5.7799999999999994},null,{"$f":"SUM(D211:D214)","v":5},null,{"$f":"SUM(F211:F214)","v":0},{"$f":"ROUND(((E212*C212)/2),0)","v":14},null,{"$f":"ROUND(H212*(1+I212),0)","v":14},{"$f":"ROUND(((C212*G212)/2),0)","v":0},{"$f":"$B$2","v":0.2},{"$f":"ROUND(K212*(1+L212),0)","v":0},{"$f":"IF((J212-M212)>0,J212-M212,0)","v":14},{"$f":"IF((M212-J212)>0,M212-J212,0)","v":0}]
[null,16.84,null,5,null,0,null,null,null,null,null,null,null,null,null,{"$f":"P211+N212-O212","v":-2115}]
[null,null,{"$f":"IF(B215>0,B215-B213,0)","v":0},null,{"$f":"SUM(D213:D216)","v":5},null,{"$f":"SUM(F213:F216)","v":0},{"$f":"ROUND(((E214*C214)/2),0)","v":0},null,{"$f":"ROUND(H214*(1+I214),0)","v":0},{"$f":"ROUND(((C214*G214)/2),0)","v":0},{"$f":"$B$2","v":0.2},{"$f":"ROUND(K214*(1+L214),0)","v":0},{"$f":"IF((J214-M214)>0,J214-M214,0)","v":0},{"$f":"IF((M214-J214)>0,M214-J214,0)","v":0}]
[null,16.84,null,0,null,0,null,null,null,null,null,null,null,null,null,{"$f":"P213+N214-O214","v":-2115}]
[null,null,{"$f":"IF(B217>0,B217-B215,0)","v":0},null,{"$f":"SUM(D215:D218)","v":0},null,{"$f":"SUM(F215:F218)","v":0},{"$f":"ROUND(((E216*C216)/2),0)","v":0},null,{"$f":"ROUND(H216*(1+I216),0)","v":0},{"$f":"ROUND(((C216*G216)/2),0)","v":0},{"$f":"$B$2","v":0.2},{"$f":"ROUND(K216*(1+L216),0)","v":0},{"$f":"IF((J216-M216)>0,J216-M216,0)","v":0},{"$f":"IF((M216-J216)>0,M216-J216,0)","v":0}]
["Station 40+00 RT.",0,null,0,null,0,null,null,null,null,null,null,null,null,null,{"$f":"P215+N216-O216","v":-2115}]
[null,null,{"$f":"IF(B219>0,B219-B217,0)","v":4.6399999999999997},null,{"$f":"SUM(D217:D220)","v":0},null,{"$f":"SUM(F217:F220)","v":7},{"$f":"ROUND(((E218*C218)/2),0)","v":0},null,{"$f":"ROUND(H218*(1+I218),0)","v":0},{"$f":"ROUND(((C218*G218)/2),0)","v":16},{"$f":"$B$2","v":0.2},{"$f":"ROUND(K218*(1+L218),0)","v":19},{"$f":"IF((J218-M218)>0,J218-M218,0)","v":0},{"$f":"IF((M218-J218)>0,M218-J218,0)","v":19}]
[null,4.6399999999999997,null,0,null,7,null,null,null,null,null,null,null,null,null,{"$f":"P217+N218-O218","v":-2134}]
[null,null,{"$f":"IF(B221>0,B221-B219,0)","v":12.21},null,{"$f":"SUM(D219:D222)","v":0},null,{"$f":"SUM(F219:F222)","v":7},{"$f":"ROUND(((E220*C220)/2),0)","v":0},null,{"$f":"ROUND(H220*(1+I220),0)","v":0},{"$f":"ROUND(((C220*G220)/2),0)","v":43},{"$f":"$B$2","v":0.2},{"$f":"ROUND(K220*(1+L220),0)","v":52},{"$f":"IF((J220-M220)>0,J220-M220,0)","v":0},{"$f":"IF((M220-J220)>0,M220-J220,0)","v":52}]
[null,16.850000000000001,null,0,null,0,null,null,null,null,null,null,null,null,null,{"$f":"P219+N220-O220","v":-2186}]
[null,null,{"$f":"IF(B223>0,B223-B221,0)","v":4.7699999999999996},null,{"$f":"SUM(D221:D224)","v":5},null,{"$f":"SUM(F221:F224)","v":0},{"$f":"ROUND(((E222*C222)/2),0)","v":12},null,{"$f":"ROUND(H222*(1+I222),0)","v":12},{"$f":"ROUND(((C222*G222)/2),0)","v":0},{"$f":"$B$2","v":0.2},{"$f":"ROUND(K222*(1+L222),0)","v":0},{"$f":"IF((J222-M222)>0,J222-M222,0)","v":12},{"$f":"IF((M222-J222)>0,M222-J222,0)","v":0}]
[null,21.62,null,5,null,0,null,null,null,null,null,null,null,null,null,{"$f":"P221+N222-O222","v":-2174}]
[null,null,{"$f":"IF(B225>0,B225-B223,0)","v":0},null,{"$f":"SUM(D223:D226)","v":5},null,{"$f":"SUM(F223:F226)","v":0},{"$f":"ROUND(((E224*C224)/2),0)","v":0},null,{"$f":"ROUND(H224*(1+I224),0)","v":0},{"$f":"ROUND(((C224*G224)/2),0)","v":0},{"$f":"$B$2","v":0.2},{"$f":"ROUND(K224*(1+L224),0)","v":0},{"$f":"IF((J224-M224)>0,J224-M224,0)","v":0},{"$f":"IF((M224-J224)>0,M224-J224,0)","v":0}]
[null,21.62,null,0,null,0,null,null,null,null,null,null,null,null,null,{"$f":"P223+N224-O224","v":-2174}]
[null,null,{"$f":"IF(B227>0,B227-B225,0)","v":0},null,{"$f":"SUM(D225:D228)","v":0},null,{"$f":"SUM(F225:F228)","v":0},{"$f":"ROUND(((E226*C226)/2),0)","v":0},null,{"$f":"ROUND(H226*(1+I226),0)","v":0},{"$f":"ROUND(((C226*G226)/2),0)","v":0},{"$f":"$B$2","v":0.2},{"$f":"ROUND(K226*(1+L226),0)","v":0},{"$f":"IF((J226-M226)>0,J226-M226,0)","v":0},{"$f":"IF((M226-J226)>0,M226-J226,0)","v":0}]
["Station 40+00 RT.",0,null,0,null,0,null,null,null,null,null,null,null,null,null,{"$f":"P225+N226-O226","v":-2174}]
[null,null,{"$f":"IF(B229>0,B229-B227,0)","v":2.84},null,{"$f":"SUM(D227:D230)","v":0},null,{"$f":"SUM(F227:F230)","v":3},{"$f":"ROUND(((E228*C228)/2),0)","v":0},null,{"$f":"ROUND(H228*(1+I228),0)","v":0},{"$f":"ROUND(((C228*G228)/2),0)","v":4},{"$f":"$B$2","v":0.2},{"$f":"ROUND(K228*(1+L228),0)","v":5},{"$f":"IF((J228-M228)>0,J228-M228,0)","v":0},{"$f":"IF((M228-J228)>0,M228-J228,0)","v":5}]
[null,2.84,null,0,null,3,null,null,null,null,null,null,null,null,null,{"$f":"P227+N228-O228","v":-2179}]
[null,null,{"$f":"IF(B231>0,B231-B229,0)","v":2.63},null,{"$f":"SUM(D229:D232)","v":0},null,{"$f":"SUM(F229:F232)","v":12},{"$f":"ROUND(((E230*C230)/2),0)","v":0},null,{"$f":"ROUND(H230*(1+I230),0)","v":0},{"$f":"ROUND(((C230*G230)/2),0)","v":16},{"$f":"$B$2","v":0.2},{"$f":"ROUND(K230*(1+L230),0)","v":19},{"$f":"IF((J230-M230)>0,J230-M230,0)","v":0},{"$f":"IF((M230-J230)>0,M230-J230,0)","v":19}]
[null,5.47,null,0,null,9,null,null,null,null,null,null,null,null,null,{"$f":"P229+N230-O230","v":-2198}]
[null,null,{"$f":"IF(B233>0,B233-B231,0)","v":3.0000000000000009},null,{"$f":"SUM(D231:D234)","v":0},null,{"$f":"SUM(F231:F234)","v":18},{"$f":"ROUND(((E232*C232)/2),0)","v":0},null,{"$f":"ROUND(H232*(1+I232),0)","v":0},{"$f":"ROUND(((C232*G232)/2),0)","v":27},{"$f":"$B$2","v":0.2},{"$f":"ROUND(K232*(1+L232),0)","v":32},{"$f":"IF((J232-M232)>0,J232-M232,0)","v":0},{"$f":"IF((M232-J232)>0,M232-J232,0)","v":32}]
[null,8.4700000000000006,null,0,null,9,null,null,null,null,null,null,null,null,null,{"$f":"P231+N232-O232","v":-2230}]
[null,null,{"$f":"IF(B235>0,B235-B233,0)","v":1.8699999999999992},null,{"$f":"SUM(D233:D236)","v":0},null,{"$f":"SUM(F233:F236)","v":11},{"$f":"ROUND(((E234*C234)/2),0)","v":0},null,{"$f":"ROUND(H234*(1+I234),0)","v":0},{"$f":"ROUND(((C234*G234)/2),0)","v":10},{"$f":"$B$2","v":0.2},{"$f":"ROUND(K234*(1+L234),0)","v":12},{"$f":"IF((J234-M234)>0,J234-M234,0)","v":0},{"$f":"IF((M234-J234)>0,M234-J234,0)","v":12}]
[null,10.34,null,0,null,2,null,null,null,null,null,null,null,null,null,{"$f":"P233+N234-O234","v":-2242}]
[null,null,{"$f":"IF(B237>0,B237-B235,0)","v":4.1400000000000006},null,{"$f":"SUM(D235:D238)","v":0},null,{"$f":"SUM(F235:F238)","v":2},{"$f":"ROUND(((E236*C236)/2),0)","v":0},null,{"$f":"ROUND(H236*(1+I236),0)","v":0},{"$f":"ROUND(((C236*G236)/2),0)","v":4},{"$f":"$B$2","v":0.2},{"$f":"ROUND(K236*(1+L236),0)","v":5},{"$f":"IF((J236-M236)>0,J236-M236,0)","v":0},{"$f":"IF((M236-J236)>0,M236-J236,0)","v":5}]
[null,14.48,null,0,null,0,null,null,null,null,null,null,null,null,null,{"$f":"P235+N236-O236","v":-2247}]
[null,null,{"$f":"IF(B239>0,B239-B237,0)","v":11.849999999999998},null,{"$f":"SUM(D237:D240)","v":5},null,{"$f":"SUM(F237:F240)","v":0},{"$f":"ROUND(((E238*C238)/2),0)","v":30},null,{"$f":"ROUND(H238*(1+I238),0)","v":30},{"$f":"ROUND(((C238*G238)/2),0)","v":0},{"$f":"$B$2","v":0.2},{"$f":"ROUND(K238*(1+L238),0)","v":0},{"$f":"IF((J238-M238)>0,J238-M238,0)","v":30},{"$f":"IF((M238-J238)>0,M238-J238,0)","v":0}]
[null,26.33,null,5,null,0,null,null,null,null,null,null,null,null,null,{"$f":"P237+N238-O238","v":-2217}]
[null,null,{"$f":"IF(B241>0,B241-B239,0)","v":0},null,{"$f":"SUM(D239:D242)","v":5},null,{"$f":"SUM(F239:F242)","v":0},{"$f":"ROUND(((E240*C240)/2),0)","v":0},null,{"$f":"ROUND(H240*(1+I240),0)","v":0},{"$f":"ROUND(((C240*G240)/2),0)","v":0},{"$f":"$B$2","v":0.2},{"$f":"ROUND(K240*(1+L240),0)","v":0},{"$f":"IF((J240-M240)>0,J240-M240,0)","v":0},{"$f":"IF((M240-J240)>0,M240-J240,0)","v":0}]
[null,26.33,null,0,null,0,null,null,null,null,null,null,null,null,null,{"$f":"P239+N240-O240","v":-2217}]
[null,null,{"$f":"IF(B243>0,B243-B241,0)","v":0},null,{"$f":"SUM(D241:D244)","v":0},null,{"$f":"SUM(F241:F244)","v":0},{"$f":"ROUND(((E242*C242)/2),0)","v":0},null,{"$f":"ROUND(H242*(1+I242),0)","v":0},{"$f":"ROUND(((C242*G242)/2),0)","v":0},{"$f":"$B$2","v":0.2},{"$f":"ROUND(K242*(1+L242),0)","v":0},{"$f":"IF((J242-M242)>0,J242-M242,0)","v":0},{"$f":"IF((M242-J242)>0,M242-J242,0)","v":0}]
["Station 40+00 RT.",0,null,0,null,0,null,null,null,null,null,null,null,null,null,{"$f":"P241+N242-O242","v":-2217}]
[null,null,{"$f":"IF(B245>0,B245-B243,0)","v":3.16},null,{"$f":"SUM(D243:D246)","v":0},null,{"$f":"SUM(F243:F246)","v":4},{"$f":"ROUND(((E244*C244)/2),0)","v":0},null,{"$f":"ROUND(H244*(1+I244),0)","v":0},{"$f":"ROUND(((C244*G244)/2),0)","v":6},{"$f":"$B$2","v":0.2},{"$f":"ROUND(K244*(1+L244),0)","v":7},{"$f":"IF((J244-M244)>0,J244-M244,0)","v":0},{"$f":"IF((M244-J244)>0,M244-J244,0)","v":7}]
[null,3.16,null,0,null,4,null,null,null,null,null,null,null,null,null,{"$f":"P243+N244-O244","v":-2224}]
[null,null,{"$f":"IF(B247>0,B247-B245,0)","v":0.43999999999999995},null,{"$f":"SUM(D245:D248)","v":0},null,{"$f":"SUM(F245:F248)","v":9},{"$f":"ROUND(((E246*C246)/2),0)","v":0},null,{"$f":"ROUND(H246*(1+I246),0)","v":0},{"$f":"ROUND(((C246*G246)/2),0)","v":2},{"$f":"$B$2","v":0.2},{"$f":"ROUND(K246*(1+L246),0)","v":2},{"$f":"IF((J246-M246)>0,J246-M246,0)","v":0},{"$f":"IF((M246-J246)>0,M246-J246,0)","v":2}]
[null,3.6,null,0,null,5,null,null,null,null,null,null,null,null,null,{"$f":"P245+N246-O246","v":-2226}]
[null,null,{"$f":"IF(B249>0,B249-B247,0)","v":2.9999999999999996},null,{"$f":"SUM(D247:D250)","v":0},null,{"$f":"SUM(F247:F250)","v":10},{"$f":"ROUND(((E248*C248)/2),0)","v":0},null,{"$f":"ROUND(H248*(1+I248),0)","v":0},{"$f":"ROUND(((C248*G248)/2),0)","v":15},{"$f":"$B$2","v":0.2},{"$f":"ROUND(K248*(1+L248),0)","v":18},{"$f":"IF((J248-M248)>0,J248-M248,0)","v":0},{"$f":"IF((M248-J248)>0,M248-J248,0)","v":18}]
[null,6.6,null,0,null,5,null,null,null,null,null,null,null,null,null,{"$f":"P247+N248-O248","v":-2244}]
[null,null,{"$f":"IF(B251>0,B251-B249,0)","v":2.0099999999999998},null,{"$f":"SUM(D249:D252)","v":0},null,{"$f":"SUM(F249:F252)","v":5},{"$f":"ROUND(((E250*C250)/2),0)","v":0},null,{"$f":"ROUND(H250*(1+I250),0)","v":0},{"$f":"ROUND(((C250*G250)/2),0)","v":5},{"$f":"$B$2","v":0.2},{"$f":"ROUND(K250*(1+L250),0)","v":6},{"$f":"IF((J250-M250)>0,J250-M250,0)","v":0},{"$f":"IF((M250-J250)>0,M250-J250,0)","v":6}]
[null,8.61,null,0,null,0,null,null,null,null,null,null,null,null,null,{"$f":"P249+N250-O250","v":-2250}]
[null,null,{"$f":"IF(B253>0,B253-B251,0)","v":0.17999999999999972},null,{"$f":"SUM(D251:D254)","v":1},null,{"$f":"SUM(F251:F254)","v":0},{"$f":"ROUND(((E252*C252)/2),0)","v":0},null,{"$f":"ROUND(H252*(1+I252),0)","v":0},{"$f":"ROUND(((C252*G252)/2),0)","v":0},{"$f":"$B$2","v":0.2},{"$f":"ROUND(K252*(1+L252),0)","v":0},{"$f":"IF((J252-M252)>0,J252-M252,0)","v":0},{"$f":"IF((M252-J252)>0,M252-J252,0)","v":0}]
[null,8.7899999999999991,null,1,null,0,null,null,null,null,null,null,null,null,null,{"$f":"P251+N252-O252","v":-2250}]
[null,null,{"$f":"IF(B255>0,B255-B253,0)","v":19.010000000000002},null,{"$f":"SUM(D253:D256)","v":4},null,{"$f":"SUM(F253:F256)","v":0},{"$f":"ROUND(((E254*C254)/2),0)","v":38},null,{"$f":"ROUND(H254*(1+I254),0)","v":38},{"$f":"ROUND(((C254*G254)/2),0)","v":0},{"$f":"$B$2","v":0.2},{"$f":"ROUND(K254*(1+L254),0)","v":0},{"$f":"IF((J254-M254)>0,J254-M254,0)","v":38},{"$f":"IF((M254-J254)>0,M254-J254,0)","v":0}]
[null,27.8,null,3,null,0,null,null,null,null,null,null,null,null,null,{"$f":"P253+N254-O254","v":-2212}]
[null,null,{"$f":"IF(B257>0,B257-B255,0)","v":0},null,{"$f":"SUM(D255:D258)","v":3},null,{"$f":"SUM(F255:F258)","v":0},{"$f":"ROUND(((E256*C256)/2),0)","v":0},null,{"$f":"ROUND(H256*(1+I256),0)","v":0},{"$f":"ROUND(((C256*G256)/2),0)","v":0},{"$f":"$B$2","v":0.2},{"$f":"ROUND(K256*(1+L256),0)","v":0},{"$f":"IF((J256-M256)>0,J256-M256,0)","v":0},{"$f":"IF((M256-J256)>0,M256-J256,0)","v":0}]
[null,27.8,null,0,null,0,null,null,null,null,null,null,null,null,null,{"$f":"P255+N256-O256","v":-2212}]
[null,null,{"$f":"IF(B259>0,B259-B257,0)","v":0},null,{"$f":"SUM(D257:D260)","v":0},null,{"$f":"SUM(F257:F260)","v":0},{"$f":"ROUND(((E258*C258)/2),0)","v":0},null,{"$f":"ROUND(H258*(1+I258),0)","v":0},{"$f":"ROUND(((C258*G258)/2),0)","v":0},{"$f":"$B$2","v":0.2},{"$f":"ROUND(K258*(1+L258),0)","v":0},{"$f":"IF((J258-M258)>0,J258-M258,0)","v":0},{"$f":"IF((M258-J258)>0,M258-J258,0)","v":0}]
["Station 40+00 RT.",0,null,0,null,0,null,null,null,null,null,null,null,null,null,{"$f":"P257+N258-O258","v":-2212}]
[null,null,{"$f":"IF(B261>0,B261-B259,0)","v":2.84},null,{"$f":"SUM(D259:D262)","v":0},null,{"$f":"SUM(F259:F262)","v":4},{"$f":"ROUND(((E260*C260)/2),0)","v":0},null,{"$f":"ROUND(H260*(1+I260),0)","v":0},{"$f":"ROUND(((C260*G260)/2),0)","v":6},{"$f":"$B$2","v":0.2},{"$f":"ROUND(K260*(1+L260),0)","v":7},{"$f":"IF((J260-M260)>0,J260-M260,0)","v":0},{"$f":"IF((M260-J260)>0,M260-J260,0)","v":7}]
[null,2.84,null,0,null,4,null,null,null,null,null,null,null,null,null,{"$f":"P259+N260-O260","v":-2219}]
[null,null,{"$f":"IF(B263>0,B263-B261,0)","v":0.66000000000000014},null,{"$f":"SUM(D261:D264)","v":0},null,{"$f":"SUM(F261:F264)","v":10},{"$f":"ROUND(((E262*C262)/2),0)","v":0},null,{"$f":"ROUND(H262*(1+I262),0)","v":0},{"$f":"ROUND(((C262*G262)/2),0)","v":3},{"$f":"$B$2","v":0.2},{"$f":"ROUND(K262*(1+L262),0)","v":4},{"$f":"IF((J262-M262)>0,J262-M262,0)","v":0},{"$f":"IF((M262-J262)>0,M262-J262,0)","v":4}]
[null,3.5,null,0,null,6,null,null,null,null,null,null,null,null,null,{"$f":"P261+N262-O262","v":-2223}]
[null,null,{"$f":"IF(B265>0,B265-B263,0)","v":3},null,{"$f":"SUM(D263:D266)","v":0},null,{"$f":"SUM(F263:F266)","v":12},{"$f":"ROUND(((E264*C264)/2),0)","v":0},null,{"$f":"ROUND(H264*(1+I264),0)","v":0},{"$f":"ROUND(((C264*G264)/2),0)","v":18},{"$f":"$B$2","v":0.2},{"$f":"ROUND(K264*(1+L264),0)","v":22},{"$f":"IF((J264-M264)>0,J264-M264,0)","v":0},{"$f":"IF((M264-J264)>0,M264-J264,0)","v":22}]
[null,6.5,null,0,null,6,null,null,null,null,null,null,null,null,null,{"$f":"P263+N264-O264","v":-2245}]
[null,null,{"$f":"IF(B267>0,B267-B265,0)","v":1},null,{"$f":"SUM(D265:D268)","v":0},null,{"$f":"SUM(F265:F268)","v":6},{"$f":"ROUND(((E266*C266)/2),0)","v":0},null,{"$f":"ROUND(H266*(1+I266),0)","v":0},{"$f":"ROUND(((C266*G266)/2),0)","v":3},{"$f":"$B$2","v":0.2},{"$f":"ROUND(K266*(1+L266),0)","v":4},{"$f":"IF((J266-M266)>0,J266-M266,0)","v":0},{"$f":"IF((M266-J266)>0,M266-J266,0)","v":4}]
[null,7.5,null,0,null,0,null,null,null,null,null,null,null,null,null,{"$f":"P265+N266-O266","v":-2249}]
[null,null,{"$f":"IF(B269>0,B269-B267,0)","v":0.90000000000000036},null,{"$f":"SUM(D267:D270)","v":6},null,{"$f":"SUM(F267:F270)","v":0},{"$f":"ROUND(((E268*C268)/2),0)","v":3},null,{"$f":"ROUND(H268*(1+I268),0)","v":3},{"$f":"ROUND(((C268*G268)/2),0)","v":0},{"$f":"$B$2","v":0.2},{"$f":"ROUND(K268*(1+L268),0)","v":0},{"$f":"IF((J268-M268)>0,J268-M268,0)","v":3},{"$f":"IF((M268-J268)>0,M268-J268,0)","v":0}]
[null,8.4,null,6,null,0,null,null,null,null,null,null,null,null,null,{"$f":"P267+N268-O268","v":-2246}]
[null,null,{"$f":"IF(B271>0,B271-B269,0)","v":0},null,{"$f":"SUM(D269:D272)","v":6},null,{"$f":"SUM(F269:F272)","v":0},{"$f":"ROUND(((E270*C270)/2),0)","v":0},null,{"$f":"ROUND(H270*(1+I270),0)","v":0},{"$f":"ROUND(((C270*G270)/2),0)","v":0},{"$f":"$B$2","v":0.2},{"$f":"ROUND(K270*(1+L270),0)","v":0},{"$f":"IF((J270-M270)>0,J270-M270,0)","v":0},{"$f":"IF((M270-J270)>0,M270-J270,0)","v":0}]
[null,8.4,null,0,null,0,null,null,null,null,null,null,null,null,null,{"$f":"P269+N270-O270","v":-2246}]
[null,null,{"$f":"IF(B273>0,B273-B271,0)","v":0},null,{"$f":"SUM(D271:D274)","v":0},null,{"$f":"SUM(F271:F274)","v":0},{"$f":"ROUND(((E272*C272)/2),0)","v":0},null,{"$f":"ROUND(H272*(1+I272),0)","v":0},{"$f":"ROUND(((C272*G272)/2),0)","v":0},{"$f":"$B$2","v":0.2},{"$f":"ROUND(K272*(1+L272),0)","v":0},{"$f":"IF((J272-M272)>0,J272-M272,0)","v":0},{"$f":"IF((M272-J272)>0,M272-J272,0)","v":0}]
["Station 40+00 RT.",0,null,0,null,0,null,null,null,null,null,null,null,null,null,{"$f":"P271+N272-O272","v":-2246}]
[null,null,{"$f":"IF(B275>0,B275-B273,0)","v":2.0699999999999998},null,{"$f":"SUM(D273:D276)","v":0},null,{"$f":"SUM(F273:F276)","v":4},{"$f":"ROUND(((E274*C274)/2),0)","v":0},null,{"$f":"ROUND(H274*(1+I274),0)","v":0},{"$f":"ROUND(((C274*G274)/2),0)","v":4},{"$f":"$B$2","v":0.2},{"$f":"ROUND(K274*(1+L274),0)","v":5},{"$f":"IF((J274-M274)>0,J274-M274,0)","v":0},{"$f":"IF((M274-J274)>0,M274-J274,0)","v":5}]
[null,2.0699999999999998,null,0,null,4,null,null,null,null,null,null,null,null,null,{"$f":"P273+N274-O274","v":-2251}]
[null,null,{"$f":"IF(B277>0,B277-B275,0)","v":0.32000000000000028},null,{"$f":"SUM(D275:D278)","v":0},null,{"$f":"SUM(F275:F278)","v":9},{"$f":"ROUND(((E276*C276)/2),0)","v":0},null,{"$f":"ROUND(H276*(1+I276),0)","v":0},{"$f":"ROUND(((C276*G276)/2),0)","v":1},{"$f":"$B$2","v":0.2},{"$f":"ROUND(K276*(1+L276),0)","v":1},{"$f":"IF((J276-M276)>0,J276-M276,0)","v":0},{"$f":"IF((M276-J276)>0,M276-J276,0)","v":1}]
[null,2.39,null,0,null,5,null,null,null,null,null,null,null,null,null,{"$f":"P275+N276-O276","v":-2252}]
[null,null,{"$f":"IF(B279>0,B279-B277,0)","v":2.9999999999999996},null,{"$f":"SUM(D277:D280)","v":0},null,{"$f":"SUM(F277:F280)","v":10},{"$f":"ROUND(((E278*C278)/2),0)","v":0},null,{"$f":"ROUND(H278*(1+I278),0)","v":0},{"$f":"ROUND(((C278*G278)/2),0)","v":15},{"$f":"$B$2","v":0.2},{"$f":"ROUND(K278*(1+L278),0)","v":18},{"$f":"IF((J278-M278)>0,J278-M278,0)","v":0},{"$f":"IF((M278-J278)>0,M278-J278,0)","v":18}]
[null,5.39,null,0,null,5,null,null,null,null,null,null,null,null,null,{"$f":"P277+N278-O278","v":-2270}]
[null,null,{"$f":"IF(B281>0,B281-B279,0)","v":1.3200000000000003},null,{"$f":"SUM(D279:D282)","v":0},null,{"$f":"SUM(F279:F282)","v":7},{"$f":"ROUND(((E280*C280)/2),0)","v":0},null,{"$f":"ROUND(H280*(1+I280),0)","v":0},{"$f":"ROUND(((C280*G280)/2),0)","v":5},{"$f":"$B$2","v":0.2},{"$f":"ROUND(K280*(1+L280),0)","v":6},{"$f":"IF((J280-M280)>0,J280-M280,0)","v":0},{"$f":"IF((M280-J280)>0,M280-J280,0)","v":6}]
[null,6.71,null,0,null,2,null,null,null,null,null,null,null,null,null,{"$f":"P279+N280-O280","v":-2276}]
[null,null,{"$f":"IF(B283>0,B283-B281,0)","v":4.12},null,{"$f":"SUM(D281:D284)","v":0},null,{"$f":"SUM(F281:F284)","v":2},{"$f":"ROUND(((E282*C282)/2),0)","v":0},null,{"$f":"ROUND(H282*(1+I282),0)","v":0},{"$f":"ROUND(((C282*G282)/2),0)","v":4},{"$f":"$B$2","v":0.2},{"$f":"ROUND(K282*(1+L282),0)","v":5},{"$f":"IF((J282-M282)>0,J282-M282,0)","v":0},{"$f":"IF((M282-J282)>0,M282-J282,0)","v":5}]
[null,10.83,null,0,null,0,null,null,null,null,null,null,null,null,null,{"$f":"P281+N282-O282","v":-2281}]
[null,null,{"$f":"IF(B285>0,B285-B283,0)","v":5.2000000000000011},null,{"$f":"SUM(D283:D286)","v":3},null,{"$f":"SUM(F283:F286)","v":0},{"$f":"ROUND(((E284*C284)/2),0)","v":8},null,{"$f":"ROUND(H284*(1+I284),0)","v":8},{"$f":"ROUND(((C284*G284)/2),0)","v":0},{"$f":"$B$2","v":0.2},{"$f":"ROUND(K284*(1+L284),0)","v":0},{"$f":"IF((J284-M284)>0,J284-M284,0)","v":8},{"$f":"IF((M284-J284)>0,M284-J284,0)","v":0}]
[null,16.03,null,3,null,0,null,null,null,null,null,null,null,null,null,{"$f":"P283+N284-O284","v":-2273}]
[null,null,{"$f":"IF(B287>0,B287-B285,0)","v":0},null,{"$f":"SUM(D285:D288)","v":3},null,{"$f":"SUM(F285:F288)","v":0},{"$f":"ROUND(((E286*C286)/2),0)","v":0},null,{"$f":"ROUND(H286*(1+I286),0)","v":0},{"$f":"ROUND(((C286*G286)/2),0)","v":0},{"$f":"$B$2","v":0.2},{"$f":"ROUND(K286*(1+L286),0)","v":0},{"$f":"IF((J286-M286)>0,J286-M286,0)","v":0},{"$f":"IF((M286-J286)>0,M286-J286,0)","v":0}]
[null,16.03,null,0,null,0,null,null,null,null,null,null,null,null,null,{"$f":"P285+N286-O286","v":-2273}]
[null,null,{"$f":"IF(B289>0,B289-B287,0)","v":0},null,{"$f":"SUM(D287:D290)","v":0},null,{"$f":"SUM(F287:F290)","v":0},{"$f":"ROUND(((E288*C288)/2),0)","v":0},null,{"$f":"ROUND(H288*(1+I288),0)","v":0},{"$f":"ROUND(((C288*G288)/2),0)","v":0},{"$f":"$B$2","v":0.2},{"$f":"ROUND(K288*(1+L288),0)","v":0},{"$f":"IF((J288-M288)>0,J288-M288,0)","v":0},{"$f":"IF((M288-J288)>0,M288-J288,0)","v":0}]
["Station 40+00 RT.",0,null,0,null,0,null,null,null,null,null,null,null,null,null,{"$f":"P287+N288-O288","v":-2273}]
[null,null,{"$f":"IF(B291>0,B291-B289,0)","v":3.16},null,{"$f":"SUM(D289:D292)","v":0},null,{"$f":"SUM(F289:F292)","v":4},{"$f":"ROUND(((E290*C290)/2),0)","v":0},null,{"$f":"ROUND(H290*(1+I290),0)","v":0},{"$f":"ROUND(((C290*G290)/2),0)","v":6},{"$f":"$B$2","v":0.2},{"$f":"ROUND(K290*(1+L290),0)","v":7},{"$f":"IF((J290-M290)>0,J290-M290,0)","v":0},{"$f":"IF((M290-J290)>0,M290-J290,0)","v":7}]
[null,3.16,null,0,null,4,null,null,null,null,null,null,null,null,null,{"$f":"P289+N290-O290","v":-2280}]
[null,null,{"$f":"IF(B293>0,B293-B291,0)","v":1},null,{"$f":"SUM(D291:D294)","v":0},null,{"$f":"SUM(F291:F294)","v":11},{"$f":"ROUND(((E292*C292)/2),0)","v":0},null,{"$f":"ROUND(H292*(1+I292),0)","v":0},{"$f":"ROUND(((C292*G292)/2),0)","v":6},{"$f":"$B$2","v":0.2},{"$f":"ROUND(K292*(1+L292),0)","v":7},{"$f":"IF((J292-M292)>0,J292-M292,0)","v":0},{"$f":"IF((M292-J292)>0,M292-J292,0)","v":7}]
[null,4.16,null,0,null,7,null,null,null,null,null,null,null,null,null,{"$f":"P291+N292-O292","v":-2287}]
[null,null,{"$f":"IF(B295>0,B295-B293,0)","v":2.54},null,{"$f":"SUM(D293:D296)","v":0},null,{"$f":"SUM(F293:F296)","v":7},{"$f":"ROUND(((E294*C294)/2),0)","v":0},null,{"$f":"ROUND(H294*(1+I294),0)","v":0},{"$f":"ROUND(((C294*G294)/2),0)","v":9},{"$f":"$B$2","v":0.2},{"$f":"ROUND(K294*(1+L294),0)","v":11},{"$f":"IF((J294-M294)>0,J294-M294,0)","v":0},{"$f":"IF((M294-J294)>0,M294-J294,0)","v":11}]
[null,6.7,null,0,null,0,null,null,null,null,null,null,null,null,null,{"$f":"P293+N294-O294","v":-2298}]
[null,null,{"$f":"IF(B297>0,B297-B295,0)","v":16.080000000000002},null,{"$f":"SUM(D295:D298)","v":6},null,{"$f":"SUM(F295:F298)","v":0},{"$f":"ROUND(((E296*C296)/2),0)","v":48},null,{"$f":"ROUND(H296*(1+I296),0)","v":48},{"$f":"ROUND(((C296*G296)/2),0)","v":0},{"$f":"$B$2","v":0.2},{"$f":"ROUND(K296*(1+L296),0)","v":0},{"$f":"IF((J296-M296)>0,J296-M296,0)","v":48},{"$f":"IF((M296-J296)>0,M296-J296,0)","v":0}]
[null,22.78,null,6,null,0,null,null,null,null,null,null,null,null,null,{"$f":"P295+N296-O296","v":-2250}]
[null,null,{"$f":"IF(B299>0,B299-B297,0)","v":0},null,{"$f":"SUM(D297:D300)","v":6},null,{"$f":"SUM(F297:F300)","v":0},{"$f":"ROUND(((E298*C298)/2),0)","v":0},null,{"$f":"ROUND(H298*(1+I298),0)","v":0},{"$f":"ROUND(((C298*G298)/2),0)","v":0},{"$f":"$B$2","v":0.2},{"$f":"ROUND(K298*(1+L298),0)","v":0},{"$f":"IF((J298-M298)>0,J298-M298,0)","v":0},{"$f":"IF((M298-J298)>0,M298-J298,0)","v":0}]
[null,22.78,null,0,null,0,null,null,null,null,null,null,null,null,null,{"$f":"P297+N298-O298","v":-2250}]
[null,null,{"$f":"IF(B301>0,B301-B299,0)","v":0},null,{"$f":"SUM(D299:D302)","v":0},null,{"$f":"SUM(F299:F302)","v":0},{"$f":"ROUND(((E300*C300)/2),0)","v":0},null,{"$f":"ROUND(H300*(1+I300),0)","v":0},{"$f":"ROUND(((C300*G300)/2),0)","v":0},{"$f":"$B$2","v":0.2},{"$f":"ROUND(K300*(1+L300),0)","v":0},{"$f":"IF((J300-M300)>0,J300-M300,0)","v":0},{"$f":"IF((M300-J300)>0,M300-J300,0)","v":0}]
["Station 40+00 RT.",0,null,0,null,0,null,null,null,null,null,null,null,null,null,{"$f":"P299+N300-O300","v":-2250}]
[null,null,{"$f":"IF(B303>0,B303-B301,0)","v":4.6100000000000003},null,{"$f":"SUM(D301:D304)","v":0},null,{"$f":"SUM(F301:F304)","v":15},{"$f":"ROUND(((E302*C302)/2),0)","v":0},null,{"$f":"ROUND(H302*(1+I302),0)","v":0},{"$f":"ROUND(((C302*G302)/2),0)","v":35},{"$f":"$B$2","v":0.2},{"$f":"ROUND(K302*(1+L302),0)","v":42},{"$f":"IF((J302-M302)>0,J302-M302,0)","v":0},{"$f":"IF((M302-J302)>0,M302-J302,0)","v":42}]
[null,4.6100000000000003,null,0,null,15,null,null,null,null,null,null,null,null,null,{"$f":"P301+N302-O302","v":-2292}]
[null,null,{"$f":"IF(B305>0,B305-B303,0)","v":1.0499999999999998},null,{"$f":"SUM(D303:D306)","v":0},null,{"$f":"SUM(F303:F306)","v":30},{"$f":"ROUND(((E304*C304)/2),0)","v":0},null,{"$f":"ROUND(H304*(1+I304),0)","v":0},{"$f":"ROUND(((C304*G304)/2),0)","v":16},{"$f":"$B$2","v":0.2},{"$f":"ROUND(K304*(1+L304),0)","v":19},{"$f":"IF((J304-M304)>0,J304-M304,0)","v":0},{"$f":"IF((M304-J304)>0,M304-J304,0)","v":19}]
[null,5.66,null,0,null,15,null,null,null,null,null,null,null,null,null,{"$f":"P303+N304-O304","v":-2311}]
[null,null,{"$f":"IF(B307>0,B307-B305,0)","v":0.5},null,{"$f":"SUM(D305:D308)","v":0},null,{"$f":"SUM(F305:F308)","v":28},{"$f":"ROUND(((E306*C306)/2),0)","v":0},null,{"$f":"ROUND(H306*(1+I306),0)","v":0},{"$f":"ROUND(((C306*G306)/2),0)","v":7},{"$f":"$B$2","v":0.2},{"$f":"ROUND(K306*(1+L306),0)","v":8},{"$f":"IF((J306-M306)>0,J306-M306,0)","v":0},{"$f":"IF((M306-J306)>0,M306-J306,0)","v":8}]
[null,6.16,null,0,null,13,null,null,null,null,null,null,null,null,null,{"$f":"P305+N306-O306","v":-2319}]
[null,null,{"$f":"IF(B309>0,B309-B307,0)","v":11.93},null,{"$f":"SUM(D307:D310)","v":0},null,{"$f":"SUM(F307:F310)","v":13},{"$f":"ROUND(((E308*C308)/2),0)","v":0},null,{"$f":"ROUND(H308*(1+I308),0)","v":0},{"$f":"ROUND(((C308*G308)/2),0)","v":78},{"$f":"$B$2","v":0.2},{"$f":"ROUND(K308*(1+L308),0)","v":94},{"$f":"IF((J308-M308)>0,J308-M308,0)","v":0},{"$f":"IF((M308-J308)>0,M308-J308,0)","v":94}]
[null,18.09,null,0,null,0,null,null,null,null,null,null,null,null,null,{"$f":"P307+N308-O308","v":-2413}]
[null,null,{"$f":"IF(B311>0,B311-B309,0)","v":0},null,{"$f":"SUM(D309:D312)","v":0},null,{"$f":"SUM(F309:F312)","v":0},{"$f":"ROUND(((E310*C310)/2),0)","v":0},null,{"$f":"ROUND(H310*(1+I310),0)","v":0},{"$f":"ROUND(((C310*G310)/2),0)","v":0},{"$f":"$B$2","v":0.2},{"$f":"ROUND(K310*(1+L310),0)","v":0},{"$f":"IF((J310-M310)>0,J310-M310,0)","v":0},{"$f":"IF((M310-J310)>0,M310-J310,0)","v":0}]
[null,18.09,null,0,null,0,null,null,null,null,null,null,null,null,null,{"$f":"P309+N310-O310","v":-2413}]
[null,null,{"$f":"IF(B313>0,B313-B311,0)","v":0},null,{"$f":"SUM(D311:D314)","v":0},null,{"$f":"SUM(F311:F314)","v":0},{"$f":"ROUND(((E312*C312)/2),0)","v":0},null,{"$f":"ROUND(H312*(1+I312),0)","v":0},{"$f":"ROUND(((C312*G312)/2),0)","v":0},{"$f":"$B$2","v":0.2},{"$f":"ROUND(K312*(1+L312),0)","v":0},{"$f":"IF((J312-M312)>0,J312-M312,0)","v":0},{"$f":"IF((M312-J312)>0,M312-J312,0)","v":0}]
["Station 40+00 RT.",0,null,0,null,0,null,null,null,null,null,null,null,null,null,{"$f":"P311+N312-O312","v":-2413}]
[null,null,{"$f":"IF(B315>0,B315-B313,0)","v":4.16},null,{"$f":"SUM(D313:D316)","v":0},null,{"$f":"SUM(F313:F316)","v":7},{"$f":"ROUND(((E314*C314)/2),0)","v":0},null,{"$f":"ROUND(H314*(1+I314),0)","v":0},{"$f":"ROUND(((C314*G314)/2),0)","v":15},{"$f":"$B$2","v":0.2},{"$f":"ROUND(K314*(1+L314),0)","v":18},{"$f":"IF((J314-M314)>0,J314-M314,0)","v":0},{"$f":"IF((M314-J314)>0,M314-J314,0)","v":18}]
[null,4.16,null,0,null,7,null,null,null,null,null,null,null,null,null,{"$f":"P313+N314-O314","v":-2431}]
[null,null,{"$f":"IF(B317>0,B317-B315,0)","v":0.79999999999999982},null,{"$f":"SUM(D315:D318)","v":0},null,{"$f":"SUM(F315:F318)","v":14},{"$f":"ROUND(((E316*C316)/2),0)","v":0},null,{"$f":"ROUND(H316*(1+I316),0)","v":0},{"$f":"ROUND(((C316*G316)/2),0)","v":6},{"$f":"$B$2","v":0.2},{"$f":"ROUND(K316*(1+L316),0)","v":7},{"$f":"IF((J316-M316)>0,J316-M316,0)","v":0},{"$f":"IF((M316-J316)>0,M316-J316,0)","v":7}]
[null,4.96,null,0,null,7,null,null,null,null,null,null,null,null,null,{"$f":"P315+N316-O316","v":-2438}]
[null,null,{"$f":"IF(B319>0,B319-B317,0)","v":0.70000000000000018},null,{"$f":"SUM(D317:D320)","v":0},null,{"$f":"SUM(F317:F320)","v":14},{"$f":"ROUND(((E318*C318)/2),0)","v":0},null,{"$f":"ROUND(H318*(1+I318),0)","v":0},{"$f":"ROUND(((C318*G318)/2),0)","v":5},{"$f":"$B$2","v":0.2},{"$f":"ROUND(K318*(1+L318),0)","v":6},{"$f":"IF((J318-M318)>0,J318-M318,0)","v":0},{"$f":"IF((M318-J318)>0,M318-J318,0)","v":6}]
[null,5.66,null,0,null,7,null,null,null,null,null,null,null,null,null,{"$f":"P317+N318-O318","v":-2444}]
[null,null,{"$f":"IF(B321>0,B321-B319,0)","v":8.4700000000000006},null,{"$f":"SUM(D319:D322)","v":0},null,{"$f":"SUM(F319:F322)","v":7},{"$f":"ROUND(((E320*C320)/2),0)","v":0},null,{"$f":"ROUND(H320*(1+I320),0)","v":0},{"$f":"ROUND(((C320*G320)/2),0)","v":30},{"$f":"$B$2","v":0.2},{"$f":"ROUND(K320*(1+L320),0)","v":36},{"$f":"IF((J320-M320)>0,J320-M320,0)","v":0},{"$f":"IF((M320-J320)>0,M320-J320,0)","v":36}]
[null,14.13,null,0,null,0,null,null,null,null,null,null,null,null,null,{"$f":"P319+N320-O320","v":-2480}]
[null,null,{"$f":"IF(B323>0,B323-B321,0)","v":0},null,{"$f":"SUM(D321:D324)","v":0},null,{"$f":"SUM(F321:F324)","v":0},{"$f":"ROUND(((E322*C322)/2),0)","v":0},null,{"$f":"ROUND(H322*(1+I322),0)","v":0},{"$f":"ROUND(((C322*G322)/2),0)","v":0},{"$f":"$B$2","v":0.2},{"$f":"ROUND(K322*(1+L322),0)","v":0},{"$f":"IF((J322-M322)>0,J322-M322,0)","v":0},{"$f":"IF((M322-J322)>0,M322-J322,0)","v":0}]
[null,14.13,null,0,null,0,null,null,null,null,null,null,null,null,null,{"$f":"P321+N322-O322","v":-2480}]
[null,null,{"$f":"IF(B325>0,B325-B323,0)","v":0},null,{"$f":"SUM(D323:D326)","v":0},null,{"$f":"SUM(F323:F326)","v":0},{"$f":"ROUND(((E324*C324)/2),0)","v":0},null,{"$f":"ROUND(H324*(1+I324),0)","v":0},{"$f":"ROUND(((C324*G324)/2),0)","v":0},null,{"$f":"ROUND(K324*(1+L324),0)","v":0},{"$f":"IF((J324-M324)>0,J324-M324,0)","v":0},{"$f":"IF((M324-J324)>0,M324-J324,0)","v":0}]
[null,null,null,null,null,null,null,null,null,null,null,null,null,null,null,{"$f":"P323+N324-O324","v":-2480}]
[null,null,{"$f":"IF(B327>0,B327-B325,0)","v":0},null,{"$f":"SUM(D325:D328)","v":0},null,{"$f":"SUM(F325:F328)","v":0},{"$f":"ROUND(((E326*C326)/2),0)","v":0},null,{"$f":"ROUND(H326*(1+I326),0)","v":0},{"$f":"ROUND(((C326*G326)/2),0)","v":0},null,{"$f":"ROUND(K326*(1+L326),0)","v":0},{"$f":"IF((J326-M326)>0,J326-M326,0)","v":0},{"$f":"IF((M326-J326)>0,M326-J326,0)","v":0}]
[null,null,null,null,null,null,null,null,null,null,null,null,null,null,null,{"$f":"P325+N326-O326","v":-2480}]
[null,null,{"$f":"IF(B329>0,B329-B327,0)","v":0},null,{"$f":"SUM(D327:D330)","v":0},null,{"$f":"SUM(F327:F330)","v":0},{"$f":"ROUND(((E328*C328)/2),0)","v":0},null,{"$f":"ROUND(H328*(1+I328),0)","v":0},{"$f":"ROUND(((C328*G328)/2),0)","v":0},null,{"$f":"ROUND(K328*(1+L328),0)","v":0},{"$f":"IF((J328-M328)>0,J328-M328,0)","v":0},{"$f":"IF((M328-J328)>0,M328-J328,0)","v":0}]
[null,null,null,null,null,null,null,null,null,null,null,null,null,null,null,{"$f":"P327+N328-O328","v":-2480}]
[null,null,{"$f":"IF(B331>0,B331-B329,0)","v":0},null,{"$f":"SUM(D329:D332)","v":0},null,{"$f":"SUM(F329:F332)","v":0},{"$f":"ROUND(((E330*C330)/2),0)","v":0},null,{"$f":"ROUND(H330*(1+I330),0)","v":0},{"$f":"ROUND(((C330*G330)/2),0)","v":0},null,{"$f":"ROUND(K330*(1+L330),0)","v":0},{"$f":"IF((J330-M330)>0,J330-M330,0)","v":0},{"$f":"IF((M330-J330)>0,M330-J330,0)","v":0}]
[null,null,null,null,null,null,null,null,null,null,null,null,null,null,null,{"$f":"P329+N330-O330","v":-2480}]
[null,null,{"$f":"IF(B333>0,B333-B331,0)","v":0},null,{"$f":"SUM(D331:D334)","v":0},null,{"$f":"SUM(F331:F334)","v":0},{"$f":"ROUND(((E332*C332)/2),0)","v":0},null,{"$f":"ROUND(H332*(1+I332),0)","v":0},{"$f":"ROUND(((C332*G332)/2),0)","v":0},null,{"$f":"ROUND(K332*(1+L332),0)","v":0},{"$f":"IF((J332-M332)>0,J332-M332,0)","v":0},{"$f":"IF((M332-J332)>0,M332-J332,0)","v":0}]
[null,null,null,null,null,null,null,null,null,null,null,null,null,null,null,{"$f":"P331+N332-O332","v":-2480}]
[null,null,{"$f":"IF(B335>0,B335-B333,0)","v":0},null,{"$f":"SUM(D333:D336)","v":0},null,{"$f":"SUM(F333:F336)","v":0},{"$f":"ROUND(((E334*C334)/2),0)","v":0},null,{"$f":"ROUND(H334*(1+I334),0)","v":0},{"$f":"ROUND(((C334*G334)/2),0)","v":0},null,{"$f":"ROUND(K334*(1+L334),0)","v":0},{"$f":"IF((J334-M334)>0,J334-M334,0)","v":0},{"$f":"IF((M334-J334)>0,M334-J334,0)","v":0}]
[null,null,null,null,null,null,null,null,null,null,null,null,null,null,null,{"$f":"P333+N334-O334","v":-2480}]
[null,null,{"$f":"IF(B337>0,B337-B335,0)","v":0},null,{"$f":"SUM(D335:D338)","v":0},null,{"$f":"SUM(F335:F338)","v":0},{"$f":"ROUND(((E336*C336)/2),0)","v":0},null,{"$f":"ROUND(H336*(1+I336),0)","v":0},{"$f":"ROUND(((C336*G336)/2),0)","v":0},null,{"$f":"ROUND(K336*(1+L336),0)","v":0},{"$f":"IF((J336-M336)>0,J336-M336,0)","v":0},{"$f":"IF((M336-J336)>0,M336-J336,0)","v":0}]
[null,null,null,null,null,null,null,null,null,null,null,null,null,null,null,{"$f":"P335+N336-O336","v":-2480}]
[null,null,{"$f":"IF(B339>0,B339-B337,0)","v":0},null,{"$f":"SUM(D337:D340)","v":0},null,{"$f":"SUM(F337:F340)","v":0},{"$f":"ROUND(((E338*C338)/2),0)","v":0},null,{"$f":"ROUND(H338*(1+I338),0)","v":0},{"$f":"ROUND(((C338*G338)/2),0)","v":0},null,{"$f":"ROUND(K338*(1+L338),0)","v":0},{"$f":"IF((J338-M338)>0,J338-M338,0)","v":0},{"$f":"IF((M338-J338)>0,M338-J338,0)","v":0}]
[null,null,null,null,null,null,null,null,null,null,null,null,null,null,null,{"$f":"P337+N338-O338","v":-2480}]
[null,null,{"$f":"IF(B341>0,B341-B339,0)","v":0},null,{"$f":"SUM(D339:D342)","v":0},null,{"$f":"SUM(F339:F342)","v":0},{"$f":"ROUND(((E340*C340)/2),0)","v":0},null,{"$f":"ROUND(H340*(1+I340),0)","v":0},{"$f":"ROUND(((C340*G340)/2),0)","v":0},null,{"$f":"ROUND(K340*(1+L340),0)","v":0},{"$f":"IF((J340-M340)>0,J340-M340,0)","v":0},{"$f":"IF((M340-J340)>0,M340-J340,0)","v":0}]
[null,null,null,null,null,null,null,null,null,null,null,null,null,null,null,{"$f":"P339+N340-O340","v":-2480}]
[null,null,{"$f":"IF(B343>0,B343-B341,0)","v":0},null,{"$f":"SUM(D341:D344)","v":0},null,{"$f":"SUM(F341:F344)","v":0},{"$f":"ROUND(((E342*C342)/2),0)","v":0},null,{"$f":"ROUND(H342*(1+I342),0)","v":0},{"$f":"ROUND(((C342*G342)/2),0)","v":0},null,{"$f":"ROUND(K342*(1+L342),0)","v":0},{"$f":"IF((J342-M342)>0,J342-M342,0)","v":0},{"$f":"IF((M342-J342)>0,M342-J342,0)","v":0}]
[null,null,null,null,null,null,null,null,null,null,null,null,null,null,null,{"$f":"P341+N342-O342","v":-2480}]
[null,null,{"$f":"IF(B345>0,B345-B343,0)","v":0},null,{"$f":"SUM(D343:D346)","v":0},null,{"$f":"SUM(F343:F346)","v":0},{"$f":"ROUND(((E344*C344)/2),0)","v":0},null,{"$f":"ROUND(H344*(1+I344),0)","v":0},{"$f":"ROUND(((C344*G344)/2),0)","v":0},null,{"$f":"ROUND(K344*(1+L344),0)","v":0},{"$f":"IF((J344-M344)>0,J344-M344,0)","v":0},{"$f":"IF((M344-J344)>0,M344-J344,0)","v":0}]
[null,null,null,null,null,null,null,null,null,null,null,null,null,null,null,{"$f":"P343+N344-O344","v":-2480}]
[null,null,{"$f":"IF(B347>0,B347-B345,0)","v":0},null,{"$f":"SUM(D345:D348)","v":0},null,{"$f":"SUM(F345:F348)","v":0},{"$f":"ROUND(((E346*C346)/2),0)","v":0},null,{"$f":"ROUND(H346*(1+I346),0)","v":0},{"$f":"ROUND(((C346*G346)/2),0)","v":0},null,{"$f":"ROUND(K346*(1+L346),0)","v":0},{"$f":"IF((J346-M346)>0,J346-M346,0)","v":0},{"$f":"IF((M346-J346)>0,M346-J346,0)","v":0}]
[null,null,null,null,null,null,null,null,null,null,null,null,null,null,null,{"$f":"P345+N346-O346","v":-2480}]
[null,null,{"$f":"IF(B349>0,B349-B347,0)","v":0},null,{"$f":"SUM(D347:D350)","v":0},null,{"$f":"SUM(F347:F350)","v":0},{"$f":"ROUND(((E348*C348)/2),0)","v":0},null,{"$f":"ROUND(H348*(1+I348),0)","v":0},{"$f":"ROUND(((C348*G348)/2),0)","v":0},null,{"$f":"ROUND(K348*(1+L348),0)","v":0},{"$f":"IF((J348-M348)>0,J348-M348,0)","v":0},{"$f":"IF((M348-J348)>0,M348-J348,0)","v":0}]
[null,null,null,null,null,null,null,null,null,null,null,null,null,null,null,{"$f":"P347+N348-O348","v":-2480}]
[null,null,{"$f":"IF(B351>0,B351-B349,0)","v":0},null,{"$f":"SUM(D349:D352)","v":0},null,{"$f":"SUM(F349:F352)","v":0},{"$f":"ROUND(((E350*C350)/2),0)","v":0},null,{"$f":"ROUND(H350*(1+I350),0)","v":0},{"$f":"ROUND(((C350*G350)/2),0)","v":0},null,{"$f":"ROUND(K350*(1+L350),0)","v":0},{"$f":"IF((J350-M350)>0,J350-M350,0)","v":0},{"$f":"IF((M350-J350)>0,M350-J350,0)","v":0}]
[null,null,null,null,null,null,null,null,null,null,null,null,null,null,null,{"$f":"P349+N350-O350","v":-2480}]
[null,null,{"$f":"IF(B353>0,B353-B351,0)","v":0},null,{"$f":"SUM(D351:D354)","v":0},null,{"$f":"SUM(F351:F354)","v":0},{"$f":"ROUND(((E352*C352)/2),0)","v":0},null,{"$f":"ROUND(H352*(1+I352),0)","v":0},{"$f":"ROUND(((C352*G352)/2),0)","v":0},null,{"$f":"ROUND(K352*(1+L352),0)","v":0},{"$f":"IF((J352-M352)>0,J352-M352,0)","v":0},{"$f":"IF((M352-J352)>0,M352-J352,0)","v":0}]
[null,null,null,null,null,null,null,null,null,null,null,null,null,null,null,{"$f":"P351+N352-O352","v":-2480}]
[null,null,{"$f":"IF(B355>0,B355-B353,0)","v":0},null,{"$f":"SUM(D353:D356)","v":0},null,{"$f":"SUM(F353:F356)","v":0},{"$f":"ROUND(((E354*C354)/2),0)","v":0},null,{"$f":"ROUND(H354*(1+I354),0)","v":0},{"$f":"ROUND(((C354*G354)/2),0)","v":0},null,{"$f":"ROUND(K354*(1+L354),0)","v":0},{"$f":"IF((J354-M354)>0,J354-M354,0)","v":0},{"$f":"IF((M354-J354)>0,M354-J354,0)","v":0}]
[null,null,null,null,null,null,null,null,null,null,null,null,null,null,null,{"$f":"P353+N354-O354","v":-2480}]
[null,null,{"$f":"IF(B357>0,B357-B355,0)","v":0},null,{"$f":"SUM(D355:D358)","v":0},null,{"$f":"SUM(F355:F358)","v":0},{"$f":"ROUND(((E356*C356)/2),0)","v":0},null,{"$f":"ROUND(H356*(1+I356),0)","v":0},{"$f":"ROUND(((C356*G356)/2),0)","v":0},null,{"$f":"ROUND(K356*(1+L356),0)","v":0},{"$f":"IF((J356-M356)>0,J356-M356,0)","v":0},{"$f":"IF((M356-J356)>0,M356-J356,0)","v":0}]
[null,null,null,null,null,null,null,null,null,null,null,null,null,null,null,{"$f":"P355+N356-O356","v":-2480}]
[null,null,{"$f":"IF(B359>0,B359-B357,0)","v":0},null,{"$f":"SUM(D357:D360)","v":0},null,{"$f":"SUM(F357:F360)","v":0},{"$f":"ROUND(((E358*C358)/2),0)","v":0},null,{"$f":"ROUND(H358*(1+I358),0)","v":0},{"$f":"ROUND(((C358*G358)/2),0)","v":0},null,{"$f":"ROUND(K358*(1+L358),0)","v":0},{"$f":"IF((J358-M358)>0,J358-M358,0)","v":0},{"$f":"IF((M358-J358)>0,M358-J358,0)","v":0}]
[null,null,null,null,null,null,null,null,null,null,null,null,null,null,null,{"$f":"P357+N358-O358","v":-2480}]
[null,null,{"$f":"IF(B361>0,B361-B359,0)","v":0},null,{"$f":"SUM(D359:D362)","v":0},null,{"$f":"SUM(F359:F362)","v":0},{"$f":"ROUND(((E360*C360)/2),0)","v":0},null,{"$f":"ROUND(H360*(1+I360),0)","v":0},{"$f":"ROUND(((C360*G360)/2),0)","v":0},null,{"$f":"ROUND(K360*(1+L360),0)","v":0},{"$f":"IF((J360-M360)>0,J360-M360,0)","v":0},{"$f":"IF((M360-J360)>0,M360-J360,0)","v":0}]
[null,null,null,null,null,null,null,null,null,null,null,null,null,null,null,{"$f":"P359+N360-O360","v":-2480}]
[null,null,{"$f":"IF(B363>0,B363-B361,0)","v":0},null,{"$f":"SUM(D361:D364)","v":0},null,{"$f":"SUM(F361:F364)","v":0},{"$f":"ROUND(((E362*C362)/2),0)","v":0},null,{"$f":"ROUND(H362*(1+I362),0)","v":0},{"$f":"ROUND(((C362*G362)/2),0)","v":0},null,{"$f":"ROUND(K362*(1+L362),0)","v":0},{"$f":"IF((J362-M362)>0,J362-M362,0)","v":0},{"$f":"IF((M362-J362)>0,M362-J362,0)","v":0}]
[null,null,null,null,null,null,null,null,null,null,null,null,null,null,null,{"$f":"P361+N362-O362","v":-2480}]
[null,null,{"$f":"IF(B365>0,B365-B363,0)","v":0},null,{"$f":"SUM(D363:D366)","v":0},null,{"$f":"SUM(F363:F366)","v":0},{"$f":"ROUND(((E364*C364)/2),0)","v":0},null,{"$f":"ROUND(H364*(1+I364),0)","v":0},{"$f":"ROUND(((C364*G364)/2),0)","v":0},null,{"$f":"ROUND(K364*(1+L364),0)","v":0},{"$f":"IF((J364-M364)>0,J364-M364,0)","v":0},{"$f":"IF((M364-J364)>0,M364-J364,0)","v":0}]
[null,null,null,null,null,null,null,null,null,null,null,null,null,null,null,{"$f":"P363+N364-O364","v":-2480}]
[null,null,{"$f":"IF(B367>0,B367-B365,0)","v":0},null,{"$f":"SUM(D365:D368)","v":0},null,{"$f":"SUM(F365:F368)","v":0},{"$f":"ROUND(((E366*C366)/2),0)","v":0},null,{"$f":"ROUND(H366*(1+I366),0)","v":0},{"$f":"ROUND(((C366*G366)/2),0)","v":0},null,{"$f":"ROUND(K366*(1+L366),0)","v":0},{"$f":"IF((J366-M366)>0,J366-M366,0)","v":0},{"$f":"IF((M366-J366)>0,M366-J366,0)","v":0}]
[null,null,null,null,null,null,null,null,null,null,null,null,null,null,null,{"$f":"P365+N366-O366","v":-2480}]
[null,null,{"$f":"IF(B369>0,B369-B367,0)","v":0},null,{"$f":"SUM(D367:D370)","v":0},null,{"$f":"SUM(F367:F370)","v":0},{"$f":"ROUND(((E368*C368)/2),0)","v":0},null,{"$f":"ROUND(H368*(1+I368),0)","v":0},{"$f":"ROUND(((C368*G368)/2),0)","v":0},null,{"$f":"ROUND(K368*(1+L368),0)","v":0},{"$f":"IF((J368-M368)>0,J368-M368,0)","v":0},{"$f":"IF((M368-J368)>0,M368-J368,0)","v":0}]
[null,null,null,null,null,null,null,null,null,null,null,null,null,null,null,{"$f":"P367+N368-O368","v":-2480}]
[null,null,{"$f":"IF(B371>0,B371-B369,0)","v":0},null,{"$f":"SUM(D369:D372)","v":0},null,{"$f":"SUM(F369:F372)","v":0},{"$f":"ROUND(((E370*C370)/2),0)","v":0},null,{"$f":"ROUND(H370*(1+I370),0)","v":0},{"$f":"ROUND(((C370*G370)/2),0)","v":0},null,{"$f":"ROUND(K370*(1+L370),0)","v":0},{"$f":"IF((J370-M370)>0,J370-M370,0)","v":0},{"$f":"IF((M370-J370)>0,M370-J370,0)","v":0}]
[null,null,null,null,null,null,null,null,null,null,null,null,null,null,null,{"$f":"P369+N370-O370","v":-2480}]
[null,null,{"$f":"IF(B373>0,B373-B371,0)","v":0},null,{"$f":"SUM(D371:D374)","v":0},null,{"$f":"SUM(F371:F374)","v":0},{"$f":"ROUND(((E372*C372)/2),0)","v":0},null,{"$f":"ROUND(H372*(1+I372),0)","v":0},{"$f":"ROUND(((C372*G372)/2),0)","v":0},null,{"$f":"ROUND(K372*(1+L372),0)","v":0},{"$f":"IF((J372-M372)>0,J372-M372,0)","v":0},{"$f":"IF((M372-J372)>0,M372-J372,0)","v":0}]
[null,null,null,null,null,null,null,null,null,null,null,null,null,null,null,{"$f":"P371+N372-O372","v":-2480}]
[null,null,{"$f":"IF(B375>0,B375-B373,0)","v":0},null,{"$f":"SUM(D373:D376)","v":0},null,{"$f":"SUM(F373:F376)","v":0},{"$f":"ROUND(((E374*C374)/2),0)","v":0},null,{"$f":"ROUND(H374*(1+I374),0)","v":0},{"$f":"ROUND(((C374*G374)/2),0)","v":0},null,{"$f":"ROUND(K374*(1+L374),0)","v":0},{"$f":"IF((J374-M374)>0,J374-M374,0)","v":0},{"$f":"IF((M374-J374)>0,M374-J374,0)","v":0}]
[null,null,null,null,null,null,null,null,null,null,null,null,null,null,null,{"$f":"P373+N374-O374","v":-2480}]
[null,null,{"$f":"IF(B377>0,B377-B375,0)","v":0},null,{"$f":"SUM(D375:D378)","v":0},null,{"$f":"SUM(F375:F378)","v":0},{"$f":"ROUND(((E376*C376)/2),0)","v":0},null,{"$f":"ROUND(H376*(1+I376),0)","v":0},{"$f":"ROUND(((C376*G376)/2),0)","v":0},null,{"$f":"ROUND(K376*(1+L376),0)","v":0},{"$f":"IF((J376-M376)>0,J376-M376,0)","v":0},{"$f":"IF((M376-J376)>0,M376-J376,0)","v":0}]
[null,null,null,null,null,null,null,null,null,null,null,null,null,null,null,{"$f":"P375+N376-O376","v":-2480}]
[null,null,{"$f":"IF(B379>0,B379-B377,0)","v":0},null,{"$f":"SUM(D377:D380)","v":0},null,{"$f":"SUM(F377:F380)","v":0},{"$f":"ROUND(((E378*C378)/2),0)","v":0},null,{"$f":"ROUND(H378*(1+I378),0)","v":0},{"$f":"ROUND(((C378*G378)/2),0)","v":0},null,{"$f":"ROUND(K378*(1+L378),0)","v":0},{"$f":"IF((J378-M378)>0,J378-M378,0)","v":0},{"$f":"IF((M378-J378)>0,M378-J378,0)","v":0}]
[null,null,null,null,null,null,null,null,null,null,null,null,null,null,null,{"$f":"P377+N378-O378","v":-2480}]
[null,null,{"$f":"IF(B381>0,B381-B379,0)","v":0},null,{"$f":"SUM(D379:D382)","v":0},null,{"$f":"SUM(F379:F382)","v":0},{"$f":"ROUND(((E380*C380)/2),0)","v":0},null,{"$f":"ROUND(H380*(1+I380),0)","v":0},{"$f":"ROUND(((C380*G380)/2),0)","v":0},null,{"$f":"ROUND(K380*(1+L380),0)","v":0},{"$f":"IF((J380-M380)>0,J380-M380,0)","v":0},{"$f":"IF((M380-J380)>0,M380-J380,0)","v":0}]
[null,null,null,null,null,null,null,null,null,null,null,null,null,null,null,{"$f":"P379+N380-O380","v":-2480}]
[null,null,{"$f":"IF(B383>0,B383-B381,0)","v":0},null,{"$f":"SUM(D381:D384)","v":0},null,{"$f":"SUM(F381:F384)","v":0},{"$f":"ROUND(((E382*C382)/2),0)","v":0},null,{"$f":"ROUND(H382*(1+I382),0)","v":0},{"$f":"ROUND(((C382*G382)/2),0)","v":0},null,{"$f":"ROUND(K382*(1+L382),0)","v":0},{"$f":"IF((J382-M382)>0,J382-M382,0)","v":0},{"$f":"IF((M382-J382)>0,M382-J382,0)","v":0}]
[null,null,null,null,null,null,null,null,null,null,null,null,null,null,null,{"$f":"P381+N382-O382","v":-2480}]
[null,null,{"$f":"IF(B385>0,B385-B383,0)","v":0},null,{"$f":"SUM(D383:D386)","v":0},null,{"$f":"SUM(F383:F386)","v":0},{"$f":"ROUND(((E384*C384)/2),0)","v":0},null,{"$f":"ROUND(H384*(1+I384),0)","v":0},{"$f":"ROUND(((C384*G384)/2),0)","v":0},null,{"$f":"ROUND(K384*(1+L384),0)","v":0},{"$f":"IF((J384-M384)>0,J384-M384,0)","v":0},{"$f":"IF((M384-J384)>0,M384-J384,0)","v":0}]
[null,null,null,null,null,null,null,null,null,null,null,null,null,null,null,{"$f":"P383+N384-O384","v":-2480}]
[null,null,{"$f":"IF(B387>0,B387-B385,0)","v":0},null,{"$f":"SUM(D385:D388)","v":0},null,{"$f":"SUM(F385:F388)","v":0},{"$f":"ROUND(((E386*C386)/2),0)","v":0},null,{"$f":"ROUND(H386*(1+I386),0)","v":0},{"$f":"ROUND(((C386*G386)/2),0)","v":0},null,{"$f":"ROUND(K386*(1+L386),0)","v":0},{"$f":"IF((J386-M386)>0,J386-M386,0)","v":0},{"$f":"IF((M386-J386)>0,M386-J386,0)","v":0}]
[null,null,null,null,null,null,null,null,null,null,null,null,null,null,null,{"$f":"P385+N386-O386","v":-2480}]
[null,null,{"$f":"IF(B389>0,B389-B387,0)","v":0},null,{"$f":"SUM(D387:D390)","v":0},null,{"$f":"SUM(F387:F390)","v":0},{"$f":"ROUND(((E388*C388)/2),0)","v":0},null,{"$f":"ROUND(H388*(1+I388),0)","v":0},{"$f":"ROUND(((C388*G388)/2),0)","v":0},null,{"$f":"ROUND(K388*(1+L388),0)","v":0},{"$f":"IF((J388-M388)>0,J388-M388,0)","v":0},{"$f":"IF((M388-J388)>0,M388-J388,0)","v":0}]
[null,null,null,null,null,null,null,null,null,null,null,null,null,null,null,{"$f":"P387+N388-O388","v":-2480}]
[null,null,{"$f":"IF(B391>0,B391-B389,0)","v":0},null,{"$f":"SUM(D389:D392)","v":0},null,{"$f":"SUM(F389:F392)","v":0},{"$f":"ROUND(((E390*C390)/2),0)","v":0},null,{"$f":"ROUND(H390*(1+I390),0)","v":0},{"$f":"ROUND(((C390*G390)/2),0)","v":0},null,{"$f":"ROUND(K390*(1+L390),0)","v":0},{"$f":"IF((J390-M390)>0,J390-M390,0)","v":0},{"$f":"IF((M390-J390)>0,M390-J390,0)","v":0}]
[null,null,null,null,null,null,null,null,null,null,null,null,null,null,null,{"$f":"P389+N390-O390","v":-2480}]
[null,null,{"$f":"IF(B393>0,B393-B391,0)","v":0},null,{"$f":"SUM(D391:D394)","v":0},null,{"$f":"SUM(F391:F394)","v":0},{"$f":"ROUND(((E392*C392)/2),0)","v":0},null,{"$f":"ROUND(H392*(1+I392),0)","v":0},{"$f":"ROUND(((C392*G392)/2),0)","v":0},null,{"$f":"ROUND(K392*(1+L392),0)","v":0},{"$f":"IF((J392-M392)>0,J392-M392,0)","v":0},{"$f":"IF((M392-J392)>0,M392-J392,0)","v":0}]
[null,null,null,null,null,null,null,null,null,null,null,null,null,null,null,{"$f":"P391+N392-O392","v":-2480}]
[null,null,{"$f":"IF(B395>0,B395-B393,0)","v":0},null,{"$f":"SUM(D393:D396)","v":0},null,{"$f":"SUM(F393:F396)","v":0},{"$f":"ROUND(((E394*C394)/2),0)","v":0},null,{"$f":"ROUND(H394*(1+I394),0)","v":0},{"$f":"ROUND(((C394*G394)/2),0)","v":0},null,{"$f":"ROUND(K394*(1+L394),0)","v":0},{"$f":"IF((J394-M394)>0,J394-M394,0)","v":0},{"$f":"IF((M394-J394)>0,M394-J394,0)","v":0}]
[null,null,null,null,null,null,null,null,null,null,null,null,null,null,null,{"$f":"P393+N394-O394","v":-2480}]
[null,null,{"$f":"IF(B397>0,B397-B395,0)","v":0},null,{"$f":"SUM(D395:D398)","v":0},null,{"$f":"SUM(F395:F398)","v":0},{"$f":"ROUND(((E396*C396)/2),0)","v":0},null,{"$f":"ROUND(H396*(1+I396),0)","v":0},{"$f":"ROUND(((C396*G396)/2),0)","v":0},null,{"$f":"ROUND(K396*(1+L396),0)","v":0},{"$f":"IF((J396-M396)>0,J396-M396,0)","v":0},{"$f":"IF((M396-J396)>0,M396-J396,0)","v":0}]
[null,null,null,null,null,null,null,null,null,null,null,null,null,null,null,{"$f":"P395+N396-O396","v":-2480}]
[null,null,{"$f":"IF(B399>0,B399-B397,0)","v":0},null,{"$f":"SUM(D397:D400)","v":0},null,{"$f":"SUM(F397:F400)","v":0},{"$f":"ROUND(((E398*C398)/2),0)","v":0},null,{"$f":"ROUND(H398*(1+I398),0)","v":0},{"$f":"ROUND(((C398*G398)/2),0)","v":0},null,{"$f":"ROUND(K398*(1+L398),0)","v":0},{"$f":"IF((J398-M398)>0,J398-M398,0)","v":0},{"$f":"IF((M398-J398)>0,M398-J398,0)","v":0}]
[null,null,null,null,null,null,null,null,null,null,null,null,null,null,null,{"$f":"P397+N398-O398","v":-2480}]
[null,null,{"$f":"IF(B401>0,B401-B399,0)","v":0},null,{"$f":"SUM(D399:D402)","v":0},null,{"$f":"SUM(F399:F402)","v":0},{"$f":"ROUND(((E400*C400)/2),0)","v":0},null,{"$f":"ROUND(H400*(1+I400),0)","v":0},{"$f":"ROUND(((C400*G400)/2),0)","v":0},null,{"$f":"ROUND(K400*(1+L400),0)","v":0},{"$f":"IF((J400-M400)>0,J400-M400,0)","v":0},{"$f":"IF((M400-J400)>0,M400-J400,0)","v":0}]
[null,null,null,null,null,null,null,null,null,null,null,null,null,null,null,{"$f":"P399+N400-O400","v":-2480}]
[null,null,{"$f":"IF(B403>0,B403-B401,0)","v":0},null,{"$f":"SUM(D401:D404)","v":0},null,{"$f":"SUM(F401:F404)","v":0},{"$f":"ROUND(((E402*C402)/2),0)","v":0},null,{"$f":"ROUND(H402*(1+I402),0)","v":0},{"$f":"ROUND(((C402*G402)/2),0)","v":0},null,{"$f":"ROUND(K402*(1+L402),0)","v":0},{"$f":"IF((J402-M402)>0,J402-M402,0)","v":0},{"$f":"IF((M402-J402)>0,M402-J402,0)","v":0}]
[null,null,null,null,null,null,null,null,null,null,null,null,null,null,null,{"$f":"P401+N402-O402","v":-2480}]
[null,null,{"$f":"IF(B405>0,B405-B403,0)","v":0},null,{"$f":"SUM(D403:D406)","v":0},null,{"$f":"SUM(F403:F406)","v":0},{"$f":"ROUND(((E404*C404)/2),0)","v":0},null,{"$f":"ROUND(H404*(1+I404),0)","v":0},{"$f":"ROUND(((C404*G404)/2),0)","v":0},null,{"$f":"ROUND(K404*(1+L404),0)","v":0},{"$f":"IF((J404-M404)>0,J404-M404,0)","v":0},{"$f":"IF((M404-J404)>0,M404-J404,0)","v":0}]
[null,null,null,null,null,null,null,null,null,null,null,null,null,null,null,{"$f":"P403+N404-O404","v":-2480}]
[null,null,{"$f":"IF(B407>0,B407-B405,0)","v":0},null,{"$f":"SUM(D405:D408)","v":0},null,{"$f":"SUM(F405:F408)","v":0},{"$f":"ROUND(((E406*C406)/2),0)","v":0},null,{"$f":"ROUND(H406*(1+I406),0)","v":0},{"$f":"ROUND(((C406*G406)/2),0)","v":0},null,{"$f":"ROUND(K406*(1+L406),0)","v":0},{"$f":"IF((J406-M406)>0,J406-M406,0)","v":0},{"$f":"IF((M406-J406)>0,M406-J406,0)","v":0}]
[null,null,null,null,null,null,null,null,null,null,null,null,null,null,null,{"$f":"P405+N406-O406","v":-2480}]
[null,null,{"$f":"IF(B409>0,B409-B407,0)","v":0},null,{"$f":"SUM(D407:D410)","v":0},null,{"$f":"SUM(F407:F410)","v":0},{"$f":"ROUND(((E408*C408)/2),0)","v":0},null,{"$f":"ROUND(H408*(1+I408),0)","v":0},{"$f":"ROUND(((C408*G408)/2),0)","v":0},null,{"$f":"ROUND(K408*(1+L408),0)","v":0},{"$f":"IF((J408-M408)>0,J408-M408,0)","v":0},{"$f":"IF((M408-J408)>0,M408-J408,0)","v":0}]
[null,null,null,null,null,null,null,null,null,null,null,null,null,null,null,{"$f":"P407+N408-O408","v":-2480}]
[null,null,{"$f":"IF(B411>0,B411-B409,0)","v":0},null,{"$f":"SUM(D409:D412)","v":0},null,{"$f":"SUM(F409:F412)","v":0},{"$f":"ROUND(((E410*C410)/2),0)","v":0},null,{"$f":"ROUND(H410*(1+I410),0)","v":0},{"$f":"ROUND(((C410*G410)/2),0)","v":0},null,{"$f":"ROUND(K410*(1+L410),0)","v":0},{"$f":"IF((J410-M410)>0,J410-M410,0)","v":0},{"$f":"IF((M410-J410)>0,M410-J410,0)","v":0}]
[null,null,null,null,null,null,null,null,null,null,null,null,null,null,null,{"$f":"P409+N410-O410","v":-2480}]
[null,null,{"$f":"IF(B413>0,B413-B411,0)","v":0},null,{"$f":"SUM(D411:D414)","v":0},null,{"$f":"SUM(F411:F414)","v":0},{"$f":"ROUND(((E412*C412)/2),0)","v":0},null,{"$f":"ROUND(H412*(1+I412),0)","v":0},{"$f":"ROUND(((C412*G412)/2),0)","v":0},null,{"$f":"ROUND(K412*(1+L412),0)","v":0},{"$f":"IF((J412-M412)>0,J412-M412,0)","v":0},{"$f":"IF((M412-J412)>0,M412-J412,0)","v":0}]
[null,null,null,null,null,null,null,null,null,null,null,null,null,null,null,{"$f":"P411+N412-O412","v":-2480}]
[null,null,{"$f":"IF(B415>0,B415-B413,0)","v":0},null,{"$f":"SUM(D413:D416)","v":0},null,{"$f":"SUM(F413:F416)","v":0},{"$f":"ROUND(((E414*C414)/2),0)","v":0},null,{"$f":"ROUND(H414*(1+I414),0)","v":0},{"$f":"ROUND(((C414*G414)/2),0)","v":0},null,{"$f":"ROUND(K414*(1+L414),0)","v":0},{"$f":"IF((J414-M414)>0,J414-M414,0)","v":0},{"$f":"IF((M414-J414)>0,M414-J414,0)","v":0}]
[null,null,null,null,null,null,null,null,null,null,null,null,null,null,null,{"$f":"P413+N414-O414","v":-2480}]
[null,null,{"$f":"IF(B417>0,B417-B415,0)","v":0},null,{"$f":"SUM(D415:D418)","v":0},null,{"$f":"SUM(F415:F418)","v":0},{"$f":"ROUND(((E416*C416)/2),0)","v":0},null,{"$f":"ROUND(H416*(1+I416),0)","v":0},{"$f":"ROUND(((C416*G416)/2),0)","v":0},null,{"$f":"ROUND(K416*(1+L416),0)","v":0},{"$f":"IF((J416-M416)>0,J416-M416,0)","v":0},{"$f":"IF((M416-J416)>0,M416-J416,0)","v":0}]
[null,null,null,null,null,null,null,null,null,null,null,null,null,null,null,{"$f":"P415+N416-O416","v":-2480}]
[null,null,{"$f":"IF(B419>0,B419-B417,0)","v":0},null,{"$f":"SUM(D417:D420)","v":0},null,{"$f":"SUM(F417:F420)","v":0},{"$f":"ROUND(((E418*C418)/2),0)","v":0},null,{"$f":"ROUND(H418*(1+I418),0)","v":0},{"$f":"ROUND(((C418*G418)/2),0)","v":0},null,{"$f":"ROUND(K418*(1+L418),0)","v":0},{"$f":"IF((J418-M418)>0,J418-M418,0)","v":0},{"$f":"IF((M418-J418)>0,M418-J418,0)","v":0}]
[null,null,null,null,null,null,null,null,null,null,null,null,null,null,null,{"$f":"P417+N418-O418","v":-2480}]
[null,null,{"$f":"IF(B421>0,B421-B419,0)","v":0},null,{"$f":"SUM(D419:D422)","v":0},null,{"$f":"SUM(F419:F422)","v":0},{"$f":"ROUND(((E420*C420)/2),0)","v":0},null,{"$f":"ROUND(H420*(1+I420),0)","v":0},{"$f":"ROUND(((C420*G420)/2),0)","v":0},null,{"$f":"ROUND(K420*(1+L420),0)","v":0},{"$f":"IF((J420-M420)>0,J420-M420,0)","v":0},{"$f":"IF((M420-J420)>0,M420-J420,0)","v":0}]
[null,null,null,null,null,null,null,null,null,null,null,null,null,null,null,{"$f":"P419+N420-O420","v":-2480}]
[null,null,{"$f":"IF(B423>0,B423-B421,0)","v":0},null,{"$f":"SUM(D421:D424)","v":0},null,{"$f":"SUM(F421:F424)","v":0},{"$f":"ROUND(((E422*C422)/2),0)","v":0},null,{"$f":"ROUND(H422*(1+I422),0)","v":0},{"$f":"ROUND(((C422*G422)/2),0)","v":0},null,{"$f":"ROUND(K422*(1+L422),0)","v":0},{"$f":"IF((J422-M422)>0,J422-M422,0)","v":0},{"$f":"IF((M422-J422)>0,M422-J422,0)","v":0}]
[null,null,null,null,null,null,null,null,null,null,null,null,null,null,null,{"$f":"P421+N422-O422","v":-2480}]
[null,null,{"$f":"IF(B425>0,B425-B423,0)","v":0},null,{"$f":"SUM(D423:D426)","v":0},null,{"$f":"SUM(F423:F426)","v":0},{"$f":"ROUND(((E424*C424)/2),0)","v":0},null,{"$f":"ROUND(H424*(1+I424),0)","v":0},{"$f":"ROUND(((C424*G424)/2),0)","v":0},null,{"$f":"ROUND(K424*(1+L424),0)","v":0},{"$f":"IF((J424-M424)>0,J424-M424,0)","v":0},{"$f":"IF((M424-J424)>0,M424-J424,0)","v":0}]
[null,null,null,null,null,null,null,null,null,null,null,null,null,null,null,{"$f":"P423+N424-O424","v":-2480}]
[null,null,{"$f":"IF(B427>0,B427-B425,0)","v":0},null,{"$f":"SUM(D425:D428)","v":0},null,{"$f":"SUM(F425:F428)","v":0},{"$f":"ROUND(((E426*C426)/2),0)","v":0},null,{"$f":"ROUND(H426*(1+I426),0)","v":0},{"$f":"ROUND(((C426*G426)/2),0)","v":0},null,{"$f":"ROUND(K426*(1+L426),0)","v":0},{"$f":"IF((J426-M426)>0,J426-M426,0)","v":0},{"$f":"IF((M426-J426)>0,M426-J426,0)","v":0}]
[null,null,null,null,null,null,null,null,null,null,null,null,null,null,null,{"$f":"P425+N426-O426","v":-2480}]
[null,null,{"$f":"IF(B429>0,B429-B427,0)","v":0},null,{"$f":"SUM(D427:D430)","v":0},null,{"$f":"SUM(F427:F430)","v":0},{"$f":"ROUND(((E428*C428)/2),0)","v":0},null,{"$f":"ROUND(H428*(1+I428),0)","v":0},{"$f":"ROUND(((C428*G428)/2),0)","v":0},null,{"$f":"ROUND(K428*(1+L428),0)","v":0},{"$f":"IF((J428-M428)>0,J428-M428,0)","v":0},{"$f":"IF((M428-J428)>0,M428-J428,0)","v":0}]
[null,null,null,null,null,null,null,null,null,null,null,null,null,null,null,{"$f":"P427+N428-O428","v":-2480}]
[null,null,{"$f":"IF(B431>0,B431-B429,0)","v":0},null,{"$f":"SUM(D429:D432)","v":0},null,{"$f":"SUM(F429:F432)","v":0},{"$f":"ROUND(((E430*C430)/2),0)","v":0},null,{"$f":"ROUND(H430*(1+I430),0)","v":0},{"$f":"ROUND(((C430*G430)/2),0)","v":0},null,{"$f":"ROUND(K430*(1+L430),0)","v":0},{"$f":"IF((J430-M430)>0,J430-M430,0)","v":0},{"$f":"IF((M430-J430)>0,M430-J430,0)","v":0}]
[null,null,null,null,null,null,null,null,null,null,null,null,null,null,null,{"$f":"P429+N430-O430","v":-2480}]
[null,null,{"$f":"IF(B433>0,B433-B431,0)","v":0},null,{"$f":"SUM(D431:D434)","v":0},null,{"$f":"SUM(F431:F434)","v":0},{"$f":"ROUND(((E432*C432)/2),0)","v":0},null,{"$f":"ROUND(H432*(1+I432),0)","v":0},{"$f":"ROUND(((C432*G432)/2),0)","v":0},null,{"$f":"ROUND(K432*(1+L432),0)","v":0},{"$f":"IF((J432-M432)>0,J432-M432,0)","v":0},{"$f":"IF((M432-J432)>0,M432-J432,0)","v":0}]
[null,null,null,null,null,null,null,null,null,null,null,null,null,null,null,{"$f":"P431+N432-O432","v":-2480}]
[null,null,{"$f":"IF(B435>0,B435-B433,0)","v":0},null,{"$f":"SUM(D433:D436)","v":0},null,{"$f":"SUM(F433:F436)","v":0},{"$f":"ROUND(((E434*C434)/2),0)","v":0},null,{"$f":"ROUND(H434*(1+I434),0)","v":0},{"$f":"ROUND(((C434*G434)/2),0)","v":0},null,{"$f":"ROUND(K434*(1+L434),0)","v":0},{"$f":"IF((J434-M434)>0,J434-M434,0)","v":0},{"$f":"IF((M434-J434)>0,M434-J434,0)","v":0}]
[null,null,null,null,null,null,null,null,null,null,null,null,null,null,null,{"$f":"P433+N434-O434","v":-2480}]
[null,null,{"$f":"IF(B437>0,B437-B435,0)","v":0},null,{"$f":"SUM(D435:D438)","v":0},null,{"$f":"SUM(F435:F438)","v":0},{"$f":"ROUND(((E436*C436)/2),0)","v":0},null,{"$f":"ROUND(H436*(1+I436),0)","v":0},{"$f":"ROUND(((C436*G436)/2),0)","v":0},null,{"$f":"ROUND(K436*(1+L436),0)","v":0},{"$f":"IF((J436-M436)>0,J436-M436,0)","v":0},{"$f":"IF((M436-J436)>0,M436-J436,0)","v":0}]
[null,null,null,null,null,null,null,null,null,null,null,null,null,null,null,{"$f":"P435+N436-O436","v":-2480}]
[null,null,{"$f":"IF(B439>0,B439-B437,0)","v":0},null,{"$f":"SUM(D437:D440)","v":0},null,{"$f":"SUM(F437:F440)","v":0},{"$f":"ROUND(((E438*C438)/2),0)","v":0},null,{"$f":"ROUND(H438*(1+I438),0)","v":0},{"$f":"ROUND(((C438*G438)/2),0)","v":0},null,{"$f":"ROUND(K438*(1+L438),0)","v":0},{"$f":"IF((J438-M438)>0,J438-M438,0)","v":0},{"$f":"IF((M438-J438)>0,M438-J438,0)","v":0}]
[null,null,null,null,null,null,null,null,null,null,null,null,null,null,null,{"$f":"P437+N438-O438","v":-2480}]
[null,null,{"$f":"IF(B441>0,B441-B439,0)","v":0},null,{"$f":"SUM(D439:D442)","v":0},null,{"$f":"SUM(F439:F442)","v":0},{"$f":"ROUND(((E440*C440)/2),0)","v":0},null,{"$f":"ROUND(H440*(1+I440),0)","v":0},{"$f":"ROUND(((C440*G440)/2),0)","v":0},null,{"$f":"ROUND(K440*(1+L440),0)","v":0},{"$f":"IF((J440-M440)>0,J440-M440,0)","v":0},{"$f":"IF((M440-J440)>0,M440-J440,0)","v":0}]
[null,null,null,null,null,null,null,null,null,null,null,null,null,null,null,{"$f":"P439+N440-O440","v":-2480}]
[null,null,{"$f":"IF(B443>0,B443-B441,0)","v":0},null,{"$f":"SUM(D441:D444)","v":0},null,{"$f":"SUM(F441:F444)","v":0},{"$f":"ROUND(((E442*C442)/2),0)","v":0},null,{"$f":"ROUND(H442*(1+I442),0)","v":0},{"$f":"ROUND(((C442*G442)/2),0)","v":0},null,{"$f":"ROUND(K442*(1+L442),0)","v":0},{"$f":"IF((J442-M442)>0,J442-M442,0)","v":0},{"$f":"IF((M442-J442)>0,M442-J442,0)","v":0}]
[null,null,null,null,null,null,null,null,null,null,null,null,null,null,null,{"$f":"P441+N442-O442","v":-2480}]
[null,null,{"$f":"IF(B445>0,B445-B443,0)","v":0},null,{"$f":"SUM(D443:D446)","v":0},null,{"$f":"SUM(F443:F446)","v":0},{"$f":"ROUND(((E444*C444)/2),0)","v":0},null,{"$f":"ROUND(H444*(1+I444),0)","v":0},{"$f":"ROUND(((C444*G444)/2),0)","v":0},null,{"$f":"ROUND(K444*(1+L444),0)","v":0},{"$f":"IF((J444-M444)>0,J444-M444,0)","v":0},{"$f":"IF((M444-J444)>0,M444-J444,0)","v":0}]
[null,null,null,null,null,null,null,null,null,null,null,null,null,null,null,{"$f":"P443+N444-O444","v":-2480}]
[null,null,{"$f":"IF(B447>0,B447-B445,0)","v":0},null,{"$f":"SUM(D445:D448)","v":0},null,{"$f":"SUM(F445:F448)","v":0},{"$f":"ROUND(((E446*C446)/2),0)","v":0},null,{"$f":"ROUND(H446*(1+I446),0)","v":0},{"$f":"ROUND(((C446*G446)/2),0)","v":0},null,{"$f":"ROUND(K446*(1+L446),0)","v":0},{"$f":"IF((J446-M446)>0,J446-M446,0)","v":0},{"$f":"IF((M446-J446)>0,M446-J446,0)","v":0}]
[null,null,null,null,null,null,null,null,null,null,null,null,null,null,null,{"$f":"P445+N446-O446","v":-2480}]
[null,null,{"$f":"IF(B449>0,B449-B447,0)","v":0},null,{"$f":"SUM(D447:D450)","v":0},null,{"$f":"SUM(F447:F450)","v":0},{"$f":"ROUND(((E448*C448)/2),0)","v":0},null,{"$f":"ROUND(H448*(1+I448),0)","v":0},{"$f":"ROUND(((C448*G448)/2),0)","v":0},null,{"$f":"ROUND(K448*(1+L448),0)","v":0},{"$f":"IF((J448-M448)>0,J448-M448,0)","v":0},{"$f":"IF((M448-J448)>0,M448-J448,0)","v":0}]
[null,null,null,null,null,null,null,null,null,null,null,null,null,null,null,{"$f":"P447+N448-O448","v":-2480}]
[null,null,{"$f":"IF(B451>0,B451-B449,0)","v":0},null,{"$f":"SUM(D449:D452)","v":0},null,{"$f":"SUM(F449:F452)","v":0},{"$f":"ROUND(((E450*C450)/2),0)","v":0},null,{"$f":"ROUND(H450*(1+I450),0)","v":0},{"$f":"ROUND(((C450*G450)/2),0)","v":0},null,{"$f":"ROUND(K450*(1+L450),0)","v":0},{"$f":"IF((J450-M450)>0,J450-M450,0)","v":0},{"$f":"IF((M450-J450)>0,M450-J450,0)","v":0}]
[null,null,null,null,null,null,null,null,null,null,null,null,null,null,null,{"$f":"P449+N450-O450","v":-2480}]
[null,null,{"$f":"IF(B453>0,B453-B451,0)","v":0},null,{"$f":"SUM(D451:D454)","v":0},null,{"$f":"SUM(F451:F454)","v":0},{"$f":"ROUND(((E452*C452)/2),0)","v":0},null,{"$f":"ROUND(H452*(1+I452),0)","v":0},{"$f":"ROUND(((C452*G452)/2),0)","v":0},null,{"$f":"ROUND(K452*(1+L452),0)","v":0},{"$f":"IF((J452-M452)>0,J452-M452,0)","v":0},{"$f":"IF((M452-J452)>0,M452-J452,0)","v":0}]
[null,null,null,null,null,null,null,null,null,null,null,null,null,null,null,{"$f":"P451+N452-O452","v":-2480}]
[null,null,{"$f":"IF(B455>0,B455-B453,0)","v":0},null,{"$f":"SUM(D453:D456)","v":0},null,{"$f":"SUM(F453:F456)","v":0},{"$f":"ROUND(((E454*C454)/2),0)","v":0},null,{"$f":"ROUND(H454*(1+I454),0)","v":0},{"$f":"ROUND(((C454*G454)/2),0)","v":0},null,{"$f":"ROUND(K454*(1+L454),0)","v":0},{"$f":"IF((J454-M454)>0,J454-M454,0)","v":0},{"$f":"IF((M454-J454)>0,M454-J454,0)","v":0}]
[null,null,null,null,null,null,null,null,null,null,null,null,null,null,null,{"$f":"P453+N454-O454","v":-2480}]
[null,null,{"$f":"IF(B457>0,B457-B455,0)","v":0},null,{"$f":"SUM(D455:D458)","v":0},null,{"$f":"SUM(F455:F458)","v":0},{"$f":"ROUND(((E456*C456)/2),0)","v":0},null,{"$f":"ROUND(H456*(1+I456),0)","v":0},{"$f":"ROUND(((C456*G456)/2),0)","v":0},null,{"$f":"ROUND(K456*(1+L456),0)","v":0},{"$f":"IF((J456-M456)>0,J456-M456,0)","v":0},{"$f":"IF((M456-J456)>0,M456-J456,0)","v":0}]
[null,null,null,null,null,null,null,null,null,null,null,null,null,null,null,{"$f":"P455+N456-O456","v":-2480}]
[null,null,{"$f":"IF(B459>0,B459-B457,0)","v":0},null,{"$f":"SUM(D457:D460)","v":0},null,{"$f":"SUM(F457:F460)","v":0},{"$f":"ROUND(((E458*C458)/2),0)","v":0},null,{"$f":"ROUND(H458*(1+I458),0)","v":0},{"$f":"ROUND(((C458*G458)/2),0)","v":0},null,{"$f":"ROUND(K458*(1+L458),0)","v":0},{"$f":"IF((J458-M458)>0,J458-M458,0)","v":0},{"$f":"IF((M458-J458)>0,M458-J458,0)","v":0}]
[null,null,null,null,null,null,null,null,null,null,null,null,null,null,null,{"$f":"P457+N458-O458","v":-2480}]
[null,null,{"$f":"IF(B461>0,B461-B459,0)","v":0},null,{"$f":"SUM(D459:D462)","v":0},null,{"$f":"SUM(F459:F462)","v":0},{"$f":"ROUND(((E460*C460)/2),0)","v":0},null,{"$f":"ROUND(H460*(1+I460),0)","v":0},{"$f":"ROUND(((C460*G460)/2),0)","v":0},null,{"$f":"ROUND(K460*(1+L460),0)","v":0},{"$f":"IF((J460-M460)>0,J460-M460,0)","v":0},{"$f":"IF((M460-J460)>0,M460-J460,0)","v":0}]
[null,null,null,null,null,null,null,null,null,null,null,null,null,null,null,{"$f":"P459+N460-O460","v":-2480}]
[null,null,{"$f":"IF(B463>0,B463-B461,0)","v":0},null,{"$f":"SUM(D461:D464)","v":0},null,{"$f":"SUM(F461:F464)","v":0},{"$f":"ROUND(((E462*C462)/2),0)","v":0},null,{"$f":"ROUND(H462*(1+I462),0)","v":0},{"$f":"ROUND(((C462*G462)/2),0)","v":0},null,{"$f":"ROUND(K462*(1+L462),0)","v":0},{"$f":"IF((J462-M462)>0,J462-M462,0)","v":0},{"$f":"IF((M462-J462)>0,M462-J462,0)","v":0}]
[null,null,null,null,null,null,null,null,null,null,null,null,null,null,null,{"$f":"P461+N462-O462","v":-2480}]
[null,null,{"$f":"IF(B465>0,B465-B463,0)","v":0},null,{"$f":"SUM(D463:D466)","v":0},null,{"$f":"SUM(F463:F466)","v":0},{"$f":"ROUND(((E464*C464)/2),0)","v":0},null,{"$f":"ROUND(H464*(1+I464),0)","v":0},{"$f":"ROUND(((C464*G464)/2),0)","v":0},null,{"$f":"ROUND(K464*(1+L464),0)","v":0},{"$f":"IF((J464-M464)>0,J464-M464,0)","v":0},{"$f":"IF((M464-J464)>0,M464-J464,0)","v":0}]
[null,null,null,null,null,null,null,null,null,null,null,null,null,null,null,{"$f":"P463+N464-O464","v":-2480}]
[null,null,{"$f":"IF(B467>0,B467-B465,0)","v":0},null,{"$f":"SUM(D465:D468)","v":0},null,{"$f":"SUM(F465:F468)","v":0},{"$f":"ROUND(((E466*C466)/2),0)","v":0},null,{"$f":"ROUND(H466*(1+I466),0)","v":0},{"$f":"ROUND(((C466*G466)/2),0)","v":0},null,{"$f":"ROUND(K466*(1+L466),0)","v":0},{"$f":"IF((J466-M466)>0,J466-M466,0)","v":0},{"$f":"IF((M466-J466)>0,M466-J466,0)","v":0}]
[null,null,null,null,null,null,null,null,null,null,null,null,null,null,null,{"$f":"P465+N466-O466","v":-2480}]
[null,null,{"$f":"IF(B469>0,B469-B467,0)","v":0},null,{"$f":"SUM(D467:D470)","v":0},null,{"$f":"SUM(F467:F470)","v":0},{"$f":"ROUND(((E468*C468)/2),0)","v":0},null,{"$f":"ROUND(H468*(1+I468),0)","v":0},{"$f":"ROUND(((C468*G468)/2),0)","v":0},null,{"$f":"ROUND(K468*(1+L468),0)","v":0},{"$f":"IF((J468-M468)>0,J468-M468,0)","v":0},{"$f":"IF((M468-J468)>0,M468-J468,0)","v":0}]
[null,null,null,null,null,null,null,null,null,null,null,null,null,null,null,{"$f":"P467+N468-O468","v":-2480}]
[null,null,{"$f":"IF(B471>0,B471-B469,0)","v":0},null,{"$f":"SUM(D469:D472)","v":0},null,{"$f":"SUM(F469:F472)","v":0},{"$f":"ROUND(((E470*C470)/2),0)","v":0},null,{"$f":"ROUND(H470*(1+I470),0)","v":0},{"$f":"ROUND(((C470*G470)/2),0)","v":0},null,{"$f":"ROUND(K470*(1+L470),0)","v":0},{"$f":"IF((J470-M470)>0,J470-M470,0)","v":0},{"$f":"IF((M470-J470)>0,M470-J470,0)","v":0}]
[null,null,null,null,null,null,null,null,null,null,null,null,null,null,null,{"$f":"P469+N470-O470","v":-2480}]
[null,null,{"$f":"IF(B473>0,B473-B471,0)","v":0},null,{"$f":"SUM(D471:D474)","v":0},null,{"$f":"SUM(F471:F474)","v":0},{"$f":"ROUND(((E472*C472)/2),0)","v":0},null,{"$f":"ROUND(H472*(1+I472),0)","v":0},{"$f":"ROUND(((C472*G472)/2),0)","v":0},null,{"$f":"ROUND(K472*(1+L472),0)","v":0},{"$f":"IF((J472-M472)>0,J472-M472,0)","v":0},{"$f":"IF((M472-J472)>0,M472-J472,0)","v":0}]
[null,null,null,null,null,null,null,null,null,null,null,null,null,null,null,{"$f":"P471+N472-O472","v":-2480}]
[null,null,{"$f":"IF(B475>0,B475-B473,0)","v":0},null,{"$f":"SUM(D473:D476)","v":0},null,{"$f":"SUM(F473:F476)","v":0},{"$f":"ROUND(((E474*C474)/2),0)","v":0},null,{"$f":"ROUND(H474*(1+I474),0)","v":0},{"$f":"ROUND(((C474*G474)/2),0)","v":0},null,{"$f":"ROUND(K474*(1+L474),0)","v":0},{"$f":"IF((J474-M474)>0,J474-M474,0)","v":0},{"$f":"IF((M474-J474)>0,M474-J474,0)","v":0}]
[null,null,null,null,null,null,null,null,null,null,null,null,null,null,null,{"$f":"P473+N474-O474","v":-2480}]
[null,null,{"$f":"IF(B477>0,B477-B475,0)","v":0},null,{"$f":"SUM(D475:D478)","v":0},null,{"$f":"SUM(F475:F478)","v":0},{"$f":"ROUND(((E476*C476)/2),0)","v":0},null,{"$f":"ROUND(H476*(1+I476),0)","v":0},{"$f":"ROUND(((C476*G476)/2),0)","v":0},null,{"$f":"ROUND(K476*(1+L476),0)","v":0},{"$f":"IF((J476-M476)>0,J476-M476,0)","v":0},{"$f":"IF((M476-J476)>0,M476-J476,0)","v":0}]
[null,null,null,null,null,null,null,null,null,null,null,null,null,null,null,{"$f":"P475+N476-O476","v":-2480}]
[null,null,{"$f":"IF(B479>0,B479-B477,0)","v":0},null,{"$f":"SUM(D477:D480)","v":0},null,{"$f":"SUM(F477:F480)","v":0},{"$f":"ROUND(((E478*C478)/2),0)","v":0},null,{"$f":"ROUND(H478*(1+I478),0)","v":0},{"$f":"ROUND(((C478*G478)/2),0)","v":0},null,{"$f":"ROUND(K478*(1+L478),0)","v":0},{"$f":"IF((J478-M478)>0,J478-M478,0)","v":0},{"$f":"IF((M478-J478)>0,M478-J478,0)","v":0}]
[null,null,null,null,null,null,null,null,null,null,null,null,null,null,null,{"$f":"P477+N478-O478","v":-2480}]
[null,null,{"$f":"IF(B481>0,B481-B479,0)","v":0},null,{"$f":"SUM(D479:D482)","v":0},null,{"$f":"SUM(F479:F482)","v":0},{"$f":"ROUND(((E480*C480)/2),0)","v":0},null,{"$f":"ROUND(H480*(1+I480),0)","v":0},{"$f":"ROUND(((C480*G480)/2),0)","v":0},null,{"$f":"ROUND(K480*(1+L480),0)","v":0},{"$f":"IF((J480-M480)>0,J480-M480,0)","v":0},{"$f":"IF((M480-J480)>0,M480-J480,0)","v":0}]
[null,null,null,null,null,null,null,null,null,null,null,null,null,null,null,{"$f":"P479+N480-O480","v":-2480}]
[null,null,{"$f":"IF(B483>0,B483-B481,0)","v":0},null,{"$f":"SUM(D481:D484)","v":0},null,{"$f":"SUM(F481:F484)","v":0},{"$f":"ROUND(((E482*C482)/2),0)","v":0},null,{"$f":"ROUND(H482*(1+I482),0)","v":0},{"$f":"ROUND(((C482*G482)/2),0)","v":0},null,{"$f":"ROUND(K482*(1+L482),0)","v":0},{"$f":"IF((J482-M482)>0,J482-M482,0)","v":0},{"$f":"IF((M482-J482)>0,M482-J482,0)","v":0}]
[null,null,null,null,null,null,null,null,null,null,null,null,null,null,null,{"$f":"P481+N482-O482","v":-2480}]
[null,null,{"$f":"IF(B485>0,B485-B483,0)","v":0},null,{"$f":"SUM(D483:D486)","v":0},null,{"$f":"SUM(F483:F486)","v":0},{"$f":"ROUND(((E484*C484)/2),0)","v":0},null,{"$f":"ROUND(H484*(1+I484),0)","v":0},{"$f":"ROUND(((C484*G484)/2),0)","v":0},null,{"$f":"ROUND(K484*(1+L484),0)","v":0},{"$f":"IF((J484-M484)>0,J484-M484,0)","v":0},{"$f":"IF((M484-J484)>0,M484-J484,0)","v":0}]
[null,null,null,null,null,null,null,null,null,null,null,null,null,null,null,{"$f":"P483+N484-O484","v":-2480}]
[null,null,{"$f":"IF(B487>0,B487-B485,0)","v":0},null,{"$f":"SUM(D485:D488)","v":0},null,{"$f":"SUM(F485:F488)","v":0},{"$f":"ROUND(((E486*C486)/2),0)","v":0},null,{"$f":"ROUND(H486*(1+I486),0)","v":0},{"$f":"ROUND(((C486*G486)/2),0)","v":0},null,{"$f":"ROUND(K486*(1+L486),0)","v":0},{"$f":"IF((J486-M486)>0,J486-M486,0)","v":0},{"$f":"IF((M486-J486)>0,M486-J486,0)","v":0}]
[null,null,null,null,null,null,null,null,null,null,null,null,null,null,null,{"$f":"P485+N486-O486","v":-2480}]
[null,null,{"$f":"IF(B489>0,B489-B487,0)","v":0},null,{"$f":"SUM(D487:D490)","v":0},null,{"$f":"SUM(F487:F490)","v":0},{"$f":"ROUND(((E488*C488)/2),0)","v":0},null,{"$f":"ROUND(H488*(1+I488),0)","v":0},{"$f":"ROUND(((C488*G488)/2),0)","v":0},null,{"$f":"ROUND(K488*(1+L488),0)","v":0},{"$f":"IF((J488-M488)>0,J488-M488,0)","v":0},{"$f":"IF((M488-J488)>0,M488-J488,0)","v":0}]
[null,null,null,null,null,null,null,null,null,null,null,null,null,null,null,{"$f":"P487+N488-O488","v":-2480}]
[null,null,{"$f":"IF(B491>0,B491-B489,0)","v":0},null,{"$f":"SUM(D489:D492)","v":0},null,{"$f":"SUM(F489:F492)","v":0},{"$f":"ROUND(((E490*C490)/2),0)","v":0},null,{"$f":"ROUND(H490*(1+I490),0)","v":0},{"$f":"ROUND(((C490*G490)/2),0)","v":0},null,{"$f":"ROUND(K490*(1+L490),0)","v":0},{"$f":"IF((J490-M490)>0,J490-M490,0)","v":0},{"$f":"IF((M490-J490)>0,M490-J490,0)","v":0}]
[null,null,null,null,null,null,null,null,null,null,null,null,null,null,null,{"$f":"P489+N490-O490","v":-2480}]
[null,null,{"$f":"IF(B493>0,B493-B491,0)","v":0},null,{"$f":"SUM(D491:D494)","v":0},null,{"$f":"SUM(F491:F494)","v":0},{"$f":"ROUND(((E492*C492)/2),0)","v":0},null,{"$f":"ROUND(H492*(1+I492),0)","v":0},{"$f":"ROUND(((C492*G492)/2),0)","v":0},null,{"$f":"ROUND(K492*(1+L492),0)","v":0},{"$f":"IF((J492-M492)>0,J492-M492,0)","v":0},{"$f":"IF((M492-J492)>0,M492-J492,0)","v":0}]
[null,null,null,null,null,null,null,null,null,null,null,null,null,null,null,{"$f":"P491+N492-O492","v":-2480}]
[null,null,{"$f":"IF(B495>0,B495-B493,0)","v":0},null,{"$f":"SUM(D493:D496)","v":0},null,{"$f":"SUM(F493:F496)","v":0},{"$f":"ROUND(((E494*C494)/2),0)","v":0},null,{"$f":"ROUND(H494*(1+I494),0)","v":0},{"$f":"ROUND(((C494*G494)/2),0)","v":0},null,{"$f":"ROUND(K494*(1+L494),0)","v":0},{"$f":"IF((J494-M494)>0,J494-M494,0)","v":0},{"$f":"IF((M494-J494)>0,M494-J494,0)","v":0}]
[null,null,null,null,null,null,null,null,null,null,null,null,null,null,null,{"$f":"P493+N494-O494","v":-2480}]
[null,null,{"$f":"IF(B497>0,B497-B495,0)","v":0},null,{"$f":"SUM(D495:D498)","v":0},null,{"$f":"SUM(F495:F498)","v":0},{"$f":"ROUND(((E496*C496)/2),0)","v":0},null,{"$f":"ROUND(H496*(1+I496),0)","v":0},{"$f":"ROUND(((C496*G496)/2),0)","v":0},null,{"$f":"ROUND(K496*(1+L496),0)","v":0},{"$f":"IF((J496-M496)>0,J496-M496,0)","v":0},{"$f":"IF((M496-J496)>0,M496-J496,0)","v":0}]
[null,null,null,null,null,null,null,null,null,null,null,null,null,null,null,{"$f":"P495+N496-O496","v":-2480}]
[null,null,{"$f":"IF(B499>0,B499-B497,0)","v":0},null,{"$f":"SUM(D497:D500)","v":0},null,{"$f":"SUM(F497:F500)","v":0},{"$f":"ROUND(((E498*C498)/2),0)","v":0},null,{"$f":"ROUND(H498*(1+I498),0)","v":0},{"$f":"ROUND(((C498*G498)/2),0)","v":0},null,{"$f":"ROUND(K498*(1+L498),0)","v":0},{"$f":"IF((J498-M498)>0,J498-M498,0)","v":0},{"$f":"IF((M498-J498)>0,M498-J498,0)","v":0}]
[null,null,null,null,null,null,null,null,null,null,null,null,null,null,null,{"$f":"P497+N498-O498","v":-2480}]
[null,null,{"$f":"IF(B501>0,B501-B499,0)","v":0},null,{"$f":"SUM(D499:D502)","v":0},null,{"$f":"SUM(F499:F502)","v":0},{"$f":"ROUND(((E500*C500)/2),0)","v":0},null,{"$f":"ROUND(H500*(1+I500),0)","v":0},{"$f":"ROUND(((C500*G500)/2),0)","v":0},null,{"$f":"ROUND(K500*(1+L500),0)","v":0},{"$f":"IF((J500-M500)>0,J500-M500,0)","v":0},{"$f":"IF((M500-J500)>0,M500-J500,0)","v":0}]
[null,null,null,null,null,null,null,null,null,null,null,null,null,null,null,{"$f":"P499+N500-O500","v":-2480}]
[null,null,{"$f":"IF(B503>0,B503-B501,0)","v":0},null,{"$f":"SUM(D501:D504)","v":0},null,{"$f":"SUM(F501:F504)","v":0},{"$f":"ROUND(((E502*C502)/2),0)","v":0},null,{"$f":"ROUND(H502*(1+I502),0)","v":0},{"$f":"ROUND(((C502*G502)/2),0)","v":0},null,{"$f":"ROUND(K502*(1+L502),0)","v":0},{"$f":"IF((J502-M502)>0,J502-M502,0)","v":0},{"$f":"IF((M502-J502)>0,M502-J502,0)","v":0}]
[null,null,null,null,null,null,null,null,null,null,null,null,null,null,null,{"$f":"P501+N502-O502","v":-2480}]
[null,null,{"$f":"IF(B505>0,B505-B503,0)","v":0},null,{"$f":"SUM(D503:D506)","v":0},null,{"$f":"SUM(F503:F506)","v":0},{"$f":"ROUND(((E504*C504)/2),0)","v":0},null,{"$f":"ROUND(H504*(1+I504),0)","v":0},{"$f":"ROUND(((C504*G504)/2),0)","v":0},null,{"$f":"ROUND(K504*(1+L504),0)","v":0},{"$f":"IF((J504-M504)>0,J504-M504,0)","v":0},{"$f":"IF((M504-J504)>0,M504-J504,0)","v":0}]
[null,null,null,null,null,null,null,null,null,null,null,null,null,null,null,{"$f":"P503+N504-O504","v":-2480}]
[null,null,{"$f":"IF(B507>0,B507-B505,0)","v":0},null,{"$f":"SUM(D505:D508)","v":0},null,{"$f":"SUM(F505:F508)","v":0},{"$f":"ROUND(((E506*C506)/2),0)","v":0},null,{"$f":"ROUND(H506*(1+I506),0)","v":0},{"$f":"ROUND(((C506*G506)/2),0)","v":0},null,{"$f":"ROUND(K506*(1+L506),0)","v":0},{"$f":"IF((J506-M506)>0,J506-M506,0)","v":0},{"$f":"IF((M506-J506)>0,M506-J506,0)","v":0}]
[null,null,null,null,null,null,null,null,null,null,null,null,null,null,null,{"$f":"P505+N506-O506","v":-2480}]
[null,null,{"$f":"IF(B509>0,B509-B507,0)","v":0},null,{"$f":"SUM(D507:D510)","v":0},null,{"$f":"SUM(F507:F510)","v":0},{"$f":"ROUND(((E508*C508)/2),0)","v":0},null,{"$f":"ROUND(H508*(1+I508),0)","v":0},{"$f":"ROUND(((C508*G508)/2),0)","v":0},null,{"$f":"ROUND(K508*(1+L508),0)","v":0},{"$f":"IF((J508-M508)>0,J508-M508,0)","v":0},{"$f":"IF((M508-J508)>0,M508-J508,0)","v":0}]
[null,null,null,null,null,null,null,null,null,null,null,null,null,null,null,{"$f":"P507+N508-O508","v":-2480}]
[null,null,{"$f":"IF(B511>0,B511-B509,0)","v":0},null,{"$f":"SUM(D509:D512)","v":0},null,{"$f":"SUM(F509:F512)","v":0},{"$f":"ROUND(((E510*C510)/2),0)","v":0},null,{"$f":"ROUND(H510*(1+I510),0)","v":0},{"$f":"ROUND(((C510*G510)/2),0)","v":0},null,{"$f":"ROUND(K510*(1+L510),0)","v":0},{"$f":"IF((J510-M510)>0,J510-M510,0)","v":0},{"$f":"IF((M510-J510)>0,M510-J510,0)","v":0}]
[null,null,null,null,null,null,null,null,null,null,null,null,null,null,null,{"$f":"P509+N510-O510","v":-2480}]
[null,null,{"$f":"IF(B513>0,B513-B511,0)","v":0},null,{"$f":"SUM(D511:D514)","v":0},null,{"$f":"SUM(F511:F514)","v":0},{"$f":"ROUND(((E512*C512)/2),0)","v":0},null,{"$f":"ROUND(H512*(1+I512),0)","v":0},{"$f":"ROUND(((C512*G512)/2),0)","v":0},null,{"$f":"ROUND(K512*(1+L512),0)","v":0},{"$f":"IF((J512-M512)>0,J512-M512,0)","v":0},{"$f":"IF((M512-J512)>0,M512-J512,0)","v":0}]
[null,null,null,null,null,null,null,null,null,null,null,null,null,null,null,{"$f":"P511+N512-O512","v":-2480}]
[null,null,{"$f":"IF(B515>0,B515-B513,0)","v":0},null,{"$f":"SUM(D513:D516)","v":0},null,{"$f":"SUM(F513:F516)","v":0},{"$f":"ROUND(((E514*C514)/2),0)","v":0},null,{"$f":"ROUND(H514*(1+I514),0)","v":0},{"$f":"ROUND(((C514*G514)/2),0)","v":0},null,{"$f":"ROUND(K514*(1+L514),0)","v":0},{"$f":"IF((J514-M514)>0,J514-M514,0)","v":0},{"$f":"IF((M514-J514)>0,M514-J514,0)","v":0}]
[null,null,null,null,null,null,null,null,null,null,null,null,null,null,null,{"$f":"P513+N514-O514","v":-2480}]
[null,null,{"$f":"IF(B517>0,B517-B515,0)","v":0},null,{"$f":"SUM(D515:D518)","v":0},null,{"$f":"SUM(F515:F518)","v":0},{"$f":"ROUND(((E516*C516)/2),0)","v":0},null,{"$f":"ROUND(H516*(1+I516),0)","v":0},{"$f":"ROUND(((C516*G516)/2),0)","v":0},null,{"$f":"ROUND(K516*(1+L516),0)","v":0},{"$f":"IF((J516-M516)>0,J516-M516,0)","v":0},{"$f":"IF((M516-J516)>0,M516-J516,0)","v":0}]
[null,null,null,null,null,null,null,null,null,null,null,null,null,null,null,-2480]
[]
[null,null,null,null,null,null,null,null,null,null,null,null,null,null,null,{"$f":"IF(-SUM(O5:O518)+SUM(N5:N518)=P517,\"OKAY\",\"NG\")","v":"OKAY"},{"$f":"IF(P519=\"NG\", \"CHECK FORMULAS WHERE ROWS INSERTED\",IF(P519=\"OKAY\",\"\"))","v":""}]